{"text_format":"1","workbook":"xlsx","n_sheets":6,"sheets":["Planning Tool","Detailed Instructions","Locations of Centers","Calcs","Lookup","Rev History"],"not_rendered":{"charts":4,"images":2,"macros":1,"external_links":0,"defined_names":1,"comments":1,"pivot_tables":0},"unopened":[],"bounds":{"document_bytes":16777216,"sheet_cells":100000,"rows_first":2000,"rows_last":500,"rows_between":2000,"halvings":0,"cell_chars":16384,"cell_head_chars":4096},"cells_cut":0,"cells_raw":0,"read":"whole","date_system":"1900"}

{"sheet":"Planning Tool","index":0,"n_rows":55,"n_cols":17,"rows_kept":55,"cut":false,"hidden":false,"merged":[[9,1,9,3],[19,1,19,3],[29,1,29,3],[39,1,39,3],[49,1,49,3]]}
["Oneway Coring System Planning Tool"]
[]
[null,"Bowl Blank",null,null,null,null,null,null,null,"Core Diagram"]
[null,"dia =",null,"in  (measured across the face)"]
[null,"height =",null,"in "]
[]
[]
[null,"Core 1"]
[null,null,"Knife Number =","None",null,null,"Bowl Dia =",{"$f":"IF(ISNUMBER(Calcs!J103), Calcs!J103,\"        -\")","v":"        -"},"in"]
[null,"Locate center of Core:",null,null,null,null,"Bowl depth =",{"$f":"IF(ISNUMBER(Calcs!L103), Calcs!L103, \"        -\")","v":"        -"},"in"]
[null,null,"Dist from FO blank =",null,"in",null,"Edge thick =",{"$f":"IF(ISNUMBER(Calcs!P235), Calcs!P235, \"        -\")","v":"        -"},"in"]
[null,null,"Dist from CL of bed =",null,"in",null,"Center thick =",{"$f":"IF(ISNUMBER(Calcs!P247), Calcs!P247, \"        -\")","v":"        -"},"in"]
[null,null,null,null,null,null,"Max thick =",{"$f":"IF(ISNUMBER(Calcs!P249), Calcs!P249, \"        -\")","v":"        -"},"in"]
[null,null,null,null,null,null,"Min thick =",{"$f":"IF(ISNUMBER(Calcs!P250), Calcs!P250, \"        -\")","v":"        -"},"in"]
[null,null,null,null,null,null,"Thick Ratio =",{"$f":"IF(ISNUMBER(Calcs!P249/Calcs!P250), Calcs!P249/Calcs!P250, \"        -\")","v":"        -"}]
[]
[]
[null,"Core 2"]
[null,null,"Knife Number =","None",null,null,"Bowl Dia =",{"$f":"IF(ISNUMBER(Calcs!J284), Calcs!J284,\"        -\")","v":"        -"},"in"]
[null,"Locate center of Core:",null,null,null,null,"Bowl depth =",{"$f":"IF(ISNUMBER(Calcs!L284), Calcs!L284, \"        -\")","v":"        -"},"in"]
[null,null,"Dist from FO blank =",null,"in",null,"Edge thick =",{"$f":"IF(ISNUMBER(Calcs!P416), Calcs!P416, \"        -\")","v":"        -"},"in"]
[null,null,"Dist from CL of bed =",null,"in",null,"Center thick =",{"$f":"IF(ISNUMBER(Calcs!P428), Calcs!P428, \"        -\")","v":"        -"},"in"]
[null,null,null,null,null,null,"Max thick =",{"$f":"IF(ISNUMBER(Calcs!P430), Calcs!P430, \"        -\")","v":"        -"},"in"]
[null,null,null,null,null,null,"Min thick =",{"$f":"IF(ISNUMBER(Calcs!P431), Calcs!P431, \"        -\")","v":"        -"},"in"]
[null,null,null,null,null,null,"Max/Min thick =",{"$f":"IF(ISNUMBER(Calcs!P430/Calcs!P431), Calcs!P430/Calcs!P431, \"        -\")","v":"        -"}]
[]
[]
[null,"Core 3"]
[null,null,"Knife Number =","None",null,null,"Bowl Dia =",{"$f":"IF(ISNUMBER(Calcs!J465), Calcs!J465,\"        -\")","v":"        -"},"in"]
[null,"Locate center of Core:",null,null,null,null,"Bowl depth =",{"$f":"IF(ISNUMBER(Calcs!L465), Calcs!L465, \"        -\")","v":"        -"},"in"]
[null,null,"Dist from FO blank =",null,"in",null,"Edge thick =",{"$f":"IF(ISNUMBER(Calcs!P597), Calcs!P597, \"        -\")","v":"        -"},"in"]
[null,null,"Dist from CL of bed =",null,"in",null,"Center thick =",{"$f":"IF(ISNUMBER(Calcs!P609), Calcs!P609, \"        -\")","v":"        -"},"in"]
[null,null,null,null,null,null,"Max thick =",{"$f":"IF(ISNUMBER(Calcs!P611), Calcs!P611, \"        -\")","v":"        -"},"in"]
[null,null,null,null,null,null,"Min thick =",{"$f":"IF(ISNUMBER(Calcs!P612), Calcs!P612, \"        -\")","v":"        -"},"in"]
[null,null,null,null,null,null,"Max/Min thick =",{"$f":"IF(ISNUMBER(Calcs!P611/Calcs!P612), Calcs!P611/Calcs!P612, \"        -\")","v":"        -"},null,"Directions:"]
[null,null,null,null,null,null,null,null,null,"1.  ","Enter the diameter and height of your bowl blank."]
[null,null,null,null,null,null,null,null,null,"2.  ","Start laying out cores with the largest first. Select the Knife Number from the drop-down list below Core 1."]
[null,"Core 4",null,null,null,null,null,null,null,"3.  ","Enter values for Distance from the Face of Blank and Distance from the Centerline of the Bed."]
[null,null,"Knife Number =","None",null,null,"Bowl Dia =",{"$f":"IF(ISNUMBER(Calcs!J646), Calcs!J646,\"        -\")","v":"        -"},"in","4.  ","Review the resulting bowl diameter, depth, and thickness. Modify the Distance from the Face of Blank and "]
[null,"Locate center of Core:",null,null,null,null,"Bowl depth =",{"$f":"IF(ISNUMBER(Calcs!L646), Calcs!L646,\"        -\")","v":"        -"},"in",null,"Distance from the Centerline of the Bed until you are satisfied with the resulting core. Note that when"]
[null,null,"Dist from FO blank =",null,"in",null,"Edge thick =",{"$f":"IF(ISNUMBER(Calcs!P778), Calcs!P778, \"        -\")","v":"        -"},"in",null,"Dist from CL of bed is positive, the center is located closer to the lathe operator and the resulting core is larger than when the value is zero."]
[null,null,"Dist from CL of bed =",null,"in",null,"Center thick =",{"$f":"IF(ISNUMBER(Calcs!P790), Calcs!P790, \"        -\")","v":"        -"},"in",null,"When it is negative, the center is located farther from the lathe operator and the resulting core is smaller than when the value is zero."]
[null,null,null,null,null,null,"Max thick =",{"$f":"IF(ISNUMBER(Calcs!P792), Calcs!P792, \"        -\")","v":"        -"},"in",null,"The practical minimum value for Dist from FO blank is about 3/4\"."]
[null,null,null,null,null,null,"Min thick =",{"$f":"IF(ISNUMBER(Calcs!P793), Calcs!P793, \"        -\")","v":"        -"},"in","5.  ","Repeat for Cores 2 through 5 as desired."]
[null,null,null,null,null,null,"Max/Min thick =",{"$f":"IF(ISNUMBER(Calcs!P792/Calcs!P793), Calcs!P792/Calcs!P793, \"        -\")","v":"        -"},null,"6.  ","Use the Print Locations of Centers button to generate a plan of the lathe bed with the locations of core centers."]
[]
[]
[null,"Core 5",null,null,null,null,null,null,null,"To adjust the aspect ratio of the image above, try adjusting this number",null,null,null,null,null,null,6]
[null,null,"Knife Number =","None",null,null,"Bowl Dia =",{"$f":"IF(ISNUMBER(Calcs!J827), Calcs!J827,\"        -\")","v":"        -"},"in",null,"(Usually numbers between 5 and 10 provide a square grid and circular bowl)"]
[null,"Locate center of Core:",null,null,null,null,"Bowl depth =",{"$f":"IF(ISNUMBER(Calcs!L827), Calcs!L827,\"        -\")","v":"        -"},"in"]
[null,null,"Dist from FO blank =",null,"in",null,"Edge thick =",{"$f":"IF(ISNUMBER(Calcs!P959), Calcs!P959, \"        -\")","v":"        -"},"in"]
[null,null,"Dist from CL of bed =",null,"in",null,"Center thick =",{"$f":"IF(ISNUMBER(Calcs!P971), Calcs!P971, \"        -\")","v":"        -"},"in"]
[null,null,null,null,null,null,"Max thick =",{"$f":"IF(ISNUMBER(Calcs!P973), Calcs!P973, \"        -\")","v":"        -"},"in"]
[null,null,null,null,null,null,"Min thick =",{"$f":"IF(ISNUMBER(Calcs!P974), Calcs!P974, \"        -\")","v":"        -"},"in"]
[null,null,null,null,null,null,"Max/Min thick =",{"$f":"IF(ISNUMBER(Calcs!P973/Calcs!P974), Calcs!P973/Calcs!P974, \"        -\")","v":"        -"}]

{"sheet":"Detailed Instructions","index":1,"n_rows":15,"n_cols":18,"rows_kept":15,"cut":false,"hidden":false,"merged":[]}
["Oneway Coring System Planning Tool",null,null,null,null,null,null,null,null,null,null,null,"Ver.",0.96,"2021-10-12",null,"Stephen J. Clark","MN Woodturners"]
[]
[]
[null,"More detailed instructions to come…"]
[]
[null,"Enter the diameter and height of your bowl blank."]
[null,"Start laying out cores with the largest first. Select the Knife Number from the drop-down list below Core 1."]
[null,"Enter values for Distance from the Face of Blank and Distance from the Centerline of the Bed."]
[null,"Review the resulting bowl diameter, depth, and thickness. Modify the Distance from the Face of Blank and "]
[null,"Distance from the Centerline of the Bed until you are satisfied with the resulting core. Note that when"]
[null,"Dist from CL of bed is positive, the center is located closer to the lathe operator and the resulting core is larger than when the value is zero."]
[null,"When it is negative, the center is located farther from the lathe operator and the resulting core is smaller than when the value is zero."]
[null,"The practical minimum value for Dist from FO blank is about 3/4\"."]
[null,"Repeat for Cores 2 through 5 as desired."]
[null,"Use the Print Locations of Centers button to generate a plan of the lathe bed with the locations of core centers."]

{"sheet":"Locations of Centers","index":2,"n_rows":59,"n_cols":27,"rows_kept":59,"cut":false,"hidden":false,"merged":[[6,22,6,26]]}
[]
[]
[]
["Oneway Coring System Planning Tool",null,null,null,null,null,null,null,null,null,null,null,null,null,null,null,null,null,"Tick",null,"Lathe"]
[null,null,null,"Dist from Face","Dist from CL",null,null,null,null,null,null,null,null,null,null,null,null,null,0.15,null,2.5]
[null,null,null,"of Bowl Blank","of Lathe Bed"]
[null,null,null,"in","in",null,null,null,null,null,null,null,null,null,null,null,null,null,null,"X","Y",null,"Determine repeated coord for tick size"]
[null,{"$f":"Calcs!B96","v":"Core 1"},{"$f":"Calcs!D99","v":"None"},{"$f":"IF(C8=\"none\",\"-\",Calcs!D100)","v":"-"},{"$f":"IF(C8=\"none\", \"-\", Calcs!D101)","v":"-"},null,null,null,null,null,null,null,null,null,null,null,null,null,{"$f":"B8","v":"Core 1"},{"$f":"E8","v":"-"},{"$f":"D8","v":"-"}]
[null,{"$f":"Calcs!B277","v":"Core 2"},{"$f":"Calcs!D280","v":"None"},{"$f":"IF(C9=\"none\",\"-\",Calcs!D281)","v":"-"},{"$f":"IF(C9=\"none\",\"-\",Calcs!D282)","v":"-"},null,null,null,null,null,null,null,null,null,null,null,null,null,{"$f":"B9","v":"Core 2"},{"$f":"E9","v":"-"},{"$f":"D9","v":"-"},null,{"$f":"IF(AND((T9=T8),(U9=U8)), 1, 0)","v":1},null,null,null,{"$f":"SUM(W9:Z9)","v":1}]
[null,{"$f":"Calcs!B458","v":"Core 3"},{"$f":"Calcs!D461","v":"None"},{"$f":"IF(C10=\"none\",\"-\",Calcs!D462)","v":"-"},{"$f":"IF(C10=\"none\",\"-\",Calcs!D463)","v":"-"},null,null,null,null,null,null,null,null,null,null,null,null,null,"Core 3","-","-",null,{"$f":"IF(AND((T10=T9),(U10=U9)), 1, 0)","v":1},{"$f":"IF(AND((T10=T8),(U10=U8)), 1, 0)","v":1},null,null,{"$f":"SUM(W10:Z10)","v":2}]
[null,{"$f":"Calcs!B639","v":"Core 4"},{"$f":"Calcs!D642","v":"None"},{"$f":"IF(C11=\"none\",\"-\",Calcs!D643)","v":"-"},{"$f":"IF(C11=\"none\",\"-\",Calcs!D644)","v":"-"},null,null,null,null,null,null,null,null,null,null,null,null,null,"Core 4","-","-",null,1,{"$f":"IF(AND((T11=T9),(U11=U9)), 1, 0)","v":1},{"$f":"IF(AND((T11=T8),(U11=U8)), 1, 0)","v":1},null,3]
[null,{"$f":"Calcs!B820","v":"Core 5"},{"$f":"Calcs!D823","v":"None"},{"$f":"IF(C12=\"none\",\"-\",Calcs!D824)","v":"-"},{"$f":"IF(C12=\"none\",\"-\",Calcs!D825)","v":"-"},null,null,null,null,null,null,null,null,null,null,null,null,null,"Core 5","-","-",null,1,1,{"$f":"IF(AND((T12=T9),(U12=U9)), 1, 0)","v":1},{"$f":"IF(AND((T12=T8),(U12=U8)), 1, 0)","v":1},4]
[]
[]
[]
[null,null,null,null,null,null,null,null,null,null,null,null,null,null,null,"Lathe Bed",null,null,null,{"$f":"-U5/2","v":-1.25},0]
[null,null,null,null,null,null,null,null,null,null,null,null,null,null,null,null,null,null,null,{"$f":"T16","v":-1.25},4]
[]
[null,null,null,null,null,null,null,null,null,null,null,null,null,null,null,null,null,null,null,{"$f":"U5/2","v":1.25},{"$f":"U16","v":0}]
[null,null,null,null,null,null,null,null,null,null,null,null,null,null,null,null,null,null,null,{"$f":"T19","v":1.25},{"$f":"U17","v":4}]
[]
[null,null,null,null,null,null,null,null,null,null,null,null,null,null,null,"Face of Bowl",null,null,null,3,0]
[null,null,null,null,null,null,null,null,null,null,null,null,null,null,null,null,null,null,null,{"$f":"-T22","v":-3},{"$f":"U22","v":0}]
[]
[]
[null,null,null,null,null,null,null,null,null,null,null,null,null,null,null,null,null,null,null,"Centerline Tick"]
[null,null,null,null,null,null,null,null,null,null,null,null,null,null,null,{"$f":"B8","v":"Core 1"},{"$f":"T8","v":"-"},{"$f":"U8","v":"-"},null,{"$f":"Q27","v":"-"},{"$f":"R27-$S$5","v":{"$error":"#VALUE!"}}]
[null,null,null,null,null,null,null,null,null,null,null,null,null,null,null,null,null,null,null,{"$f":"T27","v":"-"},{"$f":"R27+$S$5","v":{"$error":"#VALUE!"}}]
[]
[null,null,null,null,null,null,null,null,null,null,null,null,null,null,null,null,null,null,null,{"$f":"Q27-$S$5","v":{"$error":"#VALUE!"}},{"$f":"R27","v":"-"}]
[null,null,null,null,null,null,null,null,null,null,null,null,null,null,null,null,null,null,null,{"$f":"Q27+$S$5","v":{"$error":"#VALUE!"}},{"$f":"U30","v":"-"}]
[]
[]
[null,null,null,null,null,null,null,null,null,null,null,null,null,null,null,{"$f":"B9","v":"Core 2"},{"$f":"T9","v":"-"},{"$f":"U9","v":"-"},null,{"$f":"Q34","v":"-"},{"$f":"R34-($S$5*0.7^(AA9))","v":{"$error":"#VALUE!"}}]
[null,null,null,null,null,null,null,null,null,null,null,null,null,null,null,null,null,null,null,{"$f":"T34","v":"-"},{"$f":"R34+($S$5*0.7^(AA9))","v":{"$error":"#VALUE!"}}]
[]
[null,null,null,null,null,null,null,null,null,null,null,null,null,null,null,null,null,null,null,{"$f":"Q34-($S$5*0.7^(AA9))","v":{"$error":"#VALUE!"}},{"$f":"R34","v":"-"}]
[null,null,null,null,null,null,null,null,null,null,null,null,null,null,null,null,null,null,null,{"$f":"Q34+($S$5*0.7^(AA9))","v":{"$error":"#VALUE!"}},{"$f":"U37","v":"-"}]
[]
[]
[null,null,null,null,null,null,null,null,null,null,null,null,null,null,null,{"$f":"B10","v":"Core 3"},{"$f":"T10","v":"-"},{"$f":"U10","v":"-"},null,{"$f":"Q41","v":"-"},{"$f":"R41-($S$5*0.7^(AA10))","v":{"$error":"#VALUE!"}}]
[null,null,null,null,null,null,null,null,null,null,null,null,null,null,null,null,null,null,null,{"$f":"T41","v":"-"},{"$f":"R41+($S$5*0.7^(AA10))","v":{"$error":"#VALUE!"}}]
[]
[null,null,null,null,null,null,null,null,null,null,null,null,null,null,null,null,null,null,null,{"$f":"Q41-($S$5*0.7^(AA10))","v":{"$error":"#VALUE!"}},{"$f":"R41","v":"-"}]
[null,null,null,null,null,null,null,null,null,null,null,null,null,null,null,null,null,null,null,{"$f":"Q41+($S$5*0.7^(AA10))","v":{"$error":"#VALUE!"}},{"$f":"U44","v":"-"}]
[]
[]
[null,null,null,null,null,null,null,null,null,null,null,null,null,null,null,{"$f":"B11","v":"Core 4"},{"$f":"T11","v":"-"},{"$f":"U11","v":"-"},null,{"$f":"Q48","v":"-"},{"$f":"R48-($S$5*0.7^(AA11))","v":{"$error":"#VALUE!"}}]
[null,null,null,null,null,null,null,null,null,null,null,null,null,null,null,null,null,null,null,{"$f":"T48","v":"-"},{"$f":"R48+($S$5*0.7^(AA11))","v":{"$error":"#VALUE!"}}]
[]
[null,null,null,null,null,null,null,null,null,null,null,null,null,null,null,null,null,null,null,{"$f":"Q48-($S$5*0.7^(AA11))","v":{"$error":"#VALUE!"}},{"$f":"R48","v":"-"}]
[null,null,null,null,null,null,null,null,null,null,null,null,null,null,null,null,null,null,null,{"$f":"Q48+($S$5*0.7^(AA11))","v":{"$error":"#VALUE!"}},{"$f":"U51","v":"-"}]
[]
[]
[null,null,null,null,null,null,null,null,null,null,null,null,null,null,null,{"$f":"B12","v":"Core 5"},{"$f":"T12","v":"-"},{"$f":"U12","v":"-"},null,{"$f":"Q55","v":"-"},{"$f":"R55-($S$5*0.7^(AA12))","v":{"$error":"#VALUE!"}}]
[null,null,null,null,null,null,null,null,null,null,null,null,null,null,null,null,null,null,null,{"$f":"T55","v":"-"},{"$f":"R55+($S$5*0.7^(AA12))","v":{"$error":"#VALUE!"}}]
[]
[null,null,null,null,null,null,null,null,null,null,null,null,null,null,null,null,null,null,null,{"$f":"Q55-($S$5*0.7^(AA12))","v":{"$error":"#VALUE!"}},{"$f":"R55","v":"-"}]
[null,null,null,null,null,null,null,null,null,null,null,null,null,null,null,null,null,null,null,{"$f":"Q55+($S$5*0.7^(AA12))","v":{"$error":"#VALUE!"}},{"$f":"U58","v":"-"}]

{"sheet":"Calcs","index":3,"n_rows":997,"n_cols":24,"rows_kept":997,"cut":false,"hidden":false,"merged":[[920,1,920,3],[654,1,654,3],[698,1,698,3],[739,1,739,3],[835,1,835,3],[879,1,879,3],[111,1,111,3],[31,1,31,3],[61,1,61,3],[155,1,155,3],[196,1,196,3],[473,1,473,3],[517,1,517,3],[558,1,558,3],[292,1,292,3],[336,1,336,3],[377,1,377,3]]}
[]
[null,"From Input Page",null,null,"Bowl d =",{"$f":"'Planning Tool'!C4","v":0},"in"]
[null,null,null,null,"Bowl ht =",{"$f":"'Planning Tool'!C5","v":0},"in"]
[]
[null,null,null,null,"Bowl d =",{"$f":"'Planning Tool'!C4","v":0},"in"]
[null,null,null,null,"Bowl ht' =",{"$f":"MIN(F3,F2/2)","v":0},"in"]
[]
[null,"CL of BB is at (0,0)"]
[]
[null,"c = Distance from CL of bed to CL of core",null,null,null,null,"If value is positive, CL of core moves toward operator and the resulting bowl is larger than the diameter of the knife."]
[null,null,null,null,null,null,"If value is negative, CL of core moves away operator and the resulting bowl is smaller than the diameter of the knife."]
[null,null,null,null,null,null,"For each core, set b equal to k in the circle equation"]
[]
[null,"f = Distance from face of BB to CL of core",null,null,null,null,"k = a - f"]
[]
[]
[null,"Bowl Blank"]
[]
[null,"Center at","x =",0,null,"y =",0]
[]
[null,null,"r =",{"$f":"F6/2 + F5^2/(8*F6)","v":{"$error":"#DIV/0!"}},"in"]
[null,null,"Angle",{"$f":"IF(D23=0,PI(),2*ATAN(F5/(2*D23)))/2","v":{"$error":"#DIV/0!"}},"rad =",{"$f":"180/PI()*D22","v":{"$error":"#DIV/0!"}},"deg"]
[null,null,"offset a =",{"$f":"D21-F6","v":{"$error":"#DIV/0!"}},"in"]
[]
[null,null,"(x-h)^2  +  (y-k)^2  =  r^2",null,null,"y = k   +/-  sqrt[ r^2  -  (x-h)^2  ] "]
[]
[null,null,"h =",0]
[null,null,"k =",0]
[null,null,"r =",{"$f":"D21","v":{"$error":"#DIV/0!"}}]
[]
[null,"Bowl Blank Coordinates in Sector 1",null,null,null,null,null,null,null,null,null,null,null,null,null,null,null,null,null,"Graph of Bowl Blank",null,null,"Bowl Blank Sector Line"]
[null,"Angle Increment"]
[null,{"$f":"MAX(B35:B46)","v":12},"rad","deg","X","Y",null,null,null,null,null,null,null,null,null,null,null,null,null,"X","Y",null,"X","Y"]
[null,0,{"$f":"(PI()/2-$D$22) + $D$22*B34/$B$33","v":{"$error":"#DIV/0!"}},{"$f":"180/PI()*C34","v":{"$error":"#DIV/0!"}},{"$f":"COS(C34) * $D$29  +$D$27","v":{"$error":"#DIV/0!"}},{"$f":"D28 + SQRT(D29^2-(E34-D27)^2)","v":{"$error":"#DIV/0!"}},null,null,null,null,null,null,null,null,null,null,null,null,null,{"$f":"E34","v":{"$error":"#DIV/0!"}},{"$f":"F34","v":{"$error":"#DIV/0!"}},null,{"$f":"T34","v":{"$error":"#DIV/0!"}},{"$f":"U34","v":{"$error":"#DIV/0!"}}]
[null,1,{"$f":"(PI()/2-$D$22) + $D$22*B35/$B$33","v":{"$error":"#DIV/0!"}},{"$f":"180/PI()*C35","v":{"$error":"#DIV/0!"}},{"$f":"COS(C35) * $D$29  +$D$27","v":{"$error":"#DIV/0!"}},{"$f":"D28 + SQRT(D29^2-(E35-D27)^2)","v":{"$error":"#DIV/0!"}},null,null,null,null,null,null,null,null,null,null,null,null,null,{"$error":"#DIV/0!"},{"$error":"#DIV/0!"},null,{"$f":"T58","v":{"$error":"#DIV/0!"}},{"$f":"U58","v":{"$error":"#DIV/0!"}}]
[null,2,{"$error":"#DIV/0!"},{"$error":"#DIV/0!"},{"$error":"#DIV/0!"},{"$f":"D28 + SQRT(D29^2-(E36-D27)^2)","v":{"$error":"#DIV/0!"}},null,null,null,null,null,null,null,null,null,null,null,null,null,{"$error":"#DIV/0!"},{"$error":"#DIV/0!"}]
[null,3,{"$error":"#DIV/0!"},{"$error":"#DIV/0!"},{"$error":"#DIV/0!"},{"$f":"D28 + SQRT(D29^2-(E37-D27)^2)","v":{"$error":"#DIV/0!"}},null,null,null,null,null,null,null,null,null,null,null,null,null,{"$error":"#DIV/0!"},{"$error":"#DIV/0!"},null,{"$f":"T44","v":{"$error":"#DIV/0!"}},{"$f":"U44","v":{"$error":"#DIV/0!"}}]
[null,4,{"$error":"#DIV/0!"},{"$error":"#DIV/0!"},{"$error":"#DIV/0!"},{"$f":"D28 + SQRT(D29^2-(E38-D27)^2)","v":{"$error":"#DIV/0!"}},null,null,null,null,null,null,null,null,null,null,null,null,null,{"$error":"#DIV/0!"},{"$error":"#DIV/0!"},null,{"$f":"W37","v":{"$error":"#DIV/0!"}},{"$f":"X37+0.3","v":{"$error":"#DIV/0!"}}]
[null,5,{"$error":"#DIV/0!"},{"$error":"#DIV/0!"},{"$error":"#DIV/0!"},{"$f":"D28 + SQRT(D29^2-(E39-D27)^2)","v":{"$error":"#DIV/0!"}},null,null,null,null,null,null,null,null,null,null,null,null,null,{"$error":"#DIV/0!"},{"$error":"#DIV/0!"},null,{"$f":"T48","v":{"$error":"#DIV/0!"}},{"$f":"X38","v":{"$error":"#DIV/0!"}}]
[null,6,{"$error":"#DIV/0!"},{"$error":"#DIV/0!"},{"$error":"#DIV/0!"},{"$f":"D28 + SQRT(D29^2-(E40-D27)^2)","v":{"$error":"#DIV/0!"}},null,null,null,null,null,null,null,null,null,null,null,null,null,{"$error":"#DIV/0!"},{"$error":"#DIV/0!"},null,{"$f":"W39","v":{"$error":"#DIV/0!"}},{"$f":"U48","v":{"$error":"#DIV/0!"}}]
[null,7,{"$error":"#DIV/0!"},{"$error":"#DIV/0!"},{"$error":"#DIV/0!"},{"$f":"D28 + SQRT(D29^2-(E41-D27)^2)","v":{"$error":"#DIV/0!"}},null,null,null,null,null,null,null,null,null,null,null,null,null,{"$error":"#DIV/0!"},{"$error":"#DIV/0!"}]
[null,8,{"$error":"#DIV/0!"},{"$error":"#DIV/0!"},{"$error":"#DIV/0!"},{"$f":"D28 + SQRT(D29^2-(E42-D27)^2)","v":{"$error":"#DIV/0!"}},null,null,null,null,null,null,null,null,null,null,null,null,null,{"$error":"#DIV/0!"},{"$error":"#DIV/0!"}]
[null,9,{"$error":"#DIV/0!"},{"$error":"#DIV/0!"},{"$error":"#DIV/0!"},{"$f":"D28 + SQRT(D29^2-(E43-D27)^2)","v":{"$error":"#DIV/0!"}},null,null,null,null,null,null,null,null,null,null,null,null,null,{"$error":"#DIV/0!"},{"$error":"#DIV/0!"}]
[null,10,{"$error":"#DIV/0!"},{"$error":"#DIV/0!"},{"$error":"#DIV/0!"},{"$f":"D28 + SQRT(D29^2-(E44-D27)^2)","v":{"$error":"#DIV/0!"}},null,null,null,null,null,null,null,null,null,null,null,null,null,{"$error":"#DIV/0!"},{"$error":"#DIV/0!"},null,"Bowl Blank Center Line"]
[null,11,{"$error":"#DIV/0!"},{"$error":"#DIV/0!"},{"$error":"#DIV/0!"},{"$f":"D28 + SQRT(D29^2-(E45-D27)^2)","v":{"$error":"#DIV/0!"}},null,null,null,null,null,null,null,null,null,null,null,null,null,{"$error":"#DIV/0!"},{"$error":"#DIV/0!"},null,"X","Y"]
[null,12,{"$error":"#DIV/0!"},{"$error":"#DIV/0!"},{"$error":"#DIV/0!"},{"$f":"D28 + SQRT(D29^2-(E46-D27)^2)","v":{"$error":"#DIV/0!"}},null,null,null,null,null,null,null,null,null,null,null,null,null,{"$error":"#DIV/0!"},{"$error":"#DIV/0!"},null,0,-0.5]
[null,null,null,null,null,null,null,null,null,null,null,null,null,null,null,null,null,null,null,{"$f":"-T45","v":{"$error":"#DIV/0!"}},{"$f":"U45","v":{"$error":"#DIV/0!"}},null,0,{"$f":"D29+0.5","v":{"$error":"#DIV/0!"}}]
[null,null,null,null,null,null,null,null,null,null,null,null,null,null,null,null,null,null,null,{"$f":"-T44","v":{"$error":"#DIV/0!"}},{"$f":"U44","v":{"$error":"#DIV/0!"}}]
[null,null,null,null,null,null,null,null,null,null,null,null,null,null,null,null,null,null,null,{"$f":"-T43","v":{"$error":"#DIV/0!"}},{"$f":"U43","v":{"$error":"#DIV/0!"}}]
[null,null,null,null,null,null,null,null,null,null,null,null,null,null,null,null,null,null,null,{"$f":"-T42","v":{"$error":"#DIV/0!"}},{"$f":"U42","v":{"$error":"#DIV/0!"}}]
[null,null,null,null,null,null,null,null,null,null,null,null,null,null,null,null,null,null,null,{"$f":"-T41","v":{"$error":"#DIV/0!"}},{"$f":"U41","v":{"$error":"#DIV/0!"}}]
[null,null,null,null,null,null,null,null,null,null,null,null,null,null,null,null,null,null,null,{"$f":"-T40","v":{"$error":"#DIV/0!"}},{"$f":"U40","v":{"$error":"#DIV/0!"}}]
[null,null,null,null,null,null,null,null,null,null,null,null,null,null,null,null,null,null,null,{"$f":"-T39","v":{"$error":"#DIV/0!"}},{"$f":"U39","v":{"$error":"#DIV/0!"}}]
[null,null,null,null,null,null,null,null,null,null,null,null,null,null,null,null,null,null,null,{"$f":"-T38","v":{"$error":"#DIV/0!"}},{"$f":"U38","v":{"$error":"#DIV/0!"}}]
[null,null,null,null,null,null,null,null,null,null,null,null,null,null,null,null,null,null,null,{"$f":"-T37","v":{"$error":"#DIV/0!"}},{"$f":"U37","v":{"$error":"#DIV/0!"}}]
[null,null,null,null,null,null,null,null,null,null,null,null,null,null,null,null,null,null,null,{"$f":"-T36","v":{"$error":"#DIV/0!"}},{"$f":"U36","v":{"$error":"#DIV/0!"}}]
[null,null,null,null,null,null,null,null,null,null,null,null,null,null,null,null,null,null,null,{"$f":"-T35","v":{"$error":"#DIV/0!"}},{"$f":"U35","v":{"$error":"#DIV/0!"}}]
[null,null,"Graph data --->",null,null,null,null,null,null,null,null,null,null,null,null,null,null,null,null,{"$f":"-T34","v":{"$error":"#DIV/0!"}},{"$f":"U34","v":{"$error":"#DIV/0!"}}]
[]
[]
[null,"Bowl Blank Extension Coordinates in Sector 1",null,null,null,null,null,null,null,null,null,null,null,null,null,null,null,null,null,"Graph of Bowl Blank Extension"]
[null,"Angle Increment",null,null,null,null,null,null,null,null,null,null,null,null,null,null,null,null,null,"and diameter"]
[null,{"$f":"MAX(B65:B76)","v":12},"rad","deg","X","Y",null,null,null,null,null,null,null,null,null,null,null,null,null,"X","Y"]
[null,0,{"$f":"(0+(PI()/2-$D$22)*B64/$B$63)","v":{"$error":"#DIV/0!"}},{"$f":"180/PI()*C64","v":{"$error":"#DIV/0!"}},{"$f":"COS(C64) * $D$29  +$D$27","v":{"$error":"#DIV/0!"}},{"$f":"$D$28 + SQRT($D$29^2-(E64-$D$27)^2)","v":{"$error":"#DIV/0!"}},null,null,null,null,null,null,null,null,null,null,null,null,null,{"$f":"E64","v":{"$error":"#DIV/0!"}},{"$f":"F64","v":{"$error":"#DIV/0!"}}]
[null,1,{"$error":"#DIV/0!"},{"$f":"180/PI()*C65","v":{"$error":"#DIV/0!"}},{"$f":"COS(C65) * $D$29  +$D$27","v":{"$error":"#DIV/0!"}},{"$f":"$D$28 + SQRT($D$29^2-(E65-$D$27)^2)","v":{"$error":"#DIV/0!"}},null,null,null,null,null,null,null,null,null,null,null,null,null,{"$error":"#DIV/0!"},{"$error":"#DIV/0!"},null,"Line to keep the aspect ratio of the graph approx square"]
[null,2,{"$error":"#DIV/0!"},{"$error":"#DIV/0!"},{"$error":"#DIV/0!"},{"$error":"#DIV/0!"},null,null,null,null,null,null,null,null,null,null,null,null,null,{"$error":"#DIV/0!"},{"$error":"#DIV/0!"}]
[null,3,{"$error":"#DIV/0!"},{"$error":"#DIV/0!"},{"$error":"#DIV/0!"},{"$error":"#DIV/0!"},null,null,null,null,null,null,null,null,null,null,null,null,null,{"$error":"#DIV/0!"},{"$error":"#DIV/0!"},null,{"$f":"IF('Planning Tool'!Q48<20,'Planning Tool'!Q48, 20)","v":6},0]
[null,4,{"$error":"#DIV/0!"},{"$error":"#DIV/0!"},{"$error":"#DIV/0!"},{"$error":"#DIV/0!"},null,null,null,null,null,null,null,null,null,null,null,null,null,{"$error":"#DIV/0!"},{"$error":"#DIV/0!"},null,{"$f":"-W67","v":-6},{"$f":"X67","v":0}]
[null,5,{"$error":"#DIV/0!"},{"$error":"#DIV/0!"},{"$error":"#DIV/0!"},{"$error":"#DIV/0!"},null,null,null,null,null,null,null,null,null,null,null,null,null,{"$error":"#DIV/0!"},{"$error":"#DIV/0!"}]
[null,6,{"$error":"#DIV/0!"},{"$error":"#DIV/0!"},{"$error":"#DIV/0!"},{"$error":"#DIV/0!"},null,null,null,null,null,null,null,null,null,null,null,null,null,{"$error":"#DIV/0!"},{"$error":"#DIV/0!"}]
[null,7,{"$error":"#DIV/0!"},{"$error":"#DIV/0!"},{"$error":"#DIV/0!"},{"$error":"#DIV/0!"},null,null,null,null,null,null,null,null,null,null,null,null,null,{"$error":"#DIV/0!"},{"$error":"#DIV/0!"}]
[null,8,{"$error":"#DIV/0!"},{"$error":"#DIV/0!"},{"$error":"#DIV/0!"},{"$error":"#DIV/0!"},null,null,null,null,null,null,null,null,null,null,null,null,null,{"$error":"#DIV/0!"},{"$error":"#DIV/0!"}]
[null,9,{"$f":"(0+(PI()/2-$D$22)*B73/$B$63)","v":{"$error":"#DIV/0!"}},{"$error":"#DIV/0!"},{"$error":"#DIV/0!"},{"$error":"#DIV/0!"},null,null,null,null,null,null,null,null,null,null,null,null,null,{"$error":"#DIV/0!"},{"$error":"#DIV/0!"}]
[null,10,{"$error":"#DIV/0!"},{"$error":"#DIV/0!"},{"$error":"#DIV/0!"},{"$error":"#DIV/0!"},null,null,null,null,null,null,null,null,null,null,null,null,null,{"$error":"#DIV/0!"},{"$error":"#DIV/0!"}]
[null,11,{"$error":"#DIV/0!"},{"$error":"#DIV/0!"},{"$error":"#DIV/0!"},{"$error":"#DIV/0!"},null,null,null,null,null,null,null,null,null,null,null,null,null,{"$error":"#DIV/0!"},{"$error":"#DIV/0!"}]
[null,12,{"$error":"#DIV/0!"},{"$error":"#DIV/0!"},{"$error":"#DIV/0!"},{"$error":"#DIV/0!"},null,null,null,null,null,null,null,null,null,null,null,null,null,{"$error":"#DIV/0!"},{"$error":"#DIV/0!"}]
[]
[null,null,null,null,null,null,null,null,null,null,null,null,null,null,null,null,null,null,null,{"$f":"-T76","v":{"$error":"#DIV/0!"}},{"$f":"U76","v":{"$error":"#DIV/0!"}}]
[null,null,null,null,null,null,null,null,null,null,null,null,null,null,null,null,null,null,null,{"$f":"-T75","v":{"$error":"#DIV/0!"}},{"$f":"U75","v":{"$error":"#DIV/0!"}}]
[null,null,null,null,null,null,null,null,null,null,null,null,null,null,null,null,null,null,null,{"$f":"-T74","v":{"$error":"#DIV/0!"}},{"$f":"U74","v":{"$error":"#DIV/0!"}}]
[null,null,null,null,null,null,null,null,null,null,null,null,null,null,null,null,null,null,null,{"$f":"-T73","v":{"$error":"#DIV/0!"}},{"$f":"U73","v":{"$error":"#DIV/0!"}}]
[null,null,null,null,null,null,null,null,null,null,null,null,null,null,null,null,null,null,null,{"$f":"-T72","v":{"$error":"#DIV/0!"}},{"$f":"U72","v":{"$error":"#DIV/0!"}}]
[null,null,null,null,null,null,null,null,null,null,null,null,null,null,null,null,null,null,null,{"$f":"-T71","v":{"$error":"#DIV/0!"}},{"$f":"U71","v":{"$error":"#DIV/0!"}}]
[null,null,null,null,null,null,null,null,null,null,null,null,null,null,null,null,null,null,null,{"$f":"-T70","v":{"$error":"#DIV/0!"}},{"$f":"U70","v":{"$error":"#DIV/0!"}}]
[null,null,null,null,null,null,null,null,null,null,null,null,null,null,null,null,null,null,null,{"$f":"-T69","v":{"$error":"#DIV/0!"}},{"$f":"U69","v":{"$error":"#DIV/0!"}}]
[null,null,null,null,null,null,null,null,null,null,null,null,null,null,null,null,null,null,null,{"$f":"-T68","v":{"$error":"#DIV/0!"}},{"$f":"U68","v":{"$error":"#DIV/0!"}}]
[null,null,null,null,null,null,null,null,null,null,null,null,null,null,null,null,null,null,null,{"$f":"-T67","v":{"$error":"#DIV/0!"}},{"$f":"U67","v":{"$error":"#DIV/0!"}}]
[null,null,null,null,null,null,null,null,null,null,null,null,null,null,null,null,null,null,null,{"$f":"-T66","v":{"$error":"#DIV/0!"}},{"$f":"U66","v":{"$error":"#DIV/0!"}}]
[null,null,null,null,null,null,null,null,null,null,null,null,null,null,null,null,null,null,null,{"$f":"-T65","v":{"$error":"#DIV/0!"}},{"$f":"U65","v":{"$error":"#DIV/0!"}}]
[null,null,null,null,null,null,null,null,null,null,null,null,null,null,null,null,null,null,null,{"$f":"-T64","v":{"$error":"#DIV/0!"}},{"$f":"U64","v":{"$error":"#DIV/0!"}}]
[]
[null,null,null,null,null,null,null,null,null,null,null,null,null,null,null,null,null,null,null,{"$f":"T64","v":{"$error":"#DIV/0!"}},{"$f":"U64","v":{"$error":"#DIV/0!"}}]
[null,null,"Graph data --->",null,null,null,null,null,null,null,null,null,null,null,null,null,null,null,null,{"$f":"T90","v":{"$error":"#DIV/0!"}},{"$f":"U90","v":{"$error":"#DIV/0!"}}]
[]
[]
[null,"Core 1"]
[]
[null,"Core 1 Centerline"]
[null,"Knife number",null,{"$f":"'Planning Tool'!D9","v":"None"}]
[null,null,{"$f":"'Planning Tool'!C11","v":"Dist from FO blank ="},{"$f":"'Planning Tool'!D11","v":0},{"$f":"E147","v":"in   ="},{"$f":"F147","v":"f"}]
[null,null,{"$f":"'Planning Tool'!C12","v":"Dist from CL of bed ="},{"$f":"'Planning Tool'!D12","v":0},{"$f":"E148","v":"in   ="},{"$f":"F148","v":"b"}]
[]
[null,"Center at","x =",{"$f":"D101","v":0},null,"y =",{"$f":"$D$23-D100","v":{"$error":"#DIV/0!"}},null,"Bowl Dia =",{"$f":"2*E158","v":{"$error":"#DIV/0!"}},"Depth =",{"$f":"F170-F158","v":{"$error":"#DIV/0!"}}]
[]
[null,null,"(x-h)^2  +  (y-k)^2  =  r^2",null,null,"y = k   +/-  sqrt[ r^2  -  (x-h)^2  ] "]
[]
[null,null,"h =",{"$f":"D101","v":0},null,null,"a =",{"$f":"ASIN(D100/D109)","v":{"$error":"#DIV/0!"}},"rad =",{"$f":"180/PI()*H107","v":{"$error":"#DIV/0!"}},"deg"]
[null,null,"k =",{"$f":"$D$23-D100","v":{"$error":"#DIV/0!"}},null,null,"b =",{"$f":"IF(D101<0, -ASIN(D101/D109), 0)","v":0},"rad =",{"$f":"180/PI()*H108","v":0},"deg"]
[null,null,"r =",{"$f":"VLOOKUP(D99,Lookup!$B$8:$E$12,4)","v":0},null,null,"q =",{"$f":"PI()/2-H107-H108","v":{"$error":"#DIV/0!"}},"rad =",{"$f":"180/PI()*H109","v":{"$error":"#DIV/0!"}},"deg"]
[]
[null,"Core 1 Centerline Extension Coordinates in Sector 1",null,null,null,null,null,null,null,null,null,null,null,null,null,null,null,null,null,"Core 1 Centerline Extension",null,null,"Core 1 Centerline Tick"]
[null,"Angle Increment",null,null,null,null,null,null,null,null,null,null,null,null,null,null,null,null,null,"and diameter"]
[null,{"$f":"MAX(B115:B126)","v":12},"rad","deg","X","Y",null,null,null,null,null,null,null,null,null,null,null,null,null,"X","Y",null,"X","Y"]
[null,0,{"$f":"(0+H107*B114/B113)","v":{"$error":"#DIV/0!"}},{"$f":"180/PI()*C114","v":{"$error":"#DIV/0!"}},{"$f":"COS(C114) * D109  +D107","v":{"$error":"#DIV/0!"}},{"$f":"IF(ABS(D109^2-(E114-D107)^2)<0.00001,D108+0,D108+SQRT(D109^2-(E114-D107)^2))","v":{"$error":"#DIV/0!"}},null,null,null,null,null,null,null,null,null,null,null,null,null,{"$f":"E114","v":{"$error":"#DIV/0!"}},{"$f":"F114","v":{"$error":"#DIV/0!"}},null,{"$f":"IF(D99=\"None\",0,-D103)","v":0},{"$f":"IF(D99=\"None\",0,G103+0.5)","v":0}]
[null,1,{"$f":"(0+H107*B115/B113)","v":{"$error":"#DIV/0!"}},{"$f":"180/PI()*C115","v":{"$error":"#DIV/0!"}},{"$f":"COS(C115) * D109  +D107","v":{"$error":"#DIV/0!"}},{"$f":"IF(ABS(D109^2-(E115-D107)^2)<0.00001,D108+0,D108+SQRT(D109^2-(E115-D107)^2))","v":{"$error":"#DIV/0!"}},null,null,null,null,null,null,null,null,null,null,null,null,null,{"$error":"#DIV/0!"},{"$error":"#DIV/0!"},null,{"$f":"IF(D99=\"None\",0,-D103)","v":0},{"$f":"IF(D99=\"None\",0,G103-0.5)","v":0}]
[null,2,{"$f":"(0+H107*B116/B113)","v":{"$error":"#DIV/0!"}},{"$error":"#DIV/0!"},{"$f":"COS(C116) * D109  +D107","v":{"$error":"#DIV/0!"}},{"$f":"IF(ABS(D109^2-(E116-D107)^2)<0.00001,D108+0,D108+SQRT(D109^2-(E116-D107)^2))","v":{"$error":"#DIV/0!"}},null,null,null,null,null,null,null,null,null,null,null,null,null,{"$error":"#DIV/0!"},{"$error":"#DIV/0!"}]
[null,3,{"$f":"(0+H107*B117/B113)","v":{"$error":"#DIV/0!"}},{"$error":"#DIV/0!"},{"$f":"COS(C117) * D109  +D107","v":{"$error":"#DIV/0!"}},{"$f":"IF(ABS(D109^2-(E117-D107)^2)<0.00001,D108+0,D108+SQRT(D109^2-(E117-D107)^2))","v":{"$error":"#DIV/0!"}},null,null,null,null,null,null,null,null,null,null,null,null,null,{"$error":"#DIV/0!"},{"$error":"#DIV/0!"},null,{"$f":"IF(D99=\"None\",0,-D103+0.5)","v":0},{"$f":"IF(D99=\"None\",0,G103)","v":0}]
[null,4,{"$f":"(0+H107*B118/B113)","v":{"$error":"#DIV/0!"}},{"$error":"#DIV/0!"},{"$f":"COS(C118) * D109  +D107","v":{"$error":"#DIV/0!"}},{"$f":"IF(ABS(D109^2-(E118-D107)^2)<0.00001,D108+0,D108+SQRT(D109^2-(E118-D107)^2))","v":{"$error":"#DIV/0!"}},null,null,null,null,null,null,null,null,null,null,null,null,null,{"$error":"#DIV/0!"},{"$error":"#DIV/0!"},null,{"$f":"IF(D99=\"None\",0,-D103-0.5)","v":0},{"$f":"IF(D99=\"None\",0,G103)","v":0}]
[null,5,{"$f":"(0+H107*B119/B113)","v":{"$error":"#DIV/0!"}},{"$error":"#DIV/0!"},{"$f":"COS(C119) * D109  +D107","v":{"$error":"#DIV/0!"}},{"$f":"IF(ABS(D109^2-(E119-D107)^2)<0.00001,D108+0,D108+SQRT(D109^2-(E119-D107)^2))","v":{"$error":"#DIV/0!"}},null,null,null,null,null,null,null,null,null,null,null,null,null,{"$error":"#DIV/0!"},{"$error":"#DIV/0!"}]
[null,6,{"$f":"(0+H107*B120/B113)","v":{"$error":"#DIV/0!"}},{"$error":"#DIV/0!"},{"$f":"COS(C120) * D109  +D107","v":{"$error":"#DIV/0!"}},{"$f":"IF(ABS(D109^2-(E120-D107)^2)<0.00001,D108+0,D108+SQRT(D109^2-(E120-D107)^2))","v":{"$error":"#DIV/0!"}},null,null,null,null,null,null,null,null,null,null,null,null,null,{"$error":"#DIV/0!"},{"$error":"#DIV/0!"}]
[null,7,{"$f":"(0+H107*B121/B113)","v":{"$error":"#DIV/0!"}},{"$error":"#DIV/0!"},{"$f":"COS(C121) * D109  +D107","v":{"$error":"#DIV/0!"}},{"$f":"IF(ABS(D109^2-(E121-D107)^2)<0.00001,D108+0,D108+SQRT(D109^2-(E121-D107)^2))","v":{"$error":"#DIV/0!"}},null,null,null,null,null,null,null,null,null,null,null,null,null,{"$error":"#DIV/0!"},{"$error":"#DIV/0!"}]
[null,8,{"$f":"(0+H107*B122/B113)","v":{"$error":"#DIV/0!"}},{"$error":"#DIV/0!"},{"$f":"COS(C122) * D109  +D107","v":{"$error":"#DIV/0!"}},{"$f":"IF(ABS(D109^2-(E122-D107)^2)<0.00001,D108+0,D108+SQRT(D109^2-(E122-D107)^2))","v":{"$error":"#DIV/0!"}},null,null,null,null,null,null,null,null,null,null,null,null,null,{"$error":"#DIV/0!"},{"$error":"#DIV/0!"}]
[null,9,{"$f":"(0+H107*B123/B113)","v":{"$error":"#DIV/0!"}},{"$error":"#DIV/0!"},{"$f":"COS(C123) * D109  +D107","v":{"$error":"#DIV/0!"}},{"$f":"IF(ABS(D109^2-(E123-D107)^2)<0.00001,D108+0,D108+SQRT(D109^2-(E123-D107)^2))","v":{"$error":"#DIV/0!"}},null,null,null,null,null,null,null,null,null,null,null,null,null,{"$error":"#DIV/0!"},{"$error":"#DIV/0!"}]
[null,10,{"$f":"(0+H107*B124/B113)","v":{"$error":"#DIV/0!"}},{"$error":"#DIV/0!"},{"$f":"COS(C124) * D109  +D107","v":{"$error":"#DIV/0!"}},{"$f":"IF(ABS(D109^2-(E124-D107)^2)<0.00001,D108+0,D108+SQRT(D109^2-(E124-D107)^2))","v":{"$error":"#DIV/0!"}},null,null,null,null,null,null,null,null,null,null,null,null,null,{"$error":"#DIV/0!"},{"$error":"#DIV/0!"}]
[null,11,{"$f":"(0+H107*B125/B113)","v":{"$error":"#DIV/0!"}},{"$error":"#DIV/0!"},{"$f":"COS(C125) * D109  +D107","v":{"$error":"#DIV/0!"}},{"$f":"IF(ABS(D109^2-(E125-D107)^2)<0.00001,D108+0,D108+SQRT(D109^2-(E125-D107)^2))","v":{"$error":"#DIV/0!"}},null,null,null,null,null,null,null,null,null,null,null,null,null,{"$error":"#DIV/0!"},{"$error":"#DIV/0!"}]
[null,12,{"$f":"(0+H107*B126/B113)","v":{"$error":"#DIV/0!"}},{"$error":"#DIV/0!"},{"$f":"COS(C126) * D109  +D107","v":{"$error":"#DIV/0!"}},{"$f":"IF(ABS(D109^2-(E126-D107)^2)<0.00001,D108+0,D108+SQRT(D109^2-(E126-D107)^2))","v":{"$error":"#DIV/0!"}},null,null,null,null,null,null,null,null,null,null,null,null,null,{"$error":"#DIV/0!"},{"$error":"#DIV/0!"}]
[]
[null,null,null,null,null,null,null,null,null,null,null,null,null,null,null,null,null,null,null,{"$f":"-T126","v":{"$error":"#DIV/0!"}},{"$f":"U126","v":{"$error":"#DIV/0!"}}]
[null,null,null,null,null,null,null,null,null,null,null,null,null,null,null,null,null,null,null,{"$f":"-T125","v":{"$error":"#DIV/0!"}},{"$f":"U125","v":{"$error":"#DIV/0!"}}]
[null,null,null,null,null,null,null,null,null,null,null,null,null,null,null,null,null,null,null,{"$f":"-T124","v":{"$error":"#DIV/0!"}},{"$f":"U124","v":{"$error":"#DIV/0!"}}]
[null,null,null,null,null,null,null,null,null,null,null,null,null,null,null,null,null,null,null,{"$f":"-T123","v":{"$error":"#DIV/0!"}},{"$f":"U123","v":{"$error":"#DIV/0!"}}]
[null,null,null,null,null,null,null,null,null,null,null,null,null,null,null,null,null,null,null,{"$f":"-T122","v":{"$error":"#DIV/0!"}},{"$f":"U122","v":{"$error":"#DIV/0!"}}]
[null,null,null,null,null,null,null,null,null,null,null,null,null,null,null,null,null,null,null,{"$f":"-T121","v":{"$error":"#DIV/0!"}},{"$f":"U121","v":{"$error":"#DIV/0!"}}]
[null,null,null,null,null,null,null,null,null,null,null,null,null,null,null,null,null,null,null,{"$f":"-T120","v":{"$error":"#DIV/0!"}},{"$f":"U120","v":{"$error":"#DIV/0!"}}]
[null,null,null,null,null,null,null,null,null,null,null,null,null,null,null,null,null,null,null,{"$f":"-T119","v":{"$error":"#DIV/0!"}},{"$f":"U119","v":{"$error":"#DIV/0!"}}]
[null,null,null,null,null,null,null,null,null,null,null,null,null,null,null,null,null,null,null,{"$f":"-T118","v":{"$error":"#DIV/0!"}},{"$f":"U118","v":{"$error":"#DIV/0!"}}]
[null,null,null,null,null,null,null,null,null,null,null,null,null,null,null,null,null,null,null,{"$f":"-T117","v":{"$error":"#DIV/0!"}},{"$f":"U117","v":{"$error":"#DIV/0!"}}]
[null,null,null,null,null,null,null,null,null,null,null,null,null,null,null,null,null,null,null,{"$f":"-T116","v":{"$error":"#DIV/0!"}},{"$f":"U116","v":{"$error":"#DIV/0!"}}]
[null,null,null,null,null,null,null,null,null,null,null,null,null,null,null,null,null,null,null,{"$f":"-T115","v":{"$error":"#DIV/0!"}},{"$f":"U115","v":{"$error":"#DIV/0!"}}]
[null,null,null,null,null,null,null,null,null,null,null,null,null,null,null,null,null,null,null,{"$f":"-T114","v":{"$error":"#DIV/0!"}},{"$f":"U114","v":{"$error":"#DIV/0!"}}]
[]
[null,null,null,null,null,null,null,null,null,null,null,null,null,null,null,null,null,null,null,{"$f":"T114","v":{"$error":"#DIV/0!"}},{"$f":"U114","v":{"$error":"#DIV/0!"}}]
[null,null,"Graph data --->",null,null,null,null,null,null,null,null,null,null,null,null,null,null,null,null,{"$f":"T140","v":{"$error":"#DIV/0!"}},{"$f":"U140","v":{"$error":"#DIV/0!"}}]
[]
[null,"Core 1 Inside Face"]
[null,"Knife number",null,{"$f":"D99","v":"None"}]
[null,{"$f":"'Planning Tool'!C11","v":"Dist from FO blank ="},null,{"$f":"D100","v":0},"in   =","f"]
[null,{"$f":"'Planning Tool'!C12","v":"Dist from CL of bed ="},null,{"$f":"D101","v":0},"in   =","b"]
[]
[null,null,"(x-h)^2  +  (y-k)^2  =  r^2",null,null,"y = k   +/-  sqrt[ r^2  -  (x-h)^2  ] "]
[null,null,"h =",{"$f":"D148","v":0},null,null,"a =",{"$f":"ASIN(D147/D153)","v":{"$error":"#DIV/0!"}},"rad =",{"$f":"180/PI()*H151","v":{"$error":"#DIV/0!"}},"deg"]
[null,null,"k =",{"$f":"$D$23-D147","v":{"$error":"#DIV/0!"}},null,null,"b =",{"$f":"IF(D148<0, -ASIN(D148/D153), 0)","v":0},"rad =",{"$f":"180/PI()*H152","v":0},"deg"]
[null,null,"r =",{"$f":"VLOOKUP(D146,Lookup!$B$8:$D$12,2)","v":0},null,null,"q =",{"$f":"PI()/2-H151-H152","v":{"$error":"#DIV/0!"}},"rad =",{"$f":"180/PI()*H153","v":{"$error":"#DIV/0!"}},"deg"]
[]
[null,"Core 1 Inside Face",null,null,null,null,null,null,null,null,null,null,null,null,null,null,null,null,null,"Graph of Core 1 IF"]
[null,"Angle Increment"]
[null,{"$f":"MAX(B159:B170)","v":12},"rad","deg","X","Y",null,null,null,null,null,null,null,null,null,null,null,null,null,"X","Y"]
[null,0,{"$f":"H151 + H153*B158/B157","v":{"$error":"#DIV/0!"}},{"$f":"180/PI()*C158","v":{"$error":"#DIV/0!"}},{"$f":"COS(C158) * D153  +D151","v":{"$error":"#DIV/0!"}},{"$f":"IF(ABS(D153^2-(E158-D151)^2)<0.00001,D152+0,D152+SQRT(D153^2-(E158-D151)^2))","v":{"$error":"#DIV/0!"}},null,null,null,null,null,null,null,null,null,null,null,null,null,{"$f":"E158","v":{"$error":"#DIV/0!"}},{"$f":"F158","v":{"$error":"#DIV/0!"}}]
[null,1,{"$f":"H151 + H153*B159/B157","v":{"$error":"#DIV/0!"}},{"$f":"180/PI()*C159","v":{"$error":"#DIV/0!"}},{"$f":"COS(C159) * D153  +D151","v":{"$error":"#DIV/0!"}},{"$f":"IF(ABS(D153^2-(E159-D151)^2)<0.00001,D152+0,D152+SQRT(D153^2-(E159-D151)^2))","v":{"$error":"#DIV/0!"}},null,null,null,null,null,null,null,null,null,null,null,null,null,{"$error":"#DIV/0!"},{"$error":"#DIV/0!"}]
[null,2,{"$f":"H151 + H153*B160/B157","v":{"$error":"#DIV/0!"}},{"$error":"#DIV/0!"},{"$f":"COS(C160) * D153  +D151","v":{"$error":"#DIV/0!"}},{"$f":"IF(ABS(D153^2-(E160-D151)^2)<0.00001,D152+0,D152+SQRT(D153^2-(E160-D151)^2))","v":{"$error":"#DIV/0!"}},null,null,null,null,null,null,null,null,null,null,null,null,null,{"$error":"#DIV/0!"},{"$error":"#DIV/0!"}]
[null,3,{"$f":"H151 + H153*B161/B157","v":{"$error":"#DIV/0!"}},{"$error":"#DIV/0!"},{"$f":"COS(C161) * D153  +D151","v":{"$error":"#DIV/0!"}},{"$f":"IF(ABS(D153^2-(E161-D151)^2)<0.00001,D152+0,D152+SQRT(D153^2-(E161-D151)^2))","v":{"$error":"#DIV/0!"}},null,null,null,null,null,null,null,null,null,null,null,null,null,{"$error":"#DIV/0!"},{"$error":"#DIV/0!"}]
[null,4,{"$f":"H151 + H153*B162/B157","v":{"$error":"#DIV/0!"}},{"$error":"#DIV/0!"},{"$f":"COS(C162) * D153  +D151","v":{"$error":"#DIV/0!"}},{"$f":"IF(ABS(D153^2-(E162-D151)^2)<0.00001,D152+0,D152+SQRT(D153^2-(E162-D151)^2))","v":{"$error":"#DIV/0!"}},null,null,null,null,null,null,null,null,null,null,null,null,null,{"$error":"#DIV/0!"},{"$error":"#DIV/0!"}]
[null,5,{"$f":"H151 + H153*B163/B157","v":{"$error":"#DIV/0!"}},{"$error":"#DIV/0!"},{"$f":"COS(C163) * D153  +D151","v":{"$error":"#DIV/0!"}},{"$f":"IF(ABS(D153^2-(E163-D151)^2)<0.00001,D152+0,D152+SQRT(D153^2-(E163-D151)^2))","v":{"$error":"#DIV/0!"}},null,null,null,null,null,null,null,null,null,null,null,null,null,{"$error":"#DIV/0!"},{"$error":"#DIV/0!"}]
[null,6,{"$f":"H151 + H153*B164/B157","v":{"$error":"#DIV/0!"}},{"$error":"#DIV/0!"},{"$f":"COS(C164) * D153  +D151","v":{"$error":"#DIV/0!"}},{"$f":"IF(ABS(D153^2-(E164-D151)^2)<0.00001,D152+0,D152+SQRT(D153^2-(E164-D151)^2))","v":{"$error":"#DIV/0!"}},null,null,null,null,null,null,null,null,null,null,null,null,null,{"$error":"#DIV/0!"},{"$error":"#DIV/0!"}]
[null,7,{"$f":"H151 + H153*B165/B157","v":{"$error":"#DIV/0!"}},{"$error":"#DIV/0!"},{"$f":"COS(C165) * D153  +D151","v":{"$error":"#DIV/0!"}},{"$f":"IF(ABS(D153^2-(E165-D151)^2)<0.00001,D152+0,D152+SQRT(D153^2-(E165-D151)^2))","v":{"$error":"#DIV/0!"}},null,null,null,null,null,null,null,null,null,null,null,null,null,{"$error":"#DIV/0!"},{"$error":"#DIV/0!"}]
[null,8,{"$f":"H151 + H153*B166/B157","v":{"$error":"#DIV/0!"}},{"$error":"#DIV/0!"},{"$f":"COS(C166) * D153  +D151","v":{"$error":"#DIV/0!"}},{"$f":"IF(ABS(D153^2-(E166-D151)^2)<0.00001,D152+0,D152+SQRT(D153^2-(E166-D151)^2))","v":{"$error":"#DIV/0!"}},null,null,null,null,null,null,null,null,null,null,null,null,null,{"$error":"#DIV/0!"},{"$error":"#DIV/0!"}]
[null,9,{"$f":"H151 + H153*B167/B157","v":{"$error":"#DIV/0!"}},{"$error":"#DIV/0!"},{"$f":"COS(C167) * D153  +D151","v":{"$error":"#DIV/0!"}},{"$f":"IF(ABS(D153^2-(E167-D151)^2)<0.00001,D152+0,D152+SQRT(D153^2-(E167-D151)^2))","v":{"$error":"#DIV/0!"}},null,null,null,null,null,null,null,null,null,null,null,null,null,{"$error":"#DIV/0!"},{"$error":"#DIV/0!"}]
[null,10,{"$f":"H151 + H153*B168/B157","v":{"$error":"#DIV/0!"}},{"$error":"#DIV/0!"},{"$f":"COS(C168) * D153  +D151","v":{"$error":"#DIV/0!"}},{"$f":"IF(ABS(D153^2-(E168-D151)^2)<0.00001,D152+0,D152+SQRT(D153^2-(E168-D151)^2))","v":{"$error":"#DIV/0!"}},null,null,null,null,null,null,null,null,null,null,null,null,null,{"$error":"#DIV/0!"},{"$error":"#DIV/0!"}]
[null,11,{"$f":"H151 + H153*B169/B157","v":{"$error":"#DIV/0!"}},{"$error":"#DIV/0!"},{"$f":"COS(C169) * D153  +D151","v":{"$error":"#DIV/0!"}},{"$f":"IF(ABS(D153^2-(E169-D151)^2)<0.00001,D152+0,D152+SQRT(D153^2-(E169-D151)^2))","v":{"$error":"#DIV/0!"}},null,null,null,null,null,null,null,null,null,null,null,null,null,{"$error":"#DIV/0!"},{"$error":"#DIV/0!"}]
[null,12,{"$f":"H151 + H153*B170/B157","v":{"$error":"#DIV/0!"}},{"$error":"#DIV/0!"},{"$f":"COS(C170) * D153  +D151","v":{"$error":"#DIV/0!"}},{"$f":"IF(ABS(D153^2-(E170-D151)^2)<0.00001,D152+0,D152+SQRT(D153^2-(E170-D151)^2))","v":{"$error":"#DIV/0!"}},null,null,null,null,null,null,null,null,null,null,null,null,null,{"$error":"#DIV/0!"},{"$error":"#DIV/0!"}]
[null,null,null,null,null,null,null,null,null,null,null,null,null,null,null,null,null,null,null,{"$f":"-T169","v":{"$error":"#DIV/0!"}},{"$f":"U169","v":{"$error":"#DIV/0!"}}]
[null,null,null,null,null,null,null,null,null,null,null,null,null,null,null,null,null,null,null,{"$f":"-T168","v":{"$error":"#DIV/0!"}},{"$f":"U168","v":{"$error":"#DIV/0!"}}]
[null,null,null,null,null,null,null,null,null,null,null,null,null,null,null,null,null,null,null,{"$f":"-T167","v":{"$error":"#DIV/0!"}},{"$f":"U167","v":{"$error":"#DIV/0!"}}]
[null,null,null,null,null,null,null,null,null,null,null,null,null,null,null,null,null,null,null,{"$f":"-T166","v":{"$error":"#DIV/0!"}},{"$f":"U166","v":{"$error":"#DIV/0!"}}]
[null,null,null,null,null,null,null,null,null,null,null,null,null,null,null,null,null,null,null,{"$f":"-T165","v":{"$error":"#DIV/0!"}},{"$f":"U165","v":{"$error":"#DIV/0!"}}]
[null,null,null,null,null,null,null,null,null,null,null,null,null,null,null,null,null,null,null,{"$f":"-T164","v":{"$error":"#DIV/0!"}},{"$f":"U164","v":{"$error":"#DIV/0!"}}]
[null,null,null,null,null,null,null,null,null,null,null,null,null,null,null,null,null,null,null,{"$f":"-T163","v":{"$error":"#DIV/0!"}},{"$f":"U163","v":{"$error":"#DIV/0!"}}]
[null,null,null,null,null,null,null,null,null,null,null,null,null,null,null,null,null,null,null,{"$f":"-T162","v":{"$error":"#DIV/0!"}},{"$f":"U162","v":{"$error":"#DIV/0!"}}]
[null,null,null,null,null,null,null,null,null,null,null,null,null,null,null,null,null,null,null,{"$f":"-T161","v":{"$error":"#DIV/0!"}},{"$f":"U161","v":{"$error":"#DIV/0!"}}]
[null,null,null,null,null,null,null,null,null,null,null,null,null,null,null,null,null,null,null,{"$f":"-T160","v":{"$error":"#DIV/0!"}},{"$f":"U160","v":{"$error":"#DIV/0!"}}]
[null,null,null,null,null,null,null,null,null,null,null,null,null,null,null,null,null,null,null,{"$f":"-T159","v":{"$error":"#DIV/0!"}},{"$f":"U159","v":{"$error":"#DIV/0!"}}]
[null,null,"Graph data --->",null,null,null,null,null,null,null,null,null,null,null,null,null,null,null,null,{"$f":"-T158","v":{"$error":"#DIV/0!"}},{"$f":"U158","v":{"$error":"#DIV/0!"}}]
[]
[]
[null,"Core 1 Outside Face"]
[null,"Knife number",null,{"$f":"D99","v":"None"}]
[null,{"$f":"B147","v":"Dist from FO blank ="},null,{"$f":"D100","v":0},{"$f":"E147","v":"in   ="},{"$f":"F147","v":"f"}]
[null,{"$f":"B148","v":"Dist from CL of bed ="},null,{"$f":"D101","v":0},{"$f":"E148","v":"in   ="},{"$f":"F148","v":"b"}]
[]
[null,null,"(x-h)^2  +  (y-k)^2  =  r^2",null,null,"y = k   +/-  sqrt[ r^2  -  (x-h)^2  ] "]
[]
[null,null,"h =",{"$f":"D188","v":0},null,null,"a =",{"$f":"ASIN(D187/D194)","v":{"$error":"#DIV/0!"}},"rad =",{"$f":"180/PI()*H192","v":{"$error":"#DIV/0!"}},"deg"]
[null,null,"k =",{"$f":"$D$23-D187","v":{"$error":"#DIV/0!"}},null,null,"b =",{"$f":"IF(D188<0, -ASIN(D188/D194), 0)","v":0},"rad =",{"$f":"180/PI()*H193","v":0},"deg"]
[null,null,"r =",{"$f":"VLOOKUP(D186,Lookup!$B$8:$D$12,3)","v":0},null,null,"q =",{"$f":"PI()/2-H192-H193","v":{"$error":"#DIV/0!"}},"rad =",{"$f":"180/PI()*H194","v":{"$error":"#DIV/0!"}},"deg"]
[]
[null,"Core 1 Outside Face",null,null,null,null,null,null,null,null,null,null,null,null,null,null,null,null,null,"Graph of Core 1 OF"]
[null,"Angle Increment"]
[null,{"$f":"MAX(B200:B211)","v":12},"rad","deg","X","Y",null,null,null,null,null,null,null,null,null,null,null,null,null,"X","Y"]
[null,0,{"$f":"H192 + H194*B199/B198","v":{"$error":"#DIV/0!"}},{"$f":"180/PI()*C199","v":{"$error":"#DIV/0!"}},{"$f":"COS(C199) * D194  +D192","v":{"$error":"#DIV/0!"}},{"$f":"IF(ABS(D194^2-(E199-D192)^2)<0.00001,D193+0,D193+SQRT(D194^2-(E199-D192)^2))","v":{"$error":"#DIV/0!"}},null,null,null,null,null,null,null,null,null,null,null,null,null,{"$f":"E199","v":{"$error":"#DIV/0!"}},{"$f":"F199","v":{"$error":"#DIV/0!"}}]
[null,1,{"$f":"H192 + H194*B200/B198","v":{"$error":"#DIV/0!"}},{"$f":"180/PI()*C200","v":{"$error":"#DIV/0!"}},{"$f":"COS(C200) * D194  +D192","v":{"$error":"#DIV/0!"}},{"$f":"IF(ABS(D194^2-(E200-D192)^2)<0.00001,D193+0,D193+SQRT(D194^2-(E200-D192)^2))","v":{"$error":"#DIV/0!"}},null,null,null,null,null,null,null,null,null,null,null,null,null,{"$error":"#DIV/0!"},{"$error":"#DIV/0!"}]
[null,2,{"$f":"H192 + H194*B201/B198","v":{"$error":"#DIV/0!"}},{"$error":"#DIV/0!"},{"$f":"COS(C201) * D194  +D192","v":{"$error":"#DIV/0!"}},{"$f":"IF(ABS(D194^2-(E201-D192)^2)<0.00001,D193+0,D193+SQRT(D194^2-(E201-D192)^2))","v":{"$error":"#DIV/0!"}},null,null,null,null,null,null,null,null,null,null,null,null,null,{"$error":"#DIV/0!"},{"$error":"#DIV/0!"}]
[null,3,{"$f":"H192 + H194*B202/B198","v":{"$error":"#DIV/0!"}},{"$error":"#DIV/0!"},{"$f":"COS(C202) * D194  +D192","v":{"$error":"#DIV/0!"}},{"$f":"IF(ABS(D194^2-(E202-D192)^2)<0.00001,D193+0,D193+SQRT(D194^2-(E202-D192)^2))","v":{"$error":"#DIV/0!"}},null,null,null,null,null,null,null,null,null,null,null,null,null,{"$error":"#DIV/0!"},{"$error":"#DIV/0!"}]
[null,4,{"$f":"H192 + H194*B203/B198","v":{"$error":"#DIV/0!"}},{"$error":"#DIV/0!"},{"$f":"COS(C203) * D194  +D192","v":{"$error":"#DIV/0!"}},{"$f":"IF(ABS(D194^2-(E203-D192)^2)<0.00001,D193+0,D193+SQRT(D194^2-(E203-D192)^2))","v":{"$error":"#DIV/0!"}},null,null,null,null,null,null,null,null,null,null,null,null,null,{"$error":"#DIV/0!"},{"$error":"#DIV/0!"}]
[null,5,{"$f":"H192 + H194*B204/B198","v":{"$error":"#DIV/0!"}},{"$error":"#DIV/0!"},{"$f":"COS(C204) * D194  +D192","v":{"$error":"#DIV/0!"}},{"$f":"IF(ABS(D194^2-(E204-D192)^2)<0.00001,D193+0,D193+SQRT(D194^2-(E204-D192)^2))","v":{"$error":"#DIV/0!"}},null,null,null,null,null,null,null,null,null,null,null,null,null,{"$error":"#DIV/0!"},{"$error":"#DIV/0!"}]
[null,6,{"$f":"H192 + H194*B205/B198","v":{"$error":"#DIV/0!"}},{"$error":"#DIV/0!"},{"$f":"COS(C205) * D194  +D192","v":{"$error":"#DIV/0!"}},{"$f":"IF(ABS(D194^2-(E205-D192)^2)<0.00001,D193+0,D193+SQRT(D194^2-(E205-D192)^2))","v":{"$error":"#DIV/0!"}},null,null,null,null,null,null,null,null,null,null,null,null,null,{"$error":"#DIV/0!"},{"$error":"#DIV/0!"}]
[null,7,{"$f":"H192 + H194*B206/B198","v":{"$error":"#DIV/0!"}},{"$error":"#DIV/0!"},{"$f":"COS(C206) * D194  +D192","v":{"$error":"#DIV/0!"}},{"$f":"IF(ABS(D194^2-(E206-D192)^2)<0.00001,D193+0,D193+SQRT(D194^2-(E206-D192)^2))","v":{"$error":"#DIV/0!"}},null,null,null,null,null,null,null,null,null,null,null,null,null,{"$error":"#DIV/0!"},{"$error":"#DIV/0!"}]
[null,8,{"$f":"H192 + H194*B207/B198","v":{"$error":"#DIV/0!"}},{"$error":"#DIV/0!"},{"$f":"COS(C207) * D194  +D192","v":{"$error":"#DIV/0!"}},{"$f":"IF(ABS(D194^2-(E207-D192)^2)<0.00001,D193+0,D193+SQRT(D194^2-(E207-D192)^2))","v":{"$error":"#DIV/0!"}},null,null,null,null,null,null,null,null,null,null,null,null,null,{"$error":"#DIV/0!"},{"$error":"#DIV/0!"}]
[null,9,{"$f":"H192 + H194*B208/B198","v":{"$error":"#DIV/0!"}},{"$error":"#DIV/0!"},{"$f":"COS(C208) * D194  +D192","v":{"$error":"#DIV/0!"}},{"$f":"IF(ABS(D194^2-(E208-D192)^2)<0.00001,D193+0,D193+SQRT(D194^2-(E208-D192)^2))","v":{"$error":"#DIV/0!"}},null,null,null,null,null,null,null,null,null,null,null,null,null,{"$error":"#DIV/0!"},{"$error":"#DIV/0!"}]
[null,10,{"$f":"H192 + H194*B209/B198","v":{"$error":"#DIV/0!"}},{"$error":"#DIV/0!"},{"$f":"COS(C209) * D194  +D192","v":{"$error":"#DIV/0!"}},{"$f":"IF(ABS(D194^2-(E209-D192)^2)<0.00001,D193+0,D193+SQRT(D194^2-(E209-D192)^2))","v":{"$error":"#DIV/0!"}},null,null,null,null,null,null,null,null,null,null,null,null,null,{"$error":"#DIV/0!"},{"$error":"#DIV/0!"}]
[null,11,{"$f":"H192 + H194*B210/B198","v":{"$error":"#DIV/0!"}},{"$error":"#DIV/0!"},{"$f":"COS(C210) * D194  +D192","v":{"$error":"#DIV/0!"}},{"$f":"IF(ABS(D194^2-(E210-D192)^2)<0.00001,D193+0,D193+SQRT(D194^2-(E210-D192)^2))","v":{"$error":"#DIV/0!"}},null,null,null,null,null,null,null,null,null,null,null,null,null,{"$error":"#DIV/0!"},{"$error":"#DIV/0!"}]
[null,12,{"$f":"H192 + H194*B211/B198","v":{"$error":"#DIV/0!"}},{"$error":"#DIV/0!"},{"$f":"COS(C211) * D194  +D192","v":{"$error":"#DIV/0!"}},{"$f":"IF(ABS(D194^2-(E211-D192)^2)<0.00001,D193+0,D193+SQRT(D194^2-(E211-D192)^2))","v":{"$error":"#DIV/0!"}},null,null,null,null,null,null,null,null,null,null,null,null,null,{"$error":"#DIV/0!"},{"$error":"#DIV/0!"}]
[null,null,null,null,null,null,null,null,null,null,null,null,null,null,null,null,null,null,null,{"$f":"-T210","v":{"$error":"#DIV/0!"}},{"$f":"U210","v":{"$error":"#DIV/0!"}}]
[null,null,null,null,null,null,null,null,null,null,null,null,null,null,null,null,null,null,null,{"$f":"-T209","v":{"$error":"#DIV/0!"}},{"$f":"U209","v":{"$error":"#DIV/0!"}}]
[null,null,null,null,null,null,null,null,null,null,null,null,null,null,null,null,null,null,null,{"$f":"-T208","v":{"$error":"#DIV/0!"}},{"$f":"U208","v":{"$error":"#DIV/0!"}}]
[null,null,null,null,null,null,null,null,null,null,null,null,null,null,null,null,null,null,null,{"$f":"-T207","v":{"$error":"#DIV/0!"}},{"$f":"U207","v":{"$error":"#DIV/0!"}}]
[null,null,null,null,null,null,null,null,null,null,null,null,null,null,null,null,null,null,null,{"$f":"-T206","v":{"$error":"#DIV/0!"}},{"$f":"U206","v":{"$error":"#DIV/0!"}}]
[null,null,null,null,null,null,null,null,null,null,null,null,null,null,null,null,null,null,null,{"$f":"-T205","v":{"$error":"#DIV/0!"}},{"$f":"U205","v":{"$error":"#DIV/0!"}}]
[null,null,null,null,null,null,null,null,null,null,null,null,null,null,null,null,null,null,null,{"$f":"-T204","v":{"$error":"#DIV/0!"}},{"$f":"U204","v":{"$error":"#DIV/0!"}}]
[null,null,null,null,null,null,null,null,null,null,null,null,null,null,null,null,null,null,null,{"$f":"-T203","v":{"$error":"#DIV/0!"}},{"$f":"U203","v":{"$error":"#DIV/0!"}}]
[null,null,null,null,null,null,null,null,null,null,null,null,null,null,null,null,null,null,null,{"$f":"-T202","v":{"$error":"#DIV/0!"}},{"$f":"U202","v":{"$error":"#DIV/0!"}}]
[null,null,null,null,null,null,null,null,null,null,null,null,null,null,null,null,null,null,null,{"$f":"-T201","v":{"$error":"#DIV/0!"}},{"$f":"U201","v":{"$error":"#DIV/0!"}}]
[null,null,null,null,null,null,null,null,null,null,null,null,null,null,null,null,null,null,null,{"$f":"-T200","v":{"$error":"#DIV/0!"}},{"$f":"U200","v":{"$error":"#DIV/0!"}}]
[null,null,"Graph data --->",null,null,null,null,null,null,null,null,{"$f":"(C235-C230)","v":{"$error":"#DIV/0!"}},null,null,null,null,null,null,null,{"$f":"-T199","v":{"$error":"#DIV/0!"}},{"$f":"U199","v":{"$error":"#DIV/0!"}}]
[]
[]
[null,"Determine distance to from",null,null,"Core 1 OF","to","BB"]
[]
[null,"For",{"$f":"G226","v":"BB"}]
[null,"X1 =",0,"h =",{"$f":"$D$27","v":0},null,"quadA =","m^2+1",null,null,"For derivation, see https://math.stackexchange.com/questions/228841/how-do-i-calculate-the-intersections-of-a-straight-line-and-a-circle",null,null," "]
[null,"Y1 =",0,"k =",{"$f":"D28","v":0},null,"quadB =","2(mb−mk−h)"]
[null,null,null,"r =",{"$f":"D29","v":{"$error":"#DIV/0!"}},null,"quadC =","k^2−r^2+h^2−2bk+b^2"]
[]
[null,"Line from (X1, Y1) to (X2, Y2)",null,null,null,null,null,null,null,null,null,null,"Point on ",{"$f":"G226","v":"BB"},null,"Distance",null,null,null,{"$f":"\"Distance Rays from \"&E226&\" to \"&G226","v":"Distance Rays from Core 1 OF to BB"}]
[null,"X2","Y2","m","b",null,"quadA","quadB","quadC","Root1","Root2",null,"X","Y"]
[null,{"$f":"E199","v":{"$error":"#DIV/0!"}},{"$f":"F199","v":{"$error":"#DIV/0!"}},{"$f":"IF( (B235-C229)=0, 1000000000000, IF(ABS(C235-C230)<0.00000001, 0,   (C235-C230) / (B235-C229)))","v":{"$error":"#DIV/0!"}},{"$f":"C235-(D235*B235)","v":{"$error":"#DIV/0!"}},null,{"$f":"D235^2 + 1","v":{"$error":"#DIV/0!"}},{"$f":"2*(D235*E235 - D235*E230 - E229)","v":{"$error":"#DIV/0!"}},{"$f":"E230^2 - E231^2 + E229^2 - 2*E235*E230 + E235^2","v":{"$error":"#DIV/0!"}},{"$f":"IF(ABS(H235^2 - 4*G235*I235)<0.000001, 0, (-H235 + (H235^2 - 4*G235*I235)^0.5)/(2*G235))","v":{"$error":"#DIV/0!"}},{"$f":"IF(ABS(H235^2 - 4*G235*I235)<0.000001, 0, (-H235 - (H235^2 - 4*G235*I235)^0.5)/(2*G235))","v":{"$error":"#DIV/0!"}},null,{"$f":"IF(D235>=0, J235, K235)","v":{"$error":"#DIV/0!"}},{"$f":"D235*M235 + E235","v":{"$error":"#DIV/0!"}},null,{"$f":"SQRT((B235-M235)^2 + (C235-N235)^2)","v":{"$error":"#DIV/0!"}},null,null,null,{"$f":"C229","v":0},{"$f":"C230","v":0}]
[null,{"$error":"#DIV/0!"},{"$error":"#DIV/0!"},{"$f":"IF( (B236-C229)=0, 1000000000000, IF(ABS(C236-C230)<0.00000001, 0,   (C236-C230) / (B236-C229)))","v":{"$error":"#DIV/0!"}},{"$f":"C236-(D236*B236)","v":{"$error":"#DIV/0!"}},null,{"$f":"D236^2 + 1","v":{"$error":"#DIV/0!"}},{"$f":"2*(D236*E236 - D236*E230 - E229)","v":{"$error":"#DIV/0!"}},{"$f":"E230^2 - E231^2 + E229^2 - 2*E236*E230 + E236^2","v":{"$error":"#DIV/0!"}},{"$f":"IF(ABS(H236^2 - 4*G236*I236)<0.000001, 0, (-H236 + (H236^2 - 4*G236*I236)^0.5)/(2*G236))","v":{"$error":"#DIV/0!"}},{"$f":"IF(ABS(H236^2 - 4*G236*I236)<0.000001, 0, (-H236 - (H236^2 - 4*G236*I236)^0.5)/(2*G236))","v":{"$error":"#DIV/0!"}},null,{"$f":"IF(D236>=0, J236, K236)","v":{"$error":"#DIV/0!"}},{"$f":"D236*M236 + E236","v":{"$error":"#DIV/0!"}},null,{"$f":"SQRT((B236-M236)^2 + (C236-N236)^2)","v":{"$error":"#DIV/0!"}},null,null,null,{"$f":"B235","v":{"$error":"#DIV/0!"}},{"$f":"C235","v":{"$error":"#DIV/0!"}}]
[null,{"$error":"#DIV/0!"},{"$error":"#DIV/0!"},{"$f":"IF( (B237-C229)=0, 1000000000000, IF(ABS(C237-C230)<0.00000001, 0,   (C237-C230) / (B237-C229)))","v":{"$error":"#DIV/0!"}},{"$error":"#DIV/0!"},null,{"$error":"#DIV/0!"},{"$f":"2*(D237*E237 - D237*E230 - E229)","v":{"$error":"#DIV/0!"}},{"$f":"E230^2 - E231^2 + E229^2 - 2*E237*E230 + E237^2","v":{"$error":"#DIV/0!"}},{"$error":"#DIV/0!"},{"$error":"#DIV/0!"},null,{"$error":"#DIV/0!"},{"$error":"#DIV/0!"},null,{"$error":"#DIV/0!"},null,null,null,{"$f":"M235","v":{"$error":"#DIV/0!"}},{"$f":"N235","v":{"$error":"#DIV/0!"}}]
[null,{"$error":"#DIV/0!"},{"$error":"#DIV/0!"},{"$f":"IF( (B238-C229)=0, 1000000000000, IF(ABS(C238-C230)<0.00000001, 0,   (C238-C230) / (B238-C229)))","v":{"$error":"#DIV/0!"}},{"$error":"#DIV/0!"},null,{"$error":"#DIV/0!"},{"$f":"2*(D238*E238 - D238*E230 - E229)","v":{"$error":"#DIV/0!"}},{"$f":"E230^2 - E231^2 + E229^2 - 2*E238*E230 + E238^2","v":{"$error":"#DIV/0!"}},{"$error":"#DIV/0!"},{"$error":"#DIV/0!"},null,{"$error":"#DIV/0!"},{"$error":"#DIV/0!"},null,{"$error":"#DIV/0!"},null,null,null,{"$f":"C229","v":0},{"$f":"C230","v":0}]
[null,{"$error":"#DIV/0!"},{"$error":"#DIV/0!"},{"$f":"IF( (B239-C229)=0, 1000000000000, IF(ABS(C239-C230)<0.00000001, 0,   (C239-C230) / (B239-C229)))","v":{"$error":"#DIV/0!"}},{"$error":"#DIV/0!"},null,{"$error":"#DIV/0!"},{"$f":"2*(D239*E239 - D239*E230 - E229)","v":{"$error":"#DIV/0!"}},{"$f":"E230^2 - E231^2 + E229^2 - 2*E239*E230 + E239^2","v":{"$error":"#DIV/0!"}},{"$error":"#DIV/0!"},{"$error":"#DIV/0!"},null,{"$error":"#DIV/0!"},{"$error":"#DIV/0!"},null,{"$error":"#DIV/0!"},null,null,null,{"$f":"B236","v":{"$error":"#DIV/0!"}},{"$f":"C236","v":{"$error":"#DIV/0!"}}]
[null,{"$error":"#DIV/0!"},{"$error":"#DIV/0!"},{"$f":"IF( (B240-C229)=0, 1000000000000, IF(ABS(C240-C230)<0.00000001, 0,   (C240-C230) / (B240-C229)))","v":{"$error":"#DIV/0!"}},{"$error":"#DIV/0!"},null,{"$error":"#DIV/0!"},{"$f":"2*(D240*E240 - D240*E230 - E229)","v":{"$error":"#DIV/0!"}},{"$f":"E230^2 - E231^2 + E229^2 - 2*E240*E230 + E240^2","v":{"$error":"#DIV/0!"}},{"$error":"#DIV/0!"},{"$error":"#DIV/0!"},null,{"$error":"#DIV/0!"},{"$error":"#DIV/0!"},null,{"$error":"#DIV/0!"},null,null,null,{"$f":"M236","v":{"$error":"#DIV/0!"}},{"$f":"N236","v":{"$error":"#DIV/0!"}}]
[null,{"$error":"#DIV/0!"},{"$error":"#DIV/0!"},{"$f":"IF( (B241-C229)=0, 1000000000000, IF(ABS(C241-C230)<0.00000001, 0,   (C241-C230) / (B241-C229)))","v":{"$error":"#DIV/0!"}},{"$error":"#DIV/0!"},null,{"$error":"#DIV/0!"},{"$f":"2*(D241*E241 - D241*E230 - E229)","v":{"$error":"#DIV/0!"}},{"$f":"E230^2 - E231^2 + E229^2 - 2*E241*E230 + E241^2","v":{"$error":"#DIV/0!"}},{"$error":"#DIV/0!"},{"$error":"#DIV/0!"},null,{"$error":"#DIV/0!"},{"$error":"#DIV/0!"},null,{"$error":"#DIV/0!"},null,null,null,{"$f":"C229","v":0},{"$f":"C230","v":0}]
[null,{"$error":"#DIV/0!"},{"$error":"#DIV/0!"},{"$f":"IF( (B242-C229)=0, 1000000000000, IF(ABS(C242-C230)<0.00000001, 0,   (C242-C230) / (B242-C229)))","v":{"$error":"#DIV/0!"}},{"$error":"#DIV/0!"},null,{"$error":"#DIV/0!"},{"$f":"2*(D242*E242 - D242*E230 - E229)","v":{"$error":"#DIV/0!"}},{"$f":"E230^2 - E231^2 + E229^2 - 2*E242*E230 + E242^2","v":{"$error":"#DIV/0!"}},{"$error":"#DIV/0!"},{"$error":"#DIV/0!"},null,{"$error":"#DIV/0!"},{"$error":"#DIV/0!"},null,{"$error":"#DIV/0!"},null,null,null,{"$f":"B237","v":{"$error":"#DIV/0!"}},{"$f":"C237","v":{"$error":"#DIV/0!"}}]
[null,{"$error":"#DIV/0!"},{"$error":"#DIV/0!"},{"$f":"IF( (B243-C229)=0, 1000000000000, IF(ABS(C243-C230)<0.00000001, 0,   (C243-C230) / (B243-C229)))","v":{"$error":"#DIV/0!"}},{"$error":"#DIV/0!"},null,{"$error":"#DIV/0!"},{"$f":"2*(D243*E243 - D243*E230 - E229)","v":{"$error":"#DIV/0!"}},{"$f":"E230^2 - E231^2 + E229^2 - 2*E243*E230 + E243^2","v":{"$error":"#DIV/0!"}},{"$error":"#DIV/0!"},{"$error":"#DIV/0!"},null,{"$error":"#DIV/0!"},{"$error":"#DIV/0!"},null,{"$error":"#DIV/0!"},null,null,null,{"$f":"M237","v":{"$error":"#DIV/0!"}},{"$f":"N237","v":{"$error":"#DIV/0!"}}]
[null,{"$error":"#DIV/0!"},{"$error":"#DIV/0!"},{"$f":"IF( (B244-C229)=0, 1000000000000, IF(ABS(C244-C230)<0.00000001, 0,   (C244-C230) / (B244-C229)))","v":{"$error":"#DIV/0!"}},{"$error":"#DIV/0!"},null,{"$error":"#DIV/0!"},{"$f":"2*(D244*E244 - D244*E230 - E229)","v":{"$error":"#DIV/0!"}},{"$f":"E230^2 - E231^2 + E229^2 - 2*E244*E230 + E244^2","v":{"$error":"#DIV/0!"}},{"$error":"#DIV/0!"},{"$error":"#DIV/0!"},null,{"$error":"#DIV/0!"},{"$error":"#DIV/0!"},null,{"$error":"#DIV/0!"},null,null,null,{"$f":"C229","v":0},{"$f":"C230","v":0}]
[null,{"$error":"#DIV/0!"},{"$error":"#DIV/0!"},{"$f":"IF( (B245-C229)=0, 1000000000000, IF(ABS(C245-C230)<0.00000001, 0,   (C245-C230) / (B245-C229)))","v":{"$error":"#DIV/0!"}},{"$error":"#DIV/0!"},null,{"$error":"#DIV/0!"},{"$f":"2*(D245*E245 - D245*E230 - E229)","v":{"$error":"#DIV/0!"}},{"$f":"E230^2 - E231^2 + E229^2 - 2*E245*E230 + E245^2","v":{"$error":"#DIV/0!"}},{"$error":"#DIV/0!"},{"$error":"#DIV/0!"},null,{"$error":"#DIV/0!"},{"$error":"#DIV/0!"},null,{"$error":"#DIV/0!"},null,null,null,{"$f":"B238","v":{"$error":"#DIV/0!"}},{"$f":"C238","v":{"$error":"#DIV/0!"}}]
[null,{"$error":"#DIV/0!"},{"$error":"#DIV/0!"},{"$f":"IF( (B246-C229)=0, 1000000000000, IF(ABS(C246-C230)<0.00000001, 0,   (C246-C230) / (B246-C229)))","v":{"$error":"#DIV/0!"}},{"$error":"#DIV/0!"},null,{"$error":"#DIV/0!"},{"$f":"2*(D246*E246 - D246*E230 - E229)","v":{"$error":"#DIV/0!"}},{"$f":"E230^2 - E231^2 + E229^2 - 2*E246*E230 + E246^2","v":{"$error":"#DIV/0!"}},{"$error":"#DIV/0!"},{"$error":"#DIV/0!"},null,{"$error":"#DIV/0!"},{"$error":"#DIV/0!"},null,{"$error":"#DIV/0!"},null,null,null,{"$f":"M238","v":{"$error":"#DIV/0!"}},{"$f":"N238","v":{"$error":"#DIV/0!"}}]
[null,0,{"$error":"#DIV/0!"},null,null,null,null,null,null,null,null,null,0,{"$f":"F46","v":{"$error":"#DIV/0!"}},null,{"$error":"#DIV/0!"},null,null,null,{"$f":"C229","v":0},{"$f":"C230","v":0}]
[null,null,null,null,null,null,null,null,null,null,null,null,null,null,null,null,null,null,null,{"$f":"B239","v":{"$error":"#DIV/0!"}},{"$f":"C239","v":{"$error":"#DIV/0!"}}]
[null,null,null,null,null,null,null,null,null,null,null,null,null,null,"Max =",{"$f":"MAX(P235:P247)","v":{"$error":"#DIV/0!"}},null,null,null,{"$f":"M239","v":{"$error":"#DIV/0!"}},{"$f":"N239","v":{"$error":"#DIV/0!"}}]
[null,null,null,null,null,null,null,null,null,null,null,null,null,null,"Min =",{"$f":"MIN(P235:P247)","v":{"$error":"#DIV/0!"}},null,null,null,{"$f":"C229","v":0},{"$f":"C230","v":0}]
[null,null,null,null,null,null,null,null,null,null,null,null,null,null,null,null,null,null,null,{"$f":"B240","v":{"$error":"#DIV/0!"}},{"$f":"C240","v":{"$error":"#DIV/0!"}}]
[null,null,null,null,null,null,null,null,null,null,null,null,null,null,null,null,null,null,null,{"$f":"M240","v":{"$error":"#DIV/0!"}},{"$f":"N240","v":{"$error":"#DIV/0!"}}]
[null,null,null,null,null,null,null,null,null,null,null,null,null,null,null,null,null,null,null,{"$f":"C229","v":0},{"$f":"C230","v":0}]
[null,null,null,null,null,null,null,null,null,null,null,null,null,null,null,null,null,null,null,{"$f":"B241","v":{"$error":"#DIV/0!"}},{"$f":"C241","v":{"$error":"#DIV/0!"}}]
[null,null,null,null,null,null,null,null,null,null,null,null,null,null,null,null,null,null,null,{"$f":"M241","v":{"$error":"#DIV/0!"}},{"$f":"N241","v":{"$error":"#DIV/0!"}}]
[null,null,null,null,null,null,null,null,null,null,null,null,null,null,null,null,null,null,null,{"$f":"C229","v":0},{"$f":"C230","v":0}]
[null,null,null,null,null,null,null,null,null,null,null,null,null,null,null,null,null,null,null,{"$f":"B242","v":{"$error":"#DIV/0!"}},{"$f":"C242","v":{"$error":"#DIV/0!"}}]
[null,null,null,null,null,null,null,null,null,null,null,null,null,null,null,null,null,null,null,{"$f":"M242","v":{"$error":"#DIV/0!"}},{"$f":"N242","v":{"$error":"#DIV/0!"}}]
[null,null,null,null,null,null,null,null,null,null,null,null,null,null,null,null,null,null,null,{"$f":"C229","v":0},{"$f":"C230","v":0}]
[null,null,null,null,null,null,null,null,null,null,null,null,null,null,null,null,null,null,null,{"$f":"B243","v":{"$error":"#DIV/0!"}},{"$f":"C243","v":{"$error":"#DIV/0!"}}]
[null,null,null,null,null,null,null,null,null,null,null,null,null,null,null,null,null,null,null,{"$f":"M243","v":{"$error":"#DIV/0!"}},{"$f":"N243","v":{"$error":"#DIV/0!"}}]
[null,null,null,null,null,null,null,null,null,null,null,null,null,null,null,null,null,null,null,{"$f":"C229","v":0},{"$f":"C230","v":0}]
[null,null,null,null,null,null,null,null,null,null,null,null,null,null,null,null,null,null,null,{"$f":"B244","v":{"$error":"#DIV/0!"}},{"$f":"C244","v":{"$error":"#DIV/0!"}}]
[null,null,null,null,null,null,null,null,null,null,null,null,null,null,null,null,null,null,null,{"$f":"M244","v":{"$error":"#DIV/0!"}},{"$f":"N244","v":{"$error":"#DIV/0!"}}]
[null,null,null,null,null,null,null,null,null,null,null,null,null,null,null,null,null,null,null,{"$f":"C229","v":0},{"$f":"C230","v":0}]
[null,null,null,null,null,null,null,null,null,null,null,null,null,null,null,null,null,null,null,{"$f":"B245","v":{"$error":"#DIV/0!"}},{"$f":"C245","v":{"$error":"#DIV/0!"}}]
[null,null,null,null,null,null,null,null,null,null,null,null,null,null,null,null,null,null,null,{"$f":"M245","v":{"$error":"#DIV/0!"}},{"$f":"N245","v":{"$error":"#DIV/0!"}}]
[null,null,null,null,null,null,null,null,null,null,null,null,null,null,null,null,null,null,null,{"$f":"C229","v":0},{"$f":"C230","v":0}]
[null,null,null,null,null,null,null,null,null,null,null,null,null,null,null,null,null,null,null,{"$f":"B246","v":{"$error":"#DIV/0!"}},{"$f":"C246","v":{"$error":"#DIV/0!"}}]
[null,null,null,null,null,null,null,null,null,null,null,null,null,null,null,null,null,null,null,{"$f":"M246","v":{"$error":"#DIV/0!"}},{"$f":"N246","v":{"$error":"#DIV/0!"}}]
[null,null,null,null,null,null,null,null,null,null,null,null,null,null,null,null,null,null,null,{"$f":"C229","v":0},{"$f":"C230","v":0}]
[null,null,null,null,null,null,null,null,null,null,null,null,null,null,null,null,null,null,null,{"$f":"B247","v":0},{"$f":"C247","v":{"$error":"#DIV/0!"}}]
[null,null,"Graph data --->",null,null,null,null,null,null,null,null,null,null,null,null,null,null,null,null,{"$f":"M247","v":0},{"$f":"N247","v":{"$error":"#DIV/0!"}}]
[]
[]
[]
[null,"Core 2"]
[]
[null,"Core 2 Centerline"]
[null,"Knife number",null,{"$f":"'Planning Tool'!D19","v":"None"}]
[null,null,{"$f":"'Planning Tool'!C21","v":"Dist from FO blank ="},{"$f":"'Planning Tool'!D21","v":0},{"$f":"E328","v":"in   ="},{"$f":"F328","v":"f"}]
[null,null,{"$f":"'Planning Tool'!C22","v":"Dist from CL of bed ="},{"$f":"'Planning Tool'!D22","v":0},{"$f":"E329","v":"in   ="},{"$f":"F329","v":"b"}]
[]
[null,"Center at","x =",{"$f":"D282","v":0},null,"y =",{"$f":"$D$23-D281","v":{"$error":"#DIV/0!"}},null,"Bowl Dia =",{"$f":"2*E339","v":{"$error":"#DIV/0!"}},"Depth =",{"$f":"F351-F339","v":{"$error":"#DIV/0!"}}]
[]
[null,null,"(x-h)^2  +  (y-k)^2  =  r^2",null,null,"y = k   +/-  sqrt[ r^2  -  (x-h)^2  ] "]
[]
[null,null,"h =",{"$f":"D282","v":0},null,null,"a =",{"$f":"ASIN(D281/D290)","v":{"$error":"#DIV/0!"}},"rad =",{"$f":"180/PI()*H288","v":{"$error":"#DIV/0!"}},"deg"]
[null,null,"k =",{"$f":"$D$23-D281","v":{"$error":"#DIV/0!"}},null,null,"b =",{"$f":"IF(D282<0, -ASIN(D282/D290), 0)","v":0},"rad =",{"$f":"180/PI()*H289","v":0},"deg"]
[null,null,"r =",{"$f":"VLOOKUP(D280,Lookup!$B$8:$E$12,4)","v":0},null,null,"q =",{"$f":"PI()/2-H288-H289","v":{"$error":"#DIV/0!"}},"rad =",{"$f":"180/PI()*H290","v":{"$error":"#DIV/0!"}},"deg"]
[]
[null,"Core 2 Centerline Extension Coordinates in Sector 1",null,null,null,null,null,null,null,null,null,null,null,null,null,null,null,null,null,"Core 2 Centerline Extension",null,null,"Core 2 Centerline Tick"]
[null,"Angle Increment",null,null,null,null,null,null,null,null,null,null,null,null,null,null,null,null,null,"and diameter"]
[null,{"$f":"MAX(B296:B307)","v":12},"rad","deg","X","Y",null,null,null,null,null,null,null,null,null,null,null,null,null,"X","Y",null,"X","Y"]
[null,0,{"$f":"(0+H288*B295/B294)","v":{"$error":"#DIV/0!"}},{"$f":"180/PI()*C295","v":{"$error":"#DIV/0!"}},{"$f":"COS(C295) * D290  +D288","v":{"$error":"#DIV/0!"}},{"$f":"IF(ABS(D290^2-(E295-D288)^2)<0.00001,D289+0,D289+SQRT(D290^2-(E295-D288)^2))","v":{"$error":"#DIV/0!"}},null,null,null,null,null,null,null,null,null,null,null,null,null,{"$f":"E295","v":{"$error":"#DIV/0!"}},{"$f":"F295","v":{"$error":"#DIV/0!"}},null,{"$f":"IF(D280=\"None\",0,-D284)","v":0},{"$f":"IF(D280=\"None\",0,G284+0.5)","v":0}]
[null,1,{"$f":"(0+H288*B296/B294)","v":{"$error":"#DIV/0!"}},{"$f":"180/PI()*C296","v":{"$error":"#DIV/0!"}},{"$f":"COS(C296) * D290  +D288","v":{"$error":"#DIV/0!"}},{"$f":"IF(ABS(D290^2-(E296-D288)^2)<0.00001,D289+0,D289+SQRT(D290^2-(E296-D288)^2))","v":{"$error":"#DIV/0!"}},null,null,null,null,null,null,null,null,null,null,null,null,null,{"$error":"#DIV/0!"},{"$error":"#DIV/0!"},null,{"$f":"IF(D280=\"None\",0,-D284)","v":0},{"$f":"IF(D280=\"None\",0,G284-0.5)","v":0}]
[null,2,{"$f":"(0+H288*B297/B294)","v":{"$error":"#DIV/0!"}},{"$error":"#DIV/0!"},{"$f":"COS(C297) * D290  +D288","v":{"$error":"#DIV/0!"}},{"$f":"IF(ABS(D290^2-(E297-D288)^2)<0.00001,D289+0,D289+SQRT(D290^2-(E297-D288)^2))","v":{"$error":"#DIV/0!"}},null,null,null,null,null,null,null,null,null,null,null,null,null,{"$error":"#DIV/0!"},{"$error":"#DIV/0!"}]
[null,3,{"$f":"(0+H288*B298/B294)","v":{"$error":"#DIV/0!"}},{"$error":"#DIV/0!"},{"$f":"COS(C298) * D290  +D288","v":{"$error":"#DIV/0!"}},{"$f":"IF(ABS(D290^2-(E298-D288)^2)<0.00001,D289+0,D289+SQRT(D290^2-(E298-D288)^2))","v":{"$error":"#DIV/0!"}},null,null,null,null,null,null,null,null,null,null,null,null,null,{"$error":"#DIV/0!"},{"$error":"#DIV/0!"},null,{"$f":"IF(D280=\"None\",0,-D284+0.5)","v":0},{"$f":"IF(D280=\"None\",0,G284)","v":0}]
[null,4,{"$f":"(0+H288*B299/B294)","v":{"$error":"#DIV/0!"}},{"$error":"#DIV/0!"},{"$f":"COS(C299) * D290  +D288","v":{"$error":"#DIV/0!"}},{"$f":"IF(ABS(D290^2-(E299-D288)^2)<0.00001,D289+0,D289+SQRT(D290^2-(E299-D288)^2))","v":{"$error":"#DIV/0!"}},null,null,null,null,null,null,null,null,null,null,null,null,null,{"$error":"#DIV/0!"},{"$error":"#DIV/0!"},null,{"$f":"IF(D280=\"None\",0,-D284-0.5)","v":0},{"$f":"IF(D280=\"None\",0,G284)","v":0}]
[null,5,{"$f":"(0+H288*B300/B294)","v":{"$error":"#DIV/0!"}},{"$error":"#DIV/0!"},{"$f":"COS(C300) * D290  +D288","v":{"$error":"#DIV/0!"}},{"$f":"IF(ABS(D290^2-(E300-D288)^2)<0.00001,D289+0,D289+SQRT(D290^2-(E300-D288)^2))","v":{"$error":"#DIV/0!"}},null,null,null,null,null,null,null,null,null,null,null,null,null,{"$error":"#DIV/0!"},{"$error":"#DIV/0!"}]
[null,6,{"$f":"(0+H288*B301/B294)","v":{"$error":"#DIV/0!"}},{"$error":"#DIV/0!"},{"$f":"COS(C301) * D290  +D288","v":{"$error":"#DIV/0!"}},{"$f":"IF(ABS(D290^2-(E301-D288)^2)<0.00001,D289+0,D289+SQRT(D290^2-(E301-D288)^2))","v":{"$error":"#DIV/0!"}},null,null,null,null,null,null,null,null,null,null,null,null,null,{"$error":"#DIV/0!"},{"$error":"#DIV/0!"}]
[null,7,{"$f":"(0+H288*B302/B294)","v":{"$error":"#DIV/0!"}},{"$error":"#DIV/0!"},{"$f":"COS(C302) * D290  +D288","v":{"$error":"#DIV/0!"}},{"$f":"IF(ABS(D290^2-(E302-D288)^2)<0.00001,D289+0,D289+SQRT(D290^2-(E302-D288)^2))","v":{"$error":"#DIV/0!"}},null,null,null,null,null,null,null,null,null,null,null,null,null,{"$error":"#DIV/0!"},{"$error":"#DIV/0!"}]
[null,8,{"$f":"(0+H288*B303/B294)","v":{"$error":"#DIV/0!"}},{"$error":"#DIV/0!"},{"$f":"COS(C303) * D290  +D288","v":{"$error":"#DIV/0!"}},{"$f":"IF(ABS(D290^2-(E303-D288)^2)<0.00001,D289+0,D289+SQRT(D290^2-(E303-D288)^2))","v":{"$error":"#DIV/0!"}},null,null,null,null,null,null,null,null,null,null,null,null,null,{"$error":"#DIV/0!"},{"$error":"#DIV/0!"}]
[null,9,{"$f":"(0+H288*B304/B294)","v":{"$error":"#DIV/0!"}},{"$error":"#DIV/0!"},{"$f":"COS(C304) * D290  +D288","v":{"$error":"#DIV/0!"}},{"$f":"IF(ABS(D290^2-(E304-D288)^2)<0.00001,D289+0,D289+SQRT(D290^2-(E304-D288)^2))","v":{"$error":"#DIV/0!"}},null,null,null,null,null,null,null,null,null,null,null,null,null,{"$error":"#DIV/0!"},{"$error":"#DIV/0!"}]
[null,10,{"$f":"(0+H288*B305/B294)","v":{"$error":"#DIV/0!"}},{"$error":"#DIV/0!"},{"$f":"COS(C305) * D290  +D288","v":{"$error":"#DIV/0!"}},{"$f":"IF(ABS(D290^2-(E305-D288)^2)<0.00001,D289+0,D289+SQRT(D290^2-(E305-D288)^2))","v":{"$error":"#DIV/0!"}},null,null,null,null,null,null,null,null,null,null,null,null,null,{"$error":"#DIV/0!"},{"$error":"#DIV/0!"}]
[null,11,{"$f":"(0+H288*B306/B294)","v":{"$error":"#DIV/0!"}},{"$error":"#DIV/0!"},{"$f":"COS(C306) * D290  +D288","v":{"$error":"#DIV/0!"}},{"$f":"IF(ABS(D290^2-(E306-D288)^2)<0.00001,D289+0,D289+SQRT(D290^2-(E306-D288)^2))","v":{"$error":"#DIV/0!"}},null,null,null,null,null,null,null,null,null,null,null,null,null,{"$error":"#DIV/0!"},{"$error":"#DIV/0!"}]
[null,12,{"$f":"(0+H288*B307/B294)","v":{"$error":"#DIV/0!"}},{"$error":"#DIV/0!"},{"$f":"COS(C307) * D290  +D288","v":{"$error":"#DIV/0!"}},{"$f":"IF(ABS(D290^2-(E307-D288)^2)<0.00001,D289+0,D289+SQRT(D290^2-(E307-D288)^2))","v":{"$error":"#DIV/0!"}},null,null,null,null,null,null,null,null,null,null,null,null,null,{"$error":"#DIV/0!"},{"$error":"#DIV/0!"}]
[]
[null,null,null,null,null,null,null,null,null,null,null,null,null,null,null,null,null,null,null,{"$f":"-T307","v":{"$error":"#DIV/0!"}},{"$f":"U307","v":{"$error":"#DIV/0!"}}]
[null,null,null,null,null,null,null,null,null,null,null,null,null,null,null,null,null,null,null,{"$f":"-T306","v":{"$error":"#DIV/0!"}},{"$f":"U306","v":{"$error":"#DIV/0!"}}]
[null,null,null,null,null,null,null,null,null,null,null,null,null,null,null,null,null,null,null,{"$f":"-T305","v":{"$error":"#DIV/0!"}},{"$f":"U305","v":{"$error":"#DIV/0!"}}]
[null,null,null,null,null,null,null,null,null,null,null,null,null,null,null,null,null,null,null,{"$f":"-T304","v":{"$error":"#DIV/0!"}},{"$f":"U304","v":{"$error":"#DIV/0!"}}]
[null,null,null,null,null,null,null,null,null,null,null,null,null,null,null,null,null,null,null,{"$f":"-T303","v":{"$error":"#DIV/0!"}},{"$f":"U303","v":{"$error":"#DIV/0!"}}]
[null,null,null,null,null,null,null,null,null,null,null,null,null,null,null,null,null,null,null,{"$f":"-T302","v":{"$error":"#DIV/0!"}},{"$f":"U302","v":{"$error":"#DIV/0!"}}]
[null,null,null,null,null,null,null,null,null,null,null,null,null,null,null,null,null,null,null,{"$f":"-T301","v":{"$error":"#DIV/0!"}},{"$f":"U301","v":{"$error":"#DIV/0!"}}]
[null,null,null,null,null,null,null,null,null,null,null,null,null,null,null,null,null,null,null,{"$f":"-T300","v":{"$error":"#DIV/0!"}},{"$f":"U300","v":{"$error":"#DIV/0!"}}]
[null,null,null,null,null,null,null,null,null,null,null,null,null,null,null,null,null,null,null,{"$f":"-T299","v":{"$error":"#DIV/0!"}},{"$f":"U299","v":{"$error":"#DIV/0!"}}]
[null,null,null,null,null,null,null,null,null,null,null,null,null,null,null,null,null,null,null,{"$f":"-T298","v":{"$error":"#DIV/0!"}},{"$f":"U298","v":{"$error":"#DIV/0!"}}]
[null,null,null,null,null,null,null,null,null,null,null,null,null,null,null,null,null,null,null,{"$f":"-T297","v":{"$error":"#DIV/0!"}},{"$f":"U297","v":{"$error":"#DIV/0!"}}]
[null,null,null,null,null,null,null,null,null,null,null,null,null,null,null,null,null,null,null,{"$f":"-T296","v":{"$error":"#DIV/0!"}},{"$f":"U296","v":{"$error":"#DIV/0!"}}]
[null,null,null,null,null,null,null,null,null,null,null,null,null,null,null,null,null,null,null,{"$f":"-T295","v":{"$error":"#DIV/0!"}},{"$f":"U295","v":{"$error":"#DIV/0!"}}]
[]
[null,null,null,null,null,null,null,null,null,null,null,null,null,null,null,null,null,null,null,{"$f":"T295","v":{"$error":"#DIV/0!"}},{"$f":"U295","v":{"$error":"#DIV/0!"}}]
[null,null,"Graph data --->",null,null,null,null,null,null,null,null,null,null,null,null,null,null,null,null,{"$f":"T321","v":{"$error":"#DIV/0!"}},{"$f":"U321","v":{"$error":"#DIV/0!"}}]
[]
[null,"Core 2 Inside Face"]
[null,"Knife number",null,{"$f":"D280","v":"None"}]
[null,null,{"$f":"C281","v":"Dist from FO blank ="},{"$f":"D281","v":0},"in   =","f"]
[null,null,{"$f":"C282","v":"Dist from CL of bed ="},{"$f":"D282","v":0},"in   =","b"]
[]
[null,null,"(x-h)^2  +  (y-k)^2  =  r^2",null,null,"y = k   +/-  sqrt[ r^2  -  (x-h)^2  ] "]
[null,null,"h =",{"$f":"D329","v":0},null,null,"a =",{"$f":"ASIN(D328/D334)","v":{"$error":"#DIV/0!"}},"rad =",{"$f":"180/PI()*H332","v":{"$error":"#DIV/0!"}},"deg"]
[null,null,"k =",{"$f":"$D$23-D328","v":{"$error":"#DIV/0!"}},null,null,"b =",{"$f":"IF(D329<0, -ASIN(D329/D334), 0)","v":0},"rad =",{"$f":"180/PI()*H333","v":0},"deg"]
[null,null,"r =",{"$f":"VLOOKUP(D327,Lookup!$B$8:$D$12,2)","v":0},null,null,"q =",{"$f":"PI()/2-H332-H333","v":{"$error":"#DIV/0!"}},"rad =",{"$f":"180/PI()*H334","v":{"$error":"#DIV/0!"}},"deg"]
[]
[null,"Core 2 Inside Face",null,null,null,null,null,null,null,null,null,null,null,null,null,null,null,null,null,"Graph of Core 2 IF"]
[null,"Angle Increment"]
[null,{"$f":"MAX(B340:B351)","v":12},"rad","deg","X","Y",null,null,null,null,null,null,null,null,null,null,null,null,null,"X","Y"]
[null,0,{"$f":"H332 + H334*B339/B338","v":{"$error":"#DIV/0!"}},{"$f":"180/PI()*C339","v":{"$error":"#DIV/0!"}},{"$f":"COS(C339) * D334  +D332","v":{"$error":"#DIV/0!"}},{"$f":"IF(ABS(D334^2-(E339-D332)^2)<0.00001,D333+0,D333+SQRT(D334^2-(E339-D332)^2))","v":{"$error":"#DIV/0!"}},null,null,null,null,null,null,null,null,null,null,null,null,null,{"$f":"E339","v":{"$error":"#DIV/0!"}},{"$f":"F339","v":{"$error":"#DIV/0!"}}]
[null,1,{"$f":"H332 + H334*B340/B338","v":{"$error":"#DIV/0!"}},{"$f":"180/PI()*C340","v":{"$error":"#DIV/0!"}},{"$f":"COS(C340) * D334  +D332","v":{"$error":"#DIV/0!"}},{"$f":"IF(ABS(D334^2-(E340-D332)^2)<0.00001,D333+0,D333+SQRT(D334^2-(E340-D332)^2))","v":{"$error":"#DIV/0!"}},null,null,null,null,null,null,null,null,null,null,null,null,null,{"$error":"#DIV/0!"},{"$error":"#DIV/0!"}]
[null,2,{"$f":"H332 + H334*B341/B338","v":{"$error":"#DIV/0!"}},{"$error":"#DIV/0!"},{"$f":"COS(C341) * D334  +D332","v":{"$error":"#DIV/0!"}},{"$f":"IF(ABS(D334^2-(E341-D332)^2)<0.00001,D333+0,D333+SQRT(D334^2-(E341-D332)^2))","v":{"$error":"#DIV/0!"}},null,null,null,null,null,null,null,null,null,null,null,null,null,{"$error":"#DIV/0!"},{"$error":"#DIV/0!"}]
[null,3,{"$f":"H332 + H334*B342/B338","v":{"$error":"#DIV/0!"}},{"$error":"#DIV/0!"},{"$f":"COS(C342) * D334  +D332","v":{"$error":"#DIV/0!"}},{"$f":"IF(ABS(D334^2-(E342-D332)^2)<0.00001,D333+0,D333+SQRT(D334^2-(E342-D332)^2))","v":{"$error":"#DIV/0!"}},null,null,null,null,null,null,null,null,null,null,null,null,null,{"$error":"#DIV/0!"},{"$error":"#DIV/0!"}]
[null,4,{"$f":"H332 + H334*B343/B338","v":{"$error":"#DIV/0!"}},{"$error":"#DIV/0!"},{"$f":"COS(C343) * D334  +D332","v":{"$error":"#DIV/0!"}},{"$f":"IF(ABS(D334^2-(E343-D332)^2)<0.00001,D333+0,D333+SQRT(D334^2-(E343-D332)^2))","v":{"$error":"#DIV/0!"}},null,null,null,null,null,null,null,null,null,null,null,null,null,{"$error":"#DIV/0!"},{"$error":"#DIV/0!"}]
[null,5,{"$f":"H332 + H334*B344/B338","v":{"$error":"#DIV/0!"}},{"$error":"#DIV/0!"},{"$f":"COS(C344) * D334  +D332","v":{"$error":"#DIV/0!"}},{"$f":"IF(ABS(D334^2-(E344-D332)^2)<0.00001,D333+0,D333+SQRT(D334^2-(E344-D332)^2))","v":{"$error":"#DIV/0!"}},null,null,null,null,null,null,null,null,null,null,null,null,null,{"$error":"#DIV/0!"},{"$error":"#DIV/0!"}]
[null,6,{"$f":"H332 + H334*B345/B338","v":{"$error":"#DIV/0!"}},{"$error":"#DIV/0!"},{"$f":"COS(C345) * D334  +D332","v":{"$error":"#DIV/0!"}},{"$f":"IF(ABS(D334^2-(E345-D332)^2)<0.00001,D333+0,D333+SQRT(D334^2-(E345-D332)^2))","v":{"$error":"#DIV/0!"}},null,null,null,null,null,null,null,null,null,null,null,null,null,{"$error":"#DIV/0!"},{"$error":"#DIV/0!"}]
[null,7,{"$f":"H332 + H334*B346/B338","v":{"$error":"#DIV/0!"}},{"$error":"#DIV/0!"},{"$f":"COS(C346) * D334  +D332","v":{"$error":"#DIV/0!"}},{"$f":"IF(ABS(D334^2-(E346-D332)^2)<0.00001,D333+0,D333+SQRT(D334^2-(E346-D332)^2))","v":{"$error":"#DIV/0!"}},null,null,null,null,null,null,null,null,null,null,null,null,null,{"$error":"#DIV/0!"},{"$error":"#DIV/0!"}]
[null,8,{"$f":"H332 + H334*B347/B338","v":{"$error":"#DIV/0!"}},{"$error":"#DIV/0!"},{"$f":"COS(C347) * D334  +D332","v":{"$error":"#DIV/0!"}},{"$f":"IF(ABS(D334^2-(E347-D332)^2)<0.00001,D333+0,D333+SQRT(D334^2-(E347-D332)^2))","v":{"$error":"#DIV/0!"}},null,null,null,null,null,null,null,null,null,null,null,null,null,{"$error":"#DIV/0!"},{"$error":"#DIV/0!"}]
[null,9,{"$f":"H332 + H334*B348/B338","v":{"$error":"#DIV/0!"}},{"$error":"#DIV/0!"},{"$f":"COS(C348) * D334  +D332","v":{"$error":"#DIV/0!"}},{"$f":"IF(ABS(D334^2-(E348-D332)^2)<0.00001,D333+0,D333+SQRT(D334^2-(E348-D332)^2))","v":{"$error":"#DIV/0!"}},null,null,null,null,null,null,null,null,null,null,null,null,null,{"$error":"#DIV/0!"},{"$error":"#DIV/0!"}]
[null,10,{"$f":"H332 + H334*B349/B338","v":{"$error":"#DIV/0!"}},{"$error":"#DIV/0!"},{"$f":"COS(C349) * D334  +D332","v":{"$error":"#DIV/0!"}},{"$f":"IF(ABS(D334^2-(E349-D332)^2)<0.00001,D333+0,D333+SQRT(D334^2-(E349-D332)^2))","v":{"$error":"#DIV/0!"}},null,null,null,null,null,null,null,null,null,null,null,null,null,{"$error":"#DIV/0!"},{"$error":"#DIV/0!"}]
[null,11,{"$f":"H332 + H334*B350/B338","v":{"$error":"#DIV/0!"}},{"$error":"#DIV/0!"},{"$f":"COS(C350) * D334  +D332","v":{"$error":"#DIV/0!"}},{"$f":"IF(ABS(D334^2-(E350-D332)^2)<0.00001,D333+0,D333+SQRT(D334^2-(E350-D332)^2))","v":{"$error":"#DIV/0!"}},null,null,null,null,null,null,null,null,null,null,null,null,null,{"$error":"#DIV/0!"},{"$error":"#DIV/0!"}]
[null,12,{"$f":"H332 + H334*B351/B338","v":{"$error":"#DIV/0!"}},{"$error":"#DIV/0!"},{"$f":"COS(C351) * D334  +D332","v":{"$error":"#DIV/0!"}},{"$f":"IF(ABS(D334^2-(E351-D332)^2)<0.00001,D333+0,D333+SQRT(D334^2-(E351-D332)^2))","v":{"$error":"#DIV/0!"}},null,null,null,null,null,null,null,null,null,null,null,null,null,{"$error":"#DIV/0!"},{"$error":"#DIV/0!"}]
[null,null,null,null,null,null,null,null,null,null,null,null,null,null,null,null,null,null,null,{"$f":"-T350","v":{"$error":"#DIV/0!"}},{"$f":"U350","v":{"$error":"#DIV/0!"}}]
[null,null,null,null,null,null,null,null,null,null,null,null,null,null,null,null,null,null,null,{"$f":"-T349","v":{"$error":"#DIV/0!"}},{"$f":"U349","v":{"$error":"#DIV/0!"}}]
[null,null,null,null,null,null,null,null,null,null,null,null,null,null,null,null,null,null,null,{"$f":"-T348","v":{"$error":"#DIV/0!"}},{"$f":"U348","v":{"$error":"#DIV/0!"}}]
[null,null,null,null,null,null,null,null,null,null,null,null,null,null,null,null,null,null,null,{"$f":"-T347","v":{"$error":"#DIV/0!"}},{"$f":"U347","v":{"$error":"#DIV/0!"}}]
[null,null,null,null,null,null,null,null,null,null,null,null,null,null,null,null,null,null,null,{"$f":"-T346","v":{"$error":"#DIV/0!"}},{"$f":"U346","v":{"$error":"#DIV/0!"}}]
[null,null,null,null,null,null,null,null,null,null,null,null,null,null,null,null,null,null,null,{"$f":"-T345","v":{"$error":"#DIV/0!"}},{"$f":"U345","v":{"$error":"#DIV/0!"}}]
[null,null,null,null,null,null,null,null,null,null,null,null,null,null,null,null,null,null,null,{"$f":"-T344","v":{"$error":"#DIV/0!"}},{"$f":"U344","v":{"$error":"#DIV/0!"}}]
[null,null,null,null,null,null,null,null,null,null,null,null,null,null,null,null,null,null,null,{"$f":"-T343","v":{"$error":"#DIV/0!"}},{"$f":"U343","v":{"$error":"#DIV/0!"}}]
[null,null,null,null,null,null,null,null,null,null,null,null,null,null,null,null,null,null,null,{"$f":"-T342","v":{"$error":"#DIV/0!"}},{"$f":"U342","v":{"$error":"#DIV/0!"}}]
[null,null,null,null,null,null,null,null,null,null,null,null,null,null,null,null,null,null,null,{"$f":"-T341","v":{"$error":"#DIV/0!"}},{"$f":"U341","v":{"$error":"#DIV/0!"}}]
[null,null,null,null,null,null,null,null,null,null,null,null,null,null,null,null,null,null,null,{"$f":"-T340","v":{"$error":"#DIV/0!"}},{"$f":"U340","v":{"$error":"#DIV/0!"}}]
[null,null,"Graph data --->",null,null,null,null,null,null,null,null,null,null,null,null,null,null,null,null,{"$f":"-T339","v":{"$error":"#DIV/0!"}},{"$f":"U339","v":{"$error":"#DIV/0!"}}]
[]
[]
[null,"Core 2 Outside Face"]
[null,"Knife number",null,{"$f":"D327","v":"None"}]
[null,null,{"$f":"C281","v":"Dist from FO blank ="},{"$f":"D281","v":0},{"$f":"E328","v":"in   ="},{"$f":"F328","v":"f"}]
[null,null,{"$f":"C282","v":"Dist from CL of bed ="},{"$f":"D282","v":0},{"$f":"E329","v":"in   ="},{"$f":"F329","v":"b"}]
[]
[null,null,"(x-h)^2  +  (y-k)^2  =  r^2",null,null,"y = k   +/-  sqrt[ r^2  -  (x-h)^2  ] "]
[]
[null,null,"h =",{"$f":"D369","v":0},null,null,"a =",{"$f":"ASIN(D368/D375)","v":{"$error":"#DIV/0!"}},"rad =",{"$f":"180/PI()*H373","v":{"$error":"#DIV/0!"}},"deg"]
[null,null,"k =",{"$f":"$D$23-D368","v":{"$error":"#DIV/0!"}},null,null,"b =",{"$f":"IF(D369<0, -ASIN(D369/D375), 0)","v":0},"rad =",{"$f":"180/PI()*H374","v":0},"deg"]
[null,null,"r =",{"$f":"VLOOKUP(D367,Lookup!$B$8:$D$12,3)","v":0},null,null,"q =",{"$f":"PI()/2-H373-H374","v":{"$error":"#DIV/0!"}},"rad =",{"$f":"180/PI()*H375","v":{"$error":"#DIV/0!"}},"deg"]
[]
[null,"Core 2 Outside Face",null,null,null,null,null,null,null,null,null,null,null,null,null,null,null,null,null,"Graph of Core 2 OF"]
[null,"Angle Increment"]
[null,{"$f":"MAX(B381:B392)","v":12},"rad","deg","X","Y",null,null,null,null,null,null,null,null,null,null,null,null,null,"X","Y"]
[null,0,{"$f":"H373 + H375*B380/B379","v":{"$error":"#DIV/0!"}},{"$f":"180/PI()*C380","v":{"$error":"#DIV/0!"}},{"$f":"COS(C380) * D375  +D373","v":{"$error":"#DIV/0!"}},{"$f":"IF(ABS(D375^2-(E380-D373)^2)<0.00001,D374+0,D374+SQRT(D375^2-(E380-D373)^2))","v":{"$error":"#DIV/0!"}},null,null,null,null,null,null,null,null,null,null,null,null,null,{"$f":"E380","v":{"$error":"#DIV/0!"}},{"$f":"F380","v":{"$error":"#DIV/0!"}}]
[null,1,{"$f":"H373 + H375*B381/B379","v":{"$error":"#DIV/0!"}},{"$f":"180/PI()*C381","v":{"$error":"#DIV/0!"}},{"$f":"COS(C381) * D375  +D373","v":{"$error":"#DIV/0!"}},{"$f":"IF(ABS(D375^2-(E381-D373)^2)<0.00001,D374+0,D374+SQRT(D375^2-(E381-D373)^2))","v":{"$error":"#DIV/0!"}},null,null,null,null,null,null,null,null,null,null,null,null,null,{"$error":"#DIV/0!"},{"$error":"#DIV/0!"}]
[null,2,{"$f":"H373 + H375*B382/B379","v":{"$error":"#DIV/0!"}},{"$error":"#DIV/0!"},{"$f":"COS(C382) * D375  +D373","v":{"$error":"#DIV/0!"}},{"$f":"IF(ABS(D375^2-(E382-D373)^2)<0.00001,D374+0,D374+SQRT(D375^2-(E382-D373)^2))","v":{"$error":"#DIV/0!"}},null,null,null,null,null,null,null,null,null,null,null,null,null,{"$error":"#DIV/0!"},{"$error":"#DIV/0!"}]
[null,3,{"$f":"H373 + H375*B383/B379","v":{"$error":"#DIV/0!"}},{"$error":"#DIV/0!"},{"$f":"COS(C383) * D375  +D373","v":{"$error":"#DIV/0!"}},{"$f":"IF(ABS(D375^2-(E383-D373)^2)<0.00001,D374+0,D374+SQRT(D375^2-(E383-D373)^2))","v":{"$error":"#DIV/0!"}},null,null,null,null,null,null,null,null,null,null,null,null,null,{"$error":"#DIV/0!"},{"$error":"#DIV/0!"}]
[null,4,{"$f":"H373 + H375*B384/B379","v":{"$error":"#DIV/0!"}},{"$error":"#DIV/0!"},{"$f":"COS(C384) * D375  +D373","v":{"$error":"#DIV/0!"}},{"$f":"IF(ABS(D375^2-(E384-D373)^2)<0.00001,D374+0,D374+SQRT(D375^2-(E384-D373)^2))","v":{"$error":"#DIV/0!"}},null,null,null,null,null,null,null,null,null,null,null,null,null,{"$error":"#DIV/0!"},{"$error":"#DIV/0!"}]
[null,5,{"$f":"H373 + H375*B385/B379","v":{"$error":"#DIV/0!"}},{"$error":"#DIV/0!"},{"$f":"COS(C385) * D375  +D373","v":{"$error":"#DIV/0!"}},{"$f":"IF(ABS(D375^2-(E385-D373)^2)<0.00001,D374+0,D374+SQRT(D375^2-(E385-D373)^2))","v":{"$error":"#DIV/0!"}},null,null,null,null,null,null,null,null,null,null,null,null,null,{"$error":"#DIV/0!"},{"$error":"#DIV/0!"}]
[null,6,{"$f":"H373 + H375*B386/B379","v":{"$error":"#DIV/0!"}},{"$error":"#DIV/0!"},{"$f":"COS(C386) * D375  +D373","v":{"$error":"#DIV/0!"}},{"$f":"IF(ABS(D375^2-(E386-D373)^2)<0.00001,D374+0,D374+SQRT(D375^2-(E386-D373)^2))","v":{"$error":"#DIV/0!"}},null,null,null,null,null,null,null,null,null,null,null,null,null,{"$error":"#DIV/0!"},{"$error":"#DIV/0!"}]
[null,7,{"$f":"H373 + H375*B387/B379","v":{"$error":"#DIV/0!"}},{"$error":"#DIV/0!"},{"$f":"COS(C387) * D375  +D373","v":{"$error":"#DIV/0!"}},{"$f":"IF(ABS(D375^2-(E387-D373)^2)<0.00001,D374+0,D374+SQRT(D375^2-(E387-D373)^2))","v":{"$error":"#DIV/0!"}},null,null,null,null,null,null,null,null,null,null,null,null,null,{"$error":"#DIV/0!"},{"$error":"#DIV/0!"}]
[null,8,{"$f":"H373 + H375*B388/B379","v":{"$error":"#DIV/0!"}},{"$error":"#DIV/0!"},{"$f":"COS(C388) * D375  +D373","v":{"$error":"#DIV/0!"}},{"$f":"IF(ABS(D375^2-(E388-D373)^2)<0.00001,D374+0,D374+SQRT(D375^2-(E388-D373)^2))","v":{"$error":"#DIV/0!"}},null,null,null,null,null,null,null,null,null,null,null,null,null,{"$error":"#DIV/0!"},{"$error":"#DIV/0!"}]
[null,9,{"$f":"H373 + H375*B389/B379","v":{"$error":"#DIV/0!"}},{"$error":"#DIV/0!"},{"$f":"COS(C389) * D375  +D373","v":{"$error":"#DIV/0!"}},{"$f":"IF(ABS(D375^2-(E389-D373)^2)<0.00001,D374+0,D374+SQRT(D375^2-(E389-D373)^2))","v":{"$error":"#DIV/0!"}},null,null,null,null,null,null,null,null,null,null,null,null,null,{"$error":"#DIV/0!"},{"$error":"#DIV/0!"}]
[null,10,{"$f":"H373 + H375*B390/B379","v":{"$error":"#DIV/0!"}},{"$error":"#DIV/0!"},{"$f":"COS(C390) * D375  +D373","v":{"$error":"#DIV/0!"}},{"$f":"IF(ABS(D375^2-(E390-D373)^2)<0.00001,D374+0,D374+SQRT(D375^2-(E390-D373)^2))","v":{"$error":"#DIV/0!"}},null,null,null,null,null,null,null,null,null,null,null,null,null,{"$error":"#DIV/0!"},{"$error":"#DIV/0!"}]
[null,11,{"$f":"H373 + H375*B391/B379","v":{"$error":"#DIV/0!"}},{"$error":"#DIV/0!"},{"$f":"COS(C391) * D375  +D373","v":{"$error":"#DIV/0!"}},{"$f":"IF(ABS(D375^2-(E391-D373)^2)<0.00001,D374+0,D374+SQRT(D375^2-(E391-D373)^2))","v":{"$error":"#DIV/0!"}},null,null,null,null,null,null,null,null,null,null,null,null,null,{"$error":"#DIV/0!"},{"$error":"#DIV/0!"}]
[null,12,{"$f":"H373 + H375*B392/B379","v":{"$error":"#DIV/0!"}},{"$error":"#DIV/0!"},{"$f":"COS(C392) * D375  +D373","v":{"$error":"#DIV/0!"}},{"$f":"IF(ABS(D375^2-(E392-D373)^2)<0.00001,D374+0,D374+SQRT(D375^2-(E392-D373)^2))","v":{"$error":"#DIV/0!"}},null,null,null,null,null,null,null,null,null,null,null,null,null,{"$error":"#DIV/0!"},{"$error":"#DIV/0!"}]
[null,null,null,null,null,null,null,null,null,null,null,null,null,null,null,null,null,null,null,{"$f":"-T391","v":{"$error":"#DIV/0!"}},{"$f":"U391","v":{"$error":"#DIV/0!"}}]
[null,null,null,null,null,null,null,null,null,null,null,null,null,null,null,null,null,null,null,{"$f":"-T390","v":{"$error":"#DIV/0!"}},{"$f":"U390","v":{"$error":"#DIV/0!"}}]
[null,null,null,null,null,null,null,null,null,null,null,null,null,null,null,null,null,null,null,{"$f":"-T389","v":{"$error":"#DIV/0!"}},{"$f":"U389","v":{"$error":"#DIV/0!"}}]
[null,null,null,null,null,null,null,null,null,null,null,null,null,null,null,null,null,null,null,{"$f":"-T388","v":{"$error":"#DIV/0!"}},{"$f":"U388","v":{"$error":"#DIV/0!"}}]
[null,null,null,null,null,null,null,null,null,null,null,null,null,null,null,null,null,null,null,{"$f":"-T387","v":{"$error":"#DIV/0!"}},{"$f":"U387","v":{"$error":"#DIV/0!"}}]
[null,null,null,null,null,null,null,null,null,null,null,null,null,null,null,null,null,null,null,{"$f":"-T386","v":{"$error":"#DIV/0!"}},{"$f":"U386","v":{"$error":"#DIV/0!"}}]
[null,null,null,null,null,null,null,null,null,null,null,null,null,null,null,null,null,null,null,{"$f":"-T385","v":{"$error":"#DIV/0!"}},{"$f":"U385","v":{"$error":"#DIV/0!"}}]
[null,null,null,null,null,null,null,null,null,null,null,null,null,null,null,null,null,null,null,{"$f":"-T384","v":{"$error":"#DIV/0!"}},{"$f":"U384","v":{"$error":"#DIV/0!"}}]
[null,null,null,null,null,null,null,null,null,null,null,null,null,null,null,null,null,null,null,{"$f":"-T383","v":{"$error":"#DIV/0!"}},{"$f":"U383","v":{"$error":"#DIV/0!"}}]
[null,null,null,null,null,null,null,null,null,null,null,null,null,null,null,null,null,null,null,{"$f":"-T382","v":{"$error":"#DIV/0!"}},{"$f":"U382","v":{"$error":"#DIV/0!"}}]
[null,null,null,null,null,null,null,null,null,null,null,null,null,null,null,null,null,null,null,{"$f":"-T381","v":{"$error":"#DIV/0!"}},{"$f":"U381","v":{"$error":"#DIV/0!"}}]
[null,null,"Graph data --->",null,null,null,null,null,null,null,null,null,null,null,null,null,null,null,null,{"$f":"-T380","v":{"$error":"#DIV/0!"}},{"$f":"U380","v":{"$error":"#DIV/0!"}}]
[]
[]
[null,"Determine distance to from",null,null,"Core 2 OF","to","Core 1 IF"]
[]
[null,"For",{"$f":"G407","v":"Core 1 IF"}]
[null,"X1 =",{"$f":"D103","v":0},"h =",{"$f":"D107","v":0},null,"quadA =","m^2+1",null,null,"For derivation, see https://math.stackexchange.com/questions/228841/how-do-i-calculate-the-intersections-of-a-straight-line-and-a-circle",null,null," "]
[null,"Y1 =",{"$f":"G103","v":{"$error":"#DIV/0!"}},"k =",{"$f":"D108","v":{"$error":"#DIV/0!"}},null,"quadB =","2(mb−mk−h)"]
[null,null,null,"r =",{"$f":"D153","v":0},null,"quadC =","k^2−r^2+h^2−2bk+b^2"]
[]
[null,"Line from (X1, Y1) to (X2, Y2)",null,null,null,null,null,null,null,null,null,null,"Point on ",{"$f":"G407","v":"Core 1 IF"},null,"Distance",null,null,null,{"$f":"\"Distance Rays from \"&E407&\" to \"&G407","v":"Distance Rays from Core 2 OF to Core 1 IF"}]
[null,"X2","Y2","m","b",null,"quadA","quadB","quadC","Root1","Root2",null,"X","Y"]
[null,{"$f":"E380","v":{"$error":"#DIV/0!"}},{"$f":"F380","v":{"$error":"#DIV/0!"}},{"$f":"IF( (B416-C410)=0, 1000000000000, IF(ABS(C416-C411)<0.00000001, 0,   (C416-C411) / (B416-C410)))","v":{"$error":"#DIV/0!"}},{"$f":"C416-(D416*B416)","v":{"$error":"#DIV/0!"}},null,{"$f":"D416^2 + 1","v":{"$error":"#DIV/0!"}},{"$f":"2*(D416*E416 - D416*E411 - E410)","v":{"$error":"#DIV/0!"}},{"$f":"E411^2 - E412^2 + E410^2 - 2*E416*E411 + E416^2","v":{"$error":"#DIV/0!"}},{"$f":"IF(ABS(H416^2 - 4*G416*I416)<0.000001, 0, (-H416 + (H416^2 - 4*G416*I416)^0.5)/(2*G416))","v":{"$error":"#DIV/0!"}},{"$f":"IF(ABS(H416^2 - 4*G416*I416)<0.000001, 0, (-H416 - (H416^2 - 4*G416*I416)^0.5)/(2*G416))","v":{"$error":"#DIV/0!"}},null,{"$f":"IF(D416>=0, J416, K416)","v":{"$error":"#DIV/0!"}},{"$f":"D416*M416 + E416","v":{"$error":"#DIV/0!"}},null,{"$f":"SQRT((B416-M416)^2 + (C416-N416)^2)","v":{"$error":"#DIV/0!"}},null,null,null,{"$f":"C410","v":0},{"$f":"C411","v":{"$error":"#DIV/0!"}}]
[null,{"$error":"#DIV/0!"},{"$error":"#DIV/0!"},{"$f":"IF( (B417-C410)=0, 1000000000000, IF(ABS(C417-C411)<0.00000001, 0,   (C417-C411) / (B417-C410)))","v":{"$error":"#DIV/0!"}},{"$f":"C417-(D417*B417)","v":{"$error":"#DIV/0!"}},null,{"$f":"D417^2 + 1","v":{"$error":"#DIV/0!"}},{"$f":"2*(D417*E417 - D417*E411 - E410)","v":{"$error":"#DIV/0!"}},{"$f":"E411^2 - E412^2 + E410^2 - 2*E417*E411 + E417^2","v":{"$error":"#DIV/0!"}},{"$f":"IF(ABS(H417^2 - 4*G417*I417)<0.000001, 0, (-H417 + (H417^2 - 4*G417*I417)^0.5)/(2*G417))","v":{"$error":"#DIV/0!"}},{"$f":"IF(ABS(H417^2 - 4*G417*I417)<0.000001, 0, (-H417 - (H417^2 - 4*G417*I417)^0.5)/(2*G417))","v":{"$error":"#DIV/0!"}},null,{"$f":"IF(D417>=0, J417, K417)","v":{"$error":"#DIV/0!"}},{"$f":"D417*M417 + E417","v":{"$error":"#DIV/0!"}},null,{"$f":"SQRT((B417-M417)^2 + (C417-N417)^2)","v":{"$error":"#DIV/0!"}},null,null,null,{"$f":"B416","v":{"$error":"#DIV/0!"}},{"$f":"C416","v":{"$error":"#DIV/0!"}}]
[null,{"$error":"#DIV/0!"},{"$error":"#DIV/0!"},{"$f":"IF( (B418-C410)=0, 1000000000000, IF(ABS(C418-C411)<0.00000001, 0,   (C418-C411) / (B418-C410)))","v":{"$error":"#DIV/0!"}},{"$error":"#DIV/0!"},null,{"$error":"#DIV/0!"},{"$f":"2*(D418*E418 - D418*E411 - E410)","v":{"$error":"#DIV/0!"}},{"$f":"E411^2 - E412^2 + E410^2 - 2*E418*E411 + E418^2","v":{"$error":"#DIV/0!"}},{"$error":"#DIV/0!"},{"$error":"#DIV/0!"},null,{"$error":"#DIV/0!"},{"$error":"#DIV/0!"},null,{"$error":"#DIV/0!"},null,null,null,{"$f":"M416","v":{"$error":"#DIV/0!"}},{"$f":"N416","v":{"$error":"#DIV/0!"}}]
[null,{"$error":"#DIV/0!"},{"$error":"#DIV/0!"},{"$f":"IF( (B419-C410)=0, 1000000000000, IF(ABS(C419-C411)<0.00000001, 0,   (C419-C411) / (B419-C410)))","v":{"$error":"#DIV/0!"}},{"$error":"#DIV/0!"},null,{"$error":"#DIV/0!"},{"$f":"2*(D419*E419 - D419*E411 - E410)","v":{"$error":"#DIV/0!"}},{"$f":"E411^2 - E412^2 + E410^2 - 2*E419*E411 + E419^2","v":{"$error":"#DIV/0!"}},{"$error":"#DIV/0!"},{"$error":"#DIV/0!"},null,{"$error":"#DIV/0!"},{"$error":"#DIV/0!"},null,{"$error":"#DIV/0!"},null,null,null,{"$f":"C410","v":0},{"$f":"C411","v":{"$error":"#DIV/0!"}}]
[null,{"$error":"#DIV/0!"},{"$error":"#DIV/0!"},{"$f":"IF( (B420-C410)=0, 1000000000000, IF(ABS(C420-C411)<0.00000001, 0,   (C420-C411) / (B420-C410)))","v":{"$error":"#DIV/0!"}},{"$error":"#DIV/0!"},null,{"$error":"#DIV/0!"},{"$f":"2*(D420*E420 - D420*E411 - E410)","v":{"$error":"#DIV/0!"}},{"$f":"E411^2 - E412^2 + E410^2 - 2*E420*E411 + E420^2","v":{"$error":"#DIV/0!"}},{"$error":"#DIV/0!"},{"$error":"#DIV/0!"},null,{"$error":"#DIV/0!"},{"$error":"#DIV/0!"},null,{"$error":"#DIV/0!"},null,null,null,{"$f":"B417","v":{"$error":"#DIV/0!"}},{"$f":"C417","v":{"$error":"#DIV/0!"}}]
[null,{"$error":"#DIV/0!"},{"$error":"#DIV/0!"},{"$f":"IF( (B421-C410)=0, 1000000000000, IF(ABS(C421-C411)<0.00000001, 0,   (C421-C411) / (B421-C410)))","v":{"$error":"#DIV/0!"}},{"$error":"#DIV/0!"},null,{"$error":"#DIV/0!"},{"$f":"2*(D421*E421 - D421*E411 - E410)","v":{"$error":"#DIV/0!"}},{"$f":"E411^2 - E412^2 + E410^2 - 2*E421*E411 + E421^2","v":{"$error":"#DIV/0!"}},{"$error":"#DIV/0!"},{"$error":"#DIV/0!"},null,{"$error":"#DIV/0!"},{"$error":"#DIV/0!"},null,{"$error":"#DIV/0!"},null,null,null,{"$f":"M417","v":{"$error":"#DIV/0!"}},{"$f":"N417","v":{"$error":"#DIV/0!"}}]
[null,{"$error":"#DIV/0!"},{"$error":"#DIV/0!"},{"$f":"IF( (B422-C410)=0, 1000000000000, IF(ABS(C422-C411)<0.00000001, 0,   (C422-C411) / (B422-C410)))","v":{"$error":"#DIV/0!"}},{"$error":"#DIV/0!"},null,{"$error":"#DIV/0!"},{"$f":"2*(D422*E422 - D422*E411 - E410)","v":{"$error":"#DIV/0!"}},{"$f":"E411^2 - E412^2 + E410^2 - 2*E422*E411 + E422^2","v":{"$error":"#DIV/0!"}},{"$error":"#DIV/0!"},{"$error":"#DIV/0!"},null,{"$error":"#DIV/0!"},{"$error":"#DIV/0!"},null,{"$error":"#DIV/0!"},null,null,null,{"$f":"C410","v":0},{"$f":"C411","v":{"$error":"#DIV/0!"}}]
[null,{"$error":"#DIV/0!"},{"$error":"#DIV/0!"},{"$f":"IF( (B423-C410)=0, 1000000000000, IF(ABS(C423-C411)<0.00000001, 0,   (C423-C411) / (B423-C410)))","v":{"$error":"#DIV/0!"}},{"$error":"#DIV/0!"},null,{"$error":"#DIV/0!"},{"$f":"2*(D423*E423 - D423*E411 - E410)","v":{"$error":"#DIV/0!"}},{"$f":"E411^2 - E412^2 + E410^2 - 2*E423*E411 + E423^2","v":{"$error":"#DIV/0!"}},{"$error":"#DIV/0!"},{"$error":"#DIV/0!"},null,{"$error":"#DIV/0!"},{"$error":"#DIV/0!"},null,{"$error":"#DIV/0!"},null,null,null,{"$f":"B418","v":{"$error":"#DIV/0!"}},{"$f":"C418","v":{"$error":"#DIV/0!"}}]
[null,{"$error":"#DIV/0!"},{"$error":"#DIV/0!"},{"$f":"IF( (B424-C410)=0, 1000000000000, IF(ABS(C424-C411)<0.00000001, 0,   (C424-C411) / (B424-C410)))","v":{"$error":"#DIV/0!"}},{"$error":"#DIV/0!"},null,{"$error":"#DIV/0!"},{"$f":"2*(D424*E424 - D424*E411 - E410)","v":{"$error":"#DIV/0!"}},{"$f":"E411^2 - E412^2 + E410^2 - 2*E424*E411 + E424^2","v":{"$error":"#DIV/0!"}},{"$error":"#DIV/0!"},{"$error":"#DIV/0!"},null,{"$error":"#DIV/0!"},{"$error":"#DIV/0!"},null,{"$error":"#DIV/0!"},null,null,null,{"$f":"M418","v":{"$error":"#DIV/0!"}},{"$f":"N418","v":{"$error":"#DIV/0!"}}]
[null,{"$error":"#DIV/0!"},{"$error":"#DIV/0!"},{"$f":"IF( (B425-C410)=0, 1000000000000, IF(ABS(C425-C411)<0.00000001, 0,   (C425-C411) / (B425-C410)))","v":{"$error":"#DIV/0!"}},{"$error":"#DIV/0!"},null,{"$error":"#DIV/0!"},{"$f":"2*(D425*E425 - D425*E411 - E410)","v":{"$error":"#DIV/0!"}},{"$f":"E411^2 - E412^2 + E410^2 - 2*E425*E411 + E425^2","v":{"$error":"#DIV/0!"}},{"$error":"#DIV/0!"},{"$error":"#DIV/0!"},null,{"$error":"#DIV/0!"},{"$error":"#DIV/0!"},null,{"$error":"#DIV/0!"},null,null,null,{"$f":"C410","v":0},{"$f":"C411","v":{"$error":"#DIV/0!"}}]
[null,{"$error":"#DIV/0!"},{"$error":"#DIV/0!"},{"$f":"IF( (B426-C410)=0, 1000000000000, IF(ABS(C426-C411)<0.00000001, 0,   (C426-C411) / (B426-C410)))","v":{"$error":"#DIV/0!"}},{"$error":"#DIV/0!"},null,{"$error":"#DIV/0!"},{"$f":"2*(D426*E426 - D426*E411 - E410)","v":{"$error":"#DIV/0!"}},{"$f":"E411^2 - E412^2 + E410^2 - 2*E426*E411 + E426^2","v":{"$error":"#DIV/0!"}},{"$error":"#DIV/0!"},{"$error":"#DIV/0!"},null,{"$error":"#DIV/0!"},{"$error":"#DIV/0!"},null,{"$error":"#DIV/0!"},null,null,null,{"$f":"B419","v":{"$error":"#DIV/0!"}},{"$f":"C419","v":{"$error":"#DIV/0!"}}]
[null,{"$error":"#DIV/0!"},{"$error":"#DIV/0!"},{"$f":"IF( (B427-C410)=0, 1000000000000, IF(ABS(C427-C411)<0.00000001, 0,   (C427-C411) / (B427-C410)))","v":{"$error":"#DIV/0!"}},{"$error":"#DIV/0!"},null,{"$error":"#DIV/0!"},{"$f":"2*(D427*E427 - D427*E411 - E410)","v":{"$error":"#DIV/0!"}},{"$f":"E411^2 - E412^2 + E410^2 - 2*E427*E411 + E427^2","v":{"$error":"#DIV/0!"}},{"$error":"#DIV/0!"},{"$error":"#DIV/0!"},null,{"$error":"#DIV/0!"},{"$error":"#DIV/0!"},null,{"$error":"#DIV/0!"},null,null,null,{"$f":"M419","v":{"$error":"#DIV/0!"}},{"$f":"N419","v":{"$error":"#DIV/0!"}}]
[null,0,{"$error":"#DIV/0!"},null,null,null,null,null,null,null,null,null,0,{"$f":"F170","v":{"$error":"#DIV/0!"}},null,{"$f":"IF(ISNUMBER(M428), SQRT((B428-M428)^2 + (C428-N428)^2), \"\")","v":{"$error":"#DIV/0!"}},null,null,null,{"$f":"C410","v":0},{"$f":"C411","v":{"$error":"#DIV/0!"}}]
[null,null,null,null,null,null,null,null,null,null,null,null,null,null,null,null,null,null,null,{"$f":"B420","v":{"$error":"#DIV/0!"}},{"$f":"C420","v":{"$error":"#DIV/0!"}}]
[null,null,null,null,null,null,null,null,null,null,null,null,null,null,"Max =",{"$f":"MAX(P416:P428)","v":{"$error":"#DIV/0!"}},null,null,null,{"$f":"M420","v":{"$error":"#DIV/0!"}},{"$f":"N420","v":{"$error":"#DIV/0!"}}]
[null,null,null,null,null,null,null,null,null,null,null,null,null,null,"Min =",{"$f":"MIN(P416:P428)","v":{"$error":"#DIV/0!"}},null,null,null,{"$f":"C410","v":0},{"$f":"C411","v":{"$error":"#DIV/0!"}}]
[null,null,null,null,null,null,null,null,null,null,null,null,null,null,null,null,null,null,null,{"$f":"B421","v":{"$error":"#DIV/0!"}},{"$f":"C421","v":{"$error":"#DIV/0!"}}]
[null,null,null,null,null,null,null,null,null,null,null,null,null,null,null,null,null,null,null,{"$f":"M421","v":{"$error":"#DIV/0!"}},{"$f":"N421","v":{"$error":"#DIV/0!"}}]
[null,null,null,null,null,null,null,null,null,null,null,null,null,null,null,null,null,null,null,{"$f":"C410","v":0},{"$f":"C411","v":{"$error":"#DIV/0!"}}]
[null,null,null,null,null,null,null,null,null,null,null,null,null,null,null,null,null,null,null,{"$f":"B422","v":{"$error":"#DIV/0!"}},{"$f":"C422","v":{"$error":"#DIV/0!"}}]
[null,null,null,null,null,null,null,null,null,null,null,null,null,null,null,null,null,null,null,{"$f":"M422","v":{"$error":"#DIV/0!"}},{"$f":"N422","v":{"$error":"#DIV/0!"}}]
[null,null,null,null,null,null,null,null,null,null,null,null,null,null,null,null,null,null,null,{"$f":"C410","v":0},{"$f":"C411","v":{"$error":"#DIV/0!"}}]
[null,null,null,null,null,null,null,null,null,null,null,null,null,null,null,null,null,null,null,{"$f":"B423","v":{"$error":"#DIV/0!"}},{"$f":"C423","v":{"$error":"#DIV/0!"}}]
[null,null,null,null,null,null,null,null,null,null,null,null,null,null,null,null,null,null,null,{"$f":"M423","v":{"$error":"#DIV/0!"}},{"$f":"N423","v":{"$error":"#DIV/0!"}}]
[null,null,null,null,null,null,null,null,null,null,null,null,null,null,null,null,null,null,null,{"$f":"C410","v":0},{"$f":"C411","v":{"$error":"#DIV/0!"}}]
[null,null,null,null,null,null,null,null,null,null,null,null,null,null,null,null,null,null,null,{"$f":"B424","v":{"$error":"#DIV/0!"}},{"$f":"C424","v":{"$error":"#DIV/0!"}}]
[null,null,null,null,null,null,null,null,null,null,null,null,null,null,null,null,null,null,null,{"$f":"M424","v":{"$error":"#DIV/0!"}},{"$f":"N424","v":{"$error":"#DIV/0!"}}]
[null,null,null,null,null,null,null,null,null,null,null,null,null,null,null,null,null,null,null,{"$f":"C410","v":0},{"$f":"C411","v":{"$error":"#DIV/0!"}}]
[null,null,null,null,null,null,null,null,null,null,null,null,null,null,null,null,null,null,null,{"$f":"B425","v":{"$error":"#DIV/0!"}},{"$f":"C425","v":{"$error":"#DIV/0!"}}]
[null,null,null,null,null,null,null,null,null,null,null,null,null,null,null,null,null,null,null,{"$f":"M425","v":{"$error":"#DIV/0!"}},{"$f":"N425","v":{"$error":"#DIV/0!"}}]
[null,null,null,null,null,null,null,null,null,null,null,null,null,null,null,null,null,null,null,{"$f":"C410","v":0},{"$f":"C411","v":{"$error":"#DIV/0!"}}]
[null,null,null,null,null,null,null,null,null,null,null,null,null,null,null,null,null,null,null,{"$f":"B426","v":{"$error":"#DIV/0!"}},{"$f":"C426","v":{"$error":"#DIV/0!"}}]
[null,null,null,null,null,null,null,null,null,null,null,null,null,null,null,null,null,null,null,{"$f":"M426","v":{"$error":"#DIV/0!"}},{"$f":"N426","v":{"$error":"#DIV/0!"}}]
[null,null,null,null,null,null,null,null,null,null,null,null,null,null,null,null,null,null,null,{"$f":"C410","v":0},{"$f":"C411","v":{"$error":"#DIV/0!"}}]
[null,null,null,null,null,null,null,null,null,null,null,null,null,null,null,null,null,null,null,{"$f":"B427","v":{"$error":"#DIV/0!"}},{"$f":"C427","v":{"$error":"#DIV/0!"}}]
[null,null,null,null,null,null,null,null,null,null,null,null,null,null,null,null,null,null,null,{"$f":"M427","v":{"$error":"#DIV/0!"}},{"$f":"N427","v":{"$error":"#DIV/0!"}}]
[null,null,null,null,null,null,null,null,null,null,null,null,null,null,null,null,null,null,null,{"$f":"C410","v":0},{"$f":"C411","v":{"$error":"#DIV/0!"}}]
[null,null,null,null,null,null,null,null,null,null,null,null,null,null,null,null,null,null,null,{"$f":"B428","v":0},{"$f":"C428","v":{"$error":"#DIV/0!"}}]
[null,null,null,null,null,null,null,null,null,null,null,null,null,null,null,null,null,null,null,{"$f":"M428","v":0},{"$f":"N428","v":{"$error":"#DIV/0!"}}]
[]
[]
[]
[null,"Core 3"]
[]
[null,"Core 3 Centerline"]
[null,"Knife number",null,{"$f":"'Planning Tool'!D29","v":"None"}]
[null,null,{"$f":"'Planning Tool'!C31","v":"Dist from FO blank ="},{"$f":"'Planning Tool'!D31","v":0},{"$f":"E509","v":"in   ="},{"$f":"F509","v":"f"}]
[null,null,{"$f":"'Planning Tool'!C32","v":"Dist from CL of bed ="},{"$f":"'Planning Tool'!D32","v":0},{"$f":"E510","v":"in   ="},{"$f":"F510","v":"b"}]
[]
[null,"Center at","x =",{"$f":"D463","v":0},null,"y =",{"$f":"$D$23-D462","v":{"$error":"#DIV/0!"}},null,"Bowl Dia =",{"$f":"2*E520","v":{"$error":"#DIV/0!"}},"Depth =",{"$f":"F532-F520","v":{"$error":"#DIV/0!"}}]
[]
[null,null,"(x-h)^2  +  (y-k)^2  =  r^2",null,null,"y = k   +/-  sqrt[ r^2  -  (x-h)^2  ] "]
[]
[null,null,"h =",{"$f":"D463","v":0},null,null,"a =",{"$f":"ASIN(D462/D471)","v":{"$error":"#DIV/0!"}},"rad =",{"$f":"180/PI()*H469","v":{"$error":"#DIV/0!"}},"deg"]
[null,null,"k =",{"$f":"$D$23-D462","v":{"$error":"#DIV/0!"}},null,null,"b =",{"$f":"IF(D463<0, -ASIN(D463/D471), 0)","v":0},"rad =",{"$f":"180/PI()*H470","v":0},"deg"]
[null,null,"r =",{"$f":"VLOOKUP(D461,Lookup!$B$8:$E$12,4)","v":0},null,null,"q =",{"$f":"PI()/2-H469-H470","v":{"$error":"#DIV/0!"}},"rad =",{"$f":"180/PI()*H471","v":{"$error":"#DIV/0!"}},"deg"]
[]
[null,"Core 3 Centerline Extension Coordinates in Sector 1",null,null,null,null,null,null,null,null,null,null,null,null,null,null,null,null,null,"Core 3 Centerline Extension",null,null,"Core 3 Centerline Tick"]
[null,"Angle Increment",null,null,null,null,null,null,null,null,null,null,null,null,null,null,null,null,null,"and diameter"]
[null,{"$f":"MAX(B477:B488)","v":12},"rad","deg","X","Y",null,null,null,null,null,null,null,null,null,null,null,null,null,"X","Y",null,"X","Y"]
[null,0,{"$f":"(0+H469*B476/B475)","v":{"$error":"#DIV/0!"}},{"$f":"180/PI()*C476","v":{"$error":"#DIV/0!"}},{"$f":"COS(C476) * D471  +D469","v":{"$error":"#DIV/0!"}},{"$f":"IF(ABS(D471^2-(E476-D469)^2)<0.00001,D470+0,D470+SQRT(D471^2-(E476-D469)^2))","v":{"$error":"#DIV/0!"}},null,null,null,null,null,null,null,null,null,null,null,null,null,{"$f":"E476","v":{"$error":"#DIV/0!"}},{"$f":"F476","v":{"$error":"#DIV/0!"}},null,{"$f":"IF(D461=\"None\",0,-D465)","v":0},{"$f":"IF(D461=\"None\",0,G465+0.5)","v":0}]
[null,1,{"$f":"(0+H469*B477/B475)","v":{"$error":"#DIV/0!"}},{"$f":"180/PI()*C477","v":{"$error":"#DIV/0!"}},{"$f":"COS(C477) * D471  +D469","v":{"$error":"#DIV/0!"}},{"$f":"IF(ABS(D471^2-(E477-D469)^2)<0.00001,D470+0,D470+SQRT(D471^2-(E477-D469)^2))","v":{"$error":"#DIV/0!"}},null,null,null,null,null,null,null,null,null,null,null,null,null,{"$error":"#DIV/0!"},{"$error":"#DIV/0!"},null,{"$f":"IF(D461=\"None\",0,-D465)","v":0},{"$f":"IF(D461=\"None\",0,G465-0.5)","v":0}]
[null,2,{"$f":"(0+H469*B478/B475)","v":{"$error":"#DIV/0!"}},{"$error":"#DIV/0!"},{"$f":"COS(C478) * D471  +D469","v":{"$error":"#DIV/0!"}},{"$f":"IF(ABS(D471^2-(E478-D469)^2)<0.00001,D470+0,D470+SQRT(D471^2-(E478-D469)^2))","v":{"$error":"#DIV/0!"}},null,null,null,null,null,null,null,null,null,null,null,null,null,{"$error":"#DIV/0!"},{"$error":"#DIV/0!"}]
[null,3,{"$f":"(0+H469*B479/B475)","v":{"$error":"#DIV/0!"}},{"$error":"#DIV/0!"},{"$f":"COS(C479) * D471  +D469","v":{"$error":"#DIV/0!"}},{"$f":"IF(ABS(D471^2-(E479-D469)^2)<0.00001,D470+0,D470+SQRT(D471^2-(E479-D469)^2))","v":{"$error":"#DIV/0!"}},null,null,null,null,null,null,null,null,null,null,null,null,null,{"$error":"#DIV/0!"},{"$error":"#DIV/0!"},null,{"$f":"IF(D461=\"None\",0,-D465+0.5)","v":0},{"$f":"IF(D461=\"None\",0,G465)","v":0}]
[null,4,{"$f":"(0+H469*B480/B475)","v":{"$error":"#DIV/0!"}},{"$error":"#DIV/0!"},{"$f":"COS(C480) * D471  +D469","v":{"$error":"#DIV/0!"}},{"$f":"IF(ABS(D471^2-(E480-D469)^2)<0.00001,D470+0,D470+SQRT(D471^2-(E480-D469)^2))","v":{"$error":"#DIV/0!"}},null,null,null,null,null,null,null,null,null,null,null,null,null,{"$error":"#DIV/0!"},{"$error":"#DIV/0!"},null,{"$f":"IF(D461=\"None\",0,-D465-0.5)","v":0},{"$f":"IF(D461=\"None\",0,G465)","v":0}]
[null,5,{"$f":"(0+H469*B481/B475)","v":{"$error":"#DIV/0!"}},{"$error":"#DIV/0!"},{"$f":"COS(C481) * D471  +D469","v":{"$error":"#DIV/0!"}},{"$f":"IF(ABS(D471^2-(E481-D469)^2)<0.00001,D470+0,D470+SQRT(D471^2-(E481-D469)^2))","v":{"$error":"#DIV/0!"}},null,null,null,null,null,null,null,null,null,null,null,null,null,{"$error":"#DIV/0!"},{"$error":"#DIV/0!"}]
[null,6,{"$f":"(0+H469*B482/B475)","v":{"$error":"#DIV/0!"}},{"$error":"#DIV/0!"},{"$f":"COS(C482) * D471  +D469","v":{"$error":"#DIV/0!"}},{"$f":"IF(ABS(D471^2-(E482-D469)^2)<0.00001,D470+0,D470+SQRT(D471^2-(E482-D469)^2))","v":{"$error":"#DIV/0!"}},null,null,null,null,null,null,null,null,null,null,null,null,null,{"$error":"#DIV/0!"},{"$error":"#DIV/0!"}]
[null,7,{"$f":"(0+H469*B483/B475)","v":{"$error":"#DIV/0!"}},{"$error":"#DIV/0!"},{"$f":"COS(C483) * D471  +D469","v":{"$error":"#DIV/0!"}},{"$f":"IF(ABS(D471^2-(E483-D469)^2)<0.00001,D470+0,D470+SQRT(D471^2-(E483-D469)^2))","v":{"$error":"#DIV/0!"}},null,null,null,null,null,null,null,null,null,null,null,null,null,{"$error":"#DIV/0!"},{"$error":"#DIV/0!"}]
[null,8,{"$f":"(0+H469*B484/B475)","v":{"$error":"#DIV/0!"}},{"$error":"#DIV/0!"},{"$f":"COS(C484) * D471  +D469","v":{"$error":"#DIV/0!"}},{"$f":"IF(ABS(D471^2-(E484-D469)^2)<0.00001,D470+0,D470+SQRT(D471^2-(E484-D469)^2))","v":{"$error":"#DIV/0!"}},null,null,null,null,null,null,null,null,null,null,null,null,null,{"$error":"#DIV/0!"},{"$error":"#DIV/0!"}]
[null,9,{"$f":"(0+H469*B485/B475)","v":{"$error":"#DIV/0!"}},{"$error":"#DIV/0!"},{"$f":"COS(C485) * D471  +D469","v":{"$error":"#DIV/0!"}},{"$f":"IF(ABS(D471^2-(E485-D469)^2)<0.00001,D470+0,D470+SQRT(D471^2-(E485-D469)^2))","v":{"$error":"#DIV/0!"}},null,null,null,null,null,null,null,null,null,null,null,null,null,{"$error":"#DIV/0!"},{"$error":"#DIV/0!"}]
[null,10,{"$f":"(0+H469*B486/B475)","v":{"$error":"#DIV/0!"}},{"$error":"#DIV/0!"},{"$f":"COS(C486) * D471  +D469","v":{"$error":"#DIV/0!"}},{"$f":"IF(ABS(D471^2-(E486-D469)^2)<0.00001,D470+0,D470+SQRT(D471^2-(E486-D469)^2))","v":{"$error":"#DIV/0!"}},null,null,null,null,null,null,null,null,null,null,null,null,null,{"$error":"#DIV/0!"},{"$error":"#DIV/0!"}]
[null,11,{"$f":"(0+H469*B487/B475)","v":{"$error":"#DIV/0!"}},{"$error":"#DIV/0!"},{"$f":"COS(C487) * D471  +D469","v":{"$error":"#DIV/0!"}},{"$f":"IF(ABS(D471^2-(E487-D469)^2)<0.00001,D470+0,D470+SQRT(D471^2-(E487-D469)^2))","v":{"$error":"#DIV/0!"}},null,null,null,null,null,null,null,null,null,null,null,null,null,{"$error":"#DIV/0!"},{"$error":"#DIV/0!"}]
[null,12,{"$f":"(0+H469*B488/B475)","v":{"$error":"#DIV/0!"}},{"$error":"#DIV/0!"},{"$f":"COS(C488) * D471  +D469","v":{"$error":"#DIV/0!"}},{"$f":"IF(ABS(D471^2-(E488-D469)^2)<0.00001,D470+0,D470+SQRT(D471^2-(E488-D469)^2))","v":{"$error":"#DIV/0!"}},null,null,null,null,null,null,null,null,null,null,null,null,null,{"$error":"#DIV/0!"},{"$error":"#DIV/0!"}]
[]
[null,null,null,null,null,null,null,null,null,null,null,null,null,null,null,null,null,null,null,{"$f":"-T488","v":{"$error":"#DIV/0!"}},{"$f":"U488","v":{"$error":"#DIV/0!"}}]
[null,null,null,null,null,null,null,null,null,null,null,null,null,null,null,null,null,null,null,{"$f":"-T487","v":{"$error":"#DIV/0!"}},{"$f":"U487","v":{"$error":"#DIV/0!"}}]
[null,null,null,null,null,null,null,null,null,null,null,null,null,null,null,null,null,null,null,{"$f":"-T486","v":{"$error":"#DIV/0!"}},{"$f":"U486","v":{"$error":"#DIV/0!"}}]
[null,null,null,null,null,null,null,null,null,null,null,null,null,null,null,null,null,null,null,{"$f":"-T485","v":{"$error":"#DIV/0!"}},{"$f":"U485","v":{"$error":"#DIV/0!"}}]
[null,null,null,null,null,null,null,null,null,null,null,null,null,null,null,null,null,null,null,{"$f":"-T484","v":{"$error":"#DIV/0!"}},{"$f":"U484","v":{"$error":"#DIV/0!"}}]
[null,null,null,null,null,null,null,null,null,null,null,null,null,null,null,null,null,null,null,{"$f":"-T483","v":{"$error":"#DIV/0!"}},{"$f":"U483","v":{"$error":"#DIV/0!"}}]
[null,null,null,null,null,null,null,null,null,null,null,null,null,null,null,null,null,null,null,{"$f":"-T482","v":{"$error":"#DIV/0!"}},{"$f":"U482","v":{"$error":"#DIV/0!"}}]
[null,null,null,null,null,null,null,null,null,null,null,null,null,null,null,null,null,null,null,{"$f":"-T481","v":{"$error":"#DIV/0!"}},{"$f":"U481","v":{"$error":"#DIV/0!"}}]
[null,null,null,null,null,null,null,null,null,null,null,null,null,null,null,null,null,null,null,{"$f":"-T480","v":{"$error":"#DIV/0!"}},{"$f":"U480","v":{"$error":"#DIV/0!"}}]
[null,null,null,null,null,null,null,null,null,null,null,null,null,null,null,null,null,null,null,{"$f":"-T479","v":{"$error":"#DIV/0!"}},{"$f":"U479","v":{"$error":"#DIV/0!"}}]
[null,null,null,null,null,null,null,null,null,null,null,null,null,null,null,null,null,null,null,{"$f":"-T478","v":{"$error":"#DIV/0!"}},{"$f":"U478","v":{"$error":"#DIV/0!"}}]
[null,null,null,null,null,null,null,null,null,null,null,null,null,null,null,null,null,null,null,{"$f":"-T477","v":{"$error":"#DIV/0!"}},{"$f":"U477","v":{"$error":"#DIV/0!"}}]
[null,null,null,null,null,null,null,null,null,null,null,null,null,null,null,null,null,null,null,{"$f":"-T476","v":{"$error":"#DIV/0!"}},{"$f":"U476","v":{"$error":"#DIV/0!"}}]
[]
[null,null,null,null,null,null,null,null,null,null,null,null,null,null,null,null,null,null,null,{"$f":"T476","v":{"$error":"#DIV/0!"}},{"$f":"U476","v":{"$error":"#DIV/0!"}}]
[null,null,"Graph data --->",null,null,null,null,null,null,null,null,null,null,null,null,null,null,null,null,{"$f":"T502","v":{"$error":"#DIV/0!"}},{"$f":"U502","v":{"$error":"#DIV/0!"}}]
[]
[null,"Core 3 Inside Face"]
[null,"Knife number",null,{"$f":"D461","v":"None"}]
[null,null,{"$f":"C462","v":"Dist from FO blank ="},{"$f":"D462","v":0},"in   =","f"]
[null,null,{"$f":"C463","v":"Dist from CL of bed ="},{"$f":"D463","v":0},"in   =","b"]
[]
[null,null,"(x-h)^2  +  (y-k)^2  =  r^2",null,null,"y = k   +/-  sqrt[ r^2  -  (x-h)^2  ] "]
[null,null,"h =",{"$f":"D510","v":0},null,null,"a =",{"$f":"ASIN(D509/D515)","v":{"$error":"#DIV/0!"}},"rad =",{"$f":"180/PI()*H513","v":{"$error":"#DIV/0!"}},"deg"]
[null,null,"k =",{"$f":"$D$23-D509","v":{"$error":"#DIV/0!"}},null,null,"b =",{"$f":"IF(D510<0, -ASIN(D510/D515), 0)","v":0},"rad =",{"$f":"180/PI()*H514","v":0},"deg"]
[null,null,"r =",{"$f":"VLOOKUP(D508,Lookup!$B$8:$D$12,2)","v":0},null,null,"q =",{"$f":"PI()/2-H513-H514","v":{"$error":"#DIV/0!"}},"rad =",{"$f":"180/PI()*H515","v":{"$error":"#DIV/0!"}},"deg"]
[]
[null,"Core 3 Inside Face",null,null,null,null,null,null,null,null,null,null,null,null,null,null,null,null,null,"Graph of Core 3 IF"]
[null,"Angle Increment"]
[null,{"$f":"MAX(B521:B532)","v":12},"rad","deg","X","Y",null,null,null,null,null,null,null,null,null,null,null,null,null,"X","Y"]
[null,0,{"$f":"H513 + H515*B520/B519","v":{"$error":"#DIV/0!"}},{"$f":"180/PI()*C520","v":{"$error":"#DIV/0!"}},{"$f":"COS(C520) * D515  +D513","v":{"$error":"#DIV/0!"}},{"$f":"IF(ABS(D515^2-(E520-D513)^2)<0.00001,D514+0,D514+SQRT(D515^2-(E520-D513)^2))","v":{"$error":"#DIV/0!"}},null,null,null,null,null,null,null,null,null,null,null,null,null,{"$f":"E520","v":{"$error":"#DIV/0!"}},{"$f":"F520","v":{"$error":"#DIV/0!"}}]
[null,1,{"$f":"H513 + H515*B521/B519","v":{"$error":"#DIV/0!"}},{"$f":"180/PI()*C521","v":{"$error":"#DIV/0!"}},{"$f":"COS(C521) * D515  +D513","v":{"$error":"#DIV/0!"}},{"$f":"IF(ABS(D515^2-(E521-D513)^2)<0.00001,D514+0,D514+SQRT(D515^2-(E521-D513)^2))","v":{"$error":"#DIV/0!"}},null,null,null,null,null,null,null,null,null,null,null,null,null,{"$error":"#DIV/0!"},{"$error":"#DIV/0!"}]
[null,2,{"$f":"H513 + H515*B522/B519","v":{"$error":"#DIV/0!"}},{"$error":"#DIV/0!"},{"$f":"COS(C522) * D515  +D513","v":{"$error":"#DIV/0!"}},{"$f":"IF(ABS(D515^2-(E522-D513)^2)<0.00001,D514+0,D514+SQRT(D515^2-(E522-D513)^2))","v":{"$error":"#DIV/0!"}},null,null,null,null,null,null,null,null,null,null,null,null,null,{"$error":"#DIV/0!"},{"$error":"#DIV/0!"}]
[null,3,{"$f":"H513 + H515*B523/B519","v":{"$error":"#DIV/0!"}},{"$error":"#DIV/0!"},{"$f":"COS(C523) * D515  +D513","v":{"$error":"#DIV/0!"}},{"$f":"IF(ABS(D515^2-(E523-D513)^2)<0.00001,D514+0,D514+SQRT(D515^2-(E523-D513)^2))","v":{"$error":"#DIV/0!"}},null,null,null,null,null,null,null,null,null,null,null,null,null,{"$error":"#DIV/0!"},{"$error":"#DIV/0!"}]
[null,4,{"$f":"H513 + H515*B524/B519","v":{"$error":"#DIV/0!"}},{"$error":"#DIV/0!"},{"$f":"COS(C524) * D515  +D513","v":{"$error":"#DIV/0!"}},{"$f":"IF(ABS(D515^2-(E524-D513)^2)<0.00001,D514+0,D514+SQRT(D515^2-(E524-D513)^2))","v":{"$error":"#DIV/0!"}},null,null,null,null,null,null,null,null,null,null,null,null,null,{"$error":"#DIV/0!"},{"$error":"#DIV/0!"}]
[null,5,{"$f":"H513 + H515*B525/B519","v":{"$error":"#DIV/0!"}},{"$error":"#DIV/0!"},{"$f":"COS(C525) * D515  +D513","v":{"$error":"#DIV/0!"}},{"$f":"IF(ABS(D515^2-(E525-D513)^2)<0.00001,D514+0,D514+SQRT(D515^2-(E525-D513)^2))","v":{"$error":"#DIV/0!"}},null,null,null,null,null,null,null,null,null,null,null,null,null,{"$error":"#DIV/0!"},{"$error":"#DIV/0!"}]
[null,6,{"$f":"H513 + H515*B526/B519","v":{"$error":"#DIV/0!"}},{"$error":"#DIV/0!"},{"$f":"COS(C526) * D515  +D513","v":{"$error":"#DIV/0!"}},{"$f":"IF(ABS(D515^2-(E526-D513)^2)<0.00001,D514+0,D514+SQRT(D515^2-(E526-D513)^2))","v":{"$error":"#DIV/0!"}},null,null,null,null,null,null,null,null,null,null,null,null,null,{"$error":"#DIV/0!"},{"$error":"#DIV/0!"}]
[null,7,{"$f":"H513 + H515*B527/B519","v":{"$error":"#DIV/0!"}},{"$error":"#DIV/0!"},{"$f":"COS(C527) * D515  +D513","v":{"$error":"#DIV/0!"}},{"$f":"IF(ABS(D515^2-(E527-D513)^2)<0.00001,D514+0,D514+SQRT(D515^2-(E527-D513)^2))","v":{"$error":"#DIV/0!"}},null,null,null,null,null,null,null,null,null,null,null,null,null,{"$error":"#DIV/0!"},{"$error":"#DIV/0!"}]
[null,8,{"$f":"H513 + H515*B528/B519","v":{"$error":"#DIV/0!"}},{"$error":"#DIV/0!"},{"$f":"COS(C528) * D515  +D513","v":{"$error":"#DIV/0!"}},{"$f":"IF(ABS(D515^2-(E528-D513)^2)<0.00001,D514+0,D514+SQRT(D515^2-(E528-D513)^2))","v":{"$error":"#DIV/0!"}},null,null,null,null,null,null,null,null,null,null,null,null,null,{"$error":"#DIV/0!"},{"$error":"#DIV/0!"}]
[null,9,{"$f":"H513 + H515*B529/B519","v":{"$error":"#DIV/0!"}},{"$error":"#DIV/0!"},{"$f":"COS(C529) * D515  +D513","v":{"$error":"#DIV/0!"}},{"$f":"IF(ABS(D515^2-(E529-D513)^2)<0.00001,D514+0,D514+SQRT(D515^2-(E529-D513)^2))","v":{"$error":"#DIV/0!"}},null,null,null,null,null,null,null,null,null,null,null,null,null,{"$error":"#DIV/0!"},{"$error":"#DIV/0!"}]
[null,10,{"$f":"H513 + H515*B530/B519","v":{"$error":"#DIV/0!"}},{"$error":"#DIV/0!"},{"$f":"COS(C530) * D515  +D513","v":{"$error":"#DIV/0!"}},{"$f":"IF(ABS(D515^2-(E530-D513)^2)<0.00001,D514+0,D514+SQRT(D515^2-(E530-D513)^2))","v":{"$error":"#DIV/0!"}},null,null,null,null,null,null,null,null,null,null,null,null,null,{"$error":"#DIV/0!"},{"$error":"#DIV/0!"}]
[null,11,{"$f":"H513 + H515*B531/B519","v":{"$error":"#DIV/0!"}},{"$error":"#DIV/0!"},{"$f":"COS(C531) * D515  +D513","v":{"$error":"#DIV/0!"}},{"$f":"IF(ABS(D515^2-(E531-D513)^2)<0.00001,D514+0,D514+SQRT(D515^2-(E531-D513)^2))","v":{"$error":"#DIV/0!"}},null,null,null,null,null,null,null,null,null,null,null,null,null,{"$error":"#DIV/0!"},{"$error":"#DIV/0!"}]
[null,12,{"$f":"H513 + H515*B532/B519","v":{"$error":"#DIV/0!"}},{"$error":"#DIV/0!"},{"$f":"COS(C532) * D515  +D513","v":{"$error":"#DIV/0!"}},{"$f":"IF(ABS(D515^2-(E532-D513)^2)<0.00001,D514+0,D514+SQRT(D515^2-(E532-D513)^2))","v":{"$error":"#DIV/0!"}},null,null,null,null,null,null,null,null,null,null,null,null,null,{"$error":"#DIV/0!"},{"$error":"#DIV/0!"}]
[null,null,null,null,null,null,null,null,null,null,null,null,null,null,null,null,null,null,null,{"$f":"-T531","v":{"$error":"#DIV/0!"}},{"$f":"U531","v":{"$error":"#DIV/0!"}}]
[null,null,null,null,null,null,null,null,null,null,null,null,null,null,null,null,null,null,null,{"$f":"-T530","v":{"$error":"#DIV/0!"}},{"$f":"U530","v":{"$error":"#DIV/0!"}}]
[null,null,null,null,null,null,null,null,null,null,null,null,null,null,null,null,null,null,null,{"$f":"-T529","v":{"$error":"#DIV/0!"}},{"$f":"U529","v":{"$error":"#DIV/0!"}}]
[null,null,null,null,null,null,null,null,null,null,null,null,null,null,null,null,null,null,null,{"$f":"-T528","v":{"$error":"#DIV/0!"}},{"$f":"U528","v":{"$error":"#DIV/0!"}}]
[null,null,null,null,null,null,null,null,null,null,null,null,null,null,null,null,null,null,null,{"$f":"-T527","v":{"$error":"#DIV/0!"}},{"$f":"U527","v":{"$error":"#DIV/0!"}}]
[null,null,null,null,null,null,null,null,null,null,null,null,null,null,null,null,null,null,null,{"$f":"-T526","v":{"$error":"#DIV/0!"}},{"$f":"U526","v":{"$error":"#DIV/0!"}}]
[null,null,null,null,null,null,null,null,null,null,null,null,null,null,null,null,null,null,null,{"$f":"-T525","v":{"$error":"#DIV/0!"}},{"$f":"U525","v":{"$error":"#DIV/0!"}}]
[null,null,null,null,null,null,null,null,null,null,null,null,null,null,null,null,null,null,null,{"$f":"-T524","v":{"$error":"#DIV/0!"}},{"$f":"U524","v":{"$error":"#DIV/0!"}}]
[null,null,null,null,null,null,null,null,null,null,null,null,null,null,null,null,null,null,null,{"$f":"-T523","v":{"$error":"#DIV/0!"}},{"$f":"U523","v":{"$error":"#DIV/0!"}}]
[null,null,null,null,null,null,null,null,null,null,null,null,null,null,null,null,null,null,null,{"$f":"-T522","v":{"$error":"#DIV/0!"}},{"$f":"U522","v":{"$error":"#DIV/0!"}}]
[null,null,null,null,null,null,null,null,null,null,null,null,null,null,null,null,null,null,null,{"$f":"-T521","v":{"$error":"#DIV/0!"}},{"$f":"U521","v":{"$error":"#DIV/0!"}}]
[null,null,"Graph data --->",null,null,null,null,null,null,null,null,null,null,null,null,null,null,null,null,{"$f":"-T520","v":{"$error":"#DIV/0!"}},{"$f":"U520","v":{"$error":"#DIV/0!"}}]
[]
[]
[null,"Core 3 Outside Face"]
[null,"Knife number",null,{"$f":"D508","v":"None"}]
[null,null,{"$f":"C462","v":"Dist from FO blank ="},{"$f":"D462","v":0},{"$f":"E509","v":"in   ="},{"$f":"F509","v":"f"}]
[null,null,{"$f":"C463","v":"Dist from CL of bed ="},{"$f":"D463","v":0},{"$f":"E510","v":"in   ="},{"$f":"F510","v":"b"}]
[]
[null,null,"(x-h)^2  +  (y-k)^2  =  r^2",null,null,"y = k   +/-  sqrt[ r^2  -  (x-h)^2  ] "]
[]
[null,null,"h =",{"$f":"D550","v":0},null,null,"a =",{"$f":"ASIN(D549/D556)","v":{"$error":"#DIV/0!"}},"rad =",{"$f":"180/PI()*H554","v":{"$error":"#DIV/0!"}},"deg"]
[null,null,"k =",{"$f":"$D$23-D549","v":{"$error":"#DIV/0!"}},null,null,"b =",{"$f":"IF(D550<0, -ASIN(D550/D556), 0)","v":0},"rad =",{"$f":"180/PI()*H555","v":0},"deg"]
[null,null,"r =",{"$f":"VLOOKUP(D548,Lookup!$B$8:$D$12,3)","v":0},null,null,"q =",{"$f":"PI()/2-H554-H555","v":{"$error":"#DIV/0!"}},"rad =",{"$f":"180/PI()*H556","v":{"$error":"#DIV/0!"}},"deg"]
[]
[null,"Core 3 Outside Face",null,null,null,null,null,null,null,null,null,null,null,null,null,null,null,null,null,"Graph of Core 3 OF"]
[null,"Angle Increment"]
[null,{"$f":"MAX(B562:B573)","v":12},"rad","deg","X","Y",null,null,null,null,null,null,null,null,null,null,null,null,null,"X","Y"]
[null,0,{"$f":"H554 + H556*B561/B560","v":{"$error":"#DIV/0!"}},{"$f":"180/PI()*C561","v":{"$error":"#DIV/0!"}},{"$f":"COS(C561) * D556  +D554","v":{"$error":"#DIV/0!"}},{"$f":"IF(ABS(D556^2-(E561-D554)^2)<0.00001,D555+0,D555+SQRT(D556^2-(E561-D554)^2))","v":{"$error":"#DIV/0!"}},null,null,null,null,null,null,null,null,null,null,null,null,null,{"$f":"E561","v":{"$error":"#DIV/0!"}},{"$f":"F561","v":{"$error":"#DIV/0!"}}]
[null,1,{"$f":"H554 + H556*B562/B560","v":{"$error":"#DIV/0!"}},{"$f":"180/PI()*C562","v":{"$error":"#DIV/0!"}},{"$f":"COS(C562) * D556  +D554","v":{"$error":"#DIV/0!"}},{"$f":"IF(ABS(D556^2-(E562-D554)^2)<0.00001,D555+0,D555+SQRT(D556^2-(E562-D554)^2))","v":{"$error":"#DIV/0!"}},null,null,null,null,null,null,null,null,null,null,null,null,null,{"$error":"#DIV/0!"},{"$error":"#DIV/0!"}]
[null,2,{"$f":"H554 + H556*B563/B560","v":{"$error":"#DIV/0!"}},{"$error":"#DIV/0!"},{"$f":"COS(C563) * D556  +D554","v":{"$error":"#DIV/0!"}},{"$f":"IF(ABS(D556^2-(E563-D554)^2)<0.00001,D555+0,D555+SQRT(D556^2-(E563-D554)^2))","v":{"$error":"#DIV/0!"}},null,null,null,null,null,null,null,null,null,null,null,null,null,{"$error":"#DIV/0!"},{"$error":"#DIV/0!"}]
[null,3,{"$f":"H554 + H556*B564/B560","v":{"$error":"#DIV/0!"}},{"$error":"#DIV/0!"},{"$f":"COS(C564) * D556  +D554","v":{"$error":"#DIV/0!"}},{"$f":"IF(ABS(D556^2-(E564-D554)^2)<0.00001,D555+0,D555+SQRT(D556^2-(E564-D554)^2))","v":{"$error":"#DIV/0!"}},null,null,null,null,null,null,null,null,null,null,null,null,null,{"$error":"#DIV/0!"},{"$error":"#DIV/0!"}]
[null,4,{"$f":"H554 + H556*B565/B560","v":{"$error":"#DIV/0!"}},{"$error":"#DIV/0!"},{"$f":"COS(C565) * D556  +D554","v":{"$error":"#DIV/0!"}},{"$f":"IF(ABS(D556^2-(E565-D554)^2)<0.00001,D555+0,D555+SQRT(D556^2-(E565-D554)^2))","v":{"$error":"#DIV/0!"}},null,null,null,null,null,null,null,null,null,null,null,null,null,{"$error":"#DIV/0!"},{"$error":"#DIV/0!"}]
[null,5,{"$f":"H554 + H556*B566/B560","v":{"$error":"#DIV/0!"}},{"$error":"#DIV/0!"},{"$f":"COS(C566) * D556  +D554","v":{"$error":"#DIV/0!"}},{"$f":"IF(ABS(D556^2-(E566-D554)^2)<0.00001,D555+0,D555+SQRT(D556^2-(E566-D554)^2))","v":{"$error":"#DIV/0!"}},null,null,null,null,null,null,null,null,null,null,null,null,null,{"$error":"#DIV/0!"},{"$error":"#DIV/0!"}]
[null,6,{"$f":"H554 + H556*B567/B560","v":{"$error":"#DIV/0!"}},{"$error":"#DIV/0!"},{"$f":"COS(C567) * D556  +D554","v":{"$error":"#DIV/0!"}},{"$f":"IF(ABS(D556^2-(E567-D554)^2)<0.00001,D555+0,D555+SQRT(D556^2-(E567-D554)^2))","v":{"$error":"#DIV/0!"}},null,null,null,null,null,null,null,null,null,null,null,null,null,{"$error":"#DIV/0!"},{"$error":"#DIV/0!"}]
[null,7,{"$f":"H554 + H556*B568/B560","v":{"$error":"#DIV/0!"}},{"$error":"#DIV/0!"},{"$f":"COS(C568) * D556  +D554","v":{"$error":"#DIV/0!"}},{"$f":"IF(ABS(D556^2-(E568-D554)^2)<0.00001,D555+0,D555+SQRT(D556^2-(E568-D554)^2))","v":{"$error":"#DIV/0!"}},null,null,null,null,null,null,null,null,null,null,null,null,null,{"$error":"#DIV/0!"},{"$error":"#DIV/0!"}]
[null,8,{"$f":"H554 + H556*B569/B560","v":{"$error":"#DIV/0!"}},{"$error":"#DIV/0!"},{"$f":"COS(C569) * D556  +D554","v":{"$error":"#DIV/0!"}},{"$f":"IF(ABS(D556^2-(E569-D554)^2)<0.00001,D555+0,D555+SQRT(D556^2-(E569-D554)^2))","v":{"$error":"#DIV/0!"}},null,null,null,null,null,null,null,null,null,null,null,null,null,{"$error":"#DIV/0!"},{"$error":"#DIV/0!"}]
[null,9,{"$f":"H554 + H556*B570/B560","v":{"$error":"#DIV/0!"}},{"$error":"#DIV/0!"},{"$f":"COS(C570) * D556  +D554","v":{"$error":"#DIV/0!"}},{"$f":"IF(ABS(D556^2-(E570-D554)^2)<0.00001,D555+0,D555+SQRT(D556^2-(E570-D554)^2))","v":{"$error":"#DIV/0!"}},null,null,null,null,null,null,null,null,null,null,null,null,null,{"$error":"#DIV/0!"},{"$error":"#DIV/0!"}]
[null,10,{"$f":"H554 + H556*B571/B560","v":{"$error":"#DIV/0!"}},{"$error":"#DIV/0!"},{"$f":"COS(C571) * D556  +D554","v":{"$error":"#DIV/0!"}},{"$f":"IF(ABS(D556^2-(E571-D554)^2)<0.00001,D555+0,D555+SQRT(D556^2-(E571-D554)^2))","v":{"$error":"#DIV/0!"}},null,null,null,null,null,null,null,null,null,null,null,null,null,{"$error":"#DIV/0!"},{"$error":"#DIV/0!"}]
[null,11,{"$f":"H554 + H556*B572/B560","v":{"$error":"#DIV/0!"}},{"$error":"#DIV/0!"},{"$f":"COS(C572) * D556  +D554","v":{"$error":"#DIV/0!"}},{"$f":"IF(ABS(D556^2-(E572-D554)^2)<0.00001,D555+0,D555+SQRT(D556^2-(E572-D554)^2))","v":{"$error":"#DIV/0!"}},null,null,null,null,null,null,null,null,null,null,null,null,null,{"$error":"#DIV/0!"},{"$error":"#DIV/0!"}]
[null,12,{"$f":"H554 + H556*B573/B560","v":{"$error":"#DIV/0!"}},{"$error":"#DIV/0!"},{"$f":"COS(C573) * D556  +D554","v":{"$error":"#DIV/0!"}},{"$f":"IF(ABS(D556^2-(E573-D554)^2)<0.00001,D555+0,D555+SQRT(D556^2-(E573-D554)^2))","v":{"$error":"#DIV/0!"}},null,null,null,null,null,null,null,null,null,null,null,null,null,{"$error":"#DIV/0!"},{"$error":"#DIV/0!"}]
[null,null,null,null,null,null,null,null,null,null,null,null,null,null,null,null,null,null,null,{"$f":"-T572","v":{"$error":"#DIV/0!"}},{"$f":"U572","v":{"$error":"#DIV/0!"}}]
[null,null,null,null,null,null,null,null,null,null,null,null,null,null,null,null,null,null,null,{"$f":"-T571","v":{"$error":"#DIV/0!"}},{"$f":"U571","v":{"$error":"#DIV/0!"}}]
[null,null,null,null,null,null,null,null,null,null,null,null,null,null,null,null,null,null,null,{"$f":"-T570","v":{"$error":"#DIV/0!"}},{"$f":"U570","v":{"$error":"#DIV/0!"}}]
[null,null,null,null,null,null,null,null,null,null,null,null,null,null,null,null,null,null,null,{"$f":"-T569","v":{"$error":"#DIV/0!"}},{"$f":"U569","v":{"$error":"#DIV/0!"}}]
[null,null,null,null,null,null,null,null,null,null,null,null,null,null,null,null,null,null,null,{"$f":"-T568","v":{"$error":"#DIV/0!"}},{"$f":"U568","v":{"$error":"#DIV/0!"}}]
[null,null,null,null,null,null,null,null,null,null,null,null,null,null,null,null,null,null,null,{"$f":"-T567","v":{"$error":"#DIV/0!"}},{"$f":"U567","v":{"$error":"#DIV/0!"}}]
[null,null,null,null,null,null,null,null,null,null,null,null,null,null,null,null,null,null,null,{"$f":"-T566","v":{"$error":"#DIV/0!"}},{"$f":"U566","v":{"$error":"#DIV/0!"}}]
[null,null,null,null,null,null,null,null,null,null,null,null,null,null,null,null,null,null,null,{"$f":"-T565","v":{"$error":"#DIV/0!"}},{"$f":"U565","v":{"$error":"#DIV/0!"}}]
[null,null,null,null,null,null,null,null,null,null,null,null,null,null,null,null,null,null,null,{"$f":"-T564","v":{"$error":"#DIV/0!"}},{"$f":"U564","v":{"$error":"#DIV/0!"}}]
[null,null,null,null,null,null,null,null,null,null,null,null,null,null,null,null,null,null,null,{"$f":"-T563","v":{"$error":"#DIV/0!"}},{"$f":"U563","v":{"$error":"#DIV/0!"}}]
[null,null,null,null,null,null,null,null,null,null,null,null,null,null,null,null,null,null,null,{"$f":"-T562","v":{"$error":"#DIV/0!"}},{"$f":"U562","v":{"$error":"#DIV/0!"}}]
[null,null,"Graph data --->",null,null,null,null,null,null,null,null,null,null,null,null,null,null,null,null,{"$f":"-T561","v":{"$error":"#DIV/0!"}},{"$f":"U561","v":{"$error":"#DIV/0!"}}]
[]
[]
[null,"Determine distance to from",null,null,"Core 2 OF","to","Core 3 IF"]
[]
[null,"For",{"$f":"G588","v":"Core 3 IF"}]
[null,"X1 =",{"$f":"D284","v":0},"h =",{"$f":"D288","v":0},null,"quadA =","m^2+1",null,null,"For derivation, see https://math.stackexchange.com/questions/228841/how-do-i-calculate-the-intersections-of-a-straight-line-and-a-circle",null,null," "]
[null,"Y1 =",{"$f":"G284","v":{"$error":"#DIV/0!"}},"k =",{"$f":"D289","v":{"$error":"#DIV/0!"}},null,"quadB =","2(mb−mk−h)"]
[null,null,null,"r =",{"$f":"D334","v":0},null,"quadC =","k^2−r^2+h^2−2bk+b^2"]
[]
[null,"Line from (X1, Y1) to (X2, Y2)",null,null,null,null,null,null,null,null,null,null,"Point on ",{"$f":"G588","v":"Core 3 IF"},null,"Distance",null,null,null,{"$f":"\"Distance Rays from \"&E588&\" to \"&G588","v":"Distance Rays from Core 2 OF to Core 3 IF"}]
[null,"X2","Y2","m","b",null,"quadA","quadB","quadC","Root1","Root2",null,"X","Y"]
[null,{"$f":"E561","v":{"$error":"#DIV/0!"}},{"$f":"F561","v":{"$error":"#DIV/0!"}},{"$f":"IF( (B597-C591)=0, 1000000000000, IF(ABS(C597-C592)<0.00000001, 0,   (C597-C592) / (B597-C591)))","v":{"$error":"#DIV/0!"}},{"$f":"C597-(D597*B597)","v":{"$error":"#DIV/0!"}},null,{"$f":"D597^2 + 1","v":{"$error":"#DIV/0!"}},{"$f":"2*(D597*E597 - D597*E592 - E591)","v":{"$error":"#DIV/0!"}},{"$f":"E592^2 - E593^2 + E591^2 - 2*E597*E592 + E597^2","v":{"$error":"#DIV/0!"}},{"$f":"IF(ABS(H597^2 - 4*G597*I597)<0.000001, 0, (-H597 + (H597^2 - 4*G597*I597)^0.5)/(2*G597))","v":{"$error":"#DIV/0!"}},{"$f":"IF(ABS(H597^2 - 4*G597*I597)<0.000001, 0, (-H597 - (H597^2 - 4*G597*I597)^0.5)/(2*G597))","v":{"$error":"#DIV/0!"}},null,{"$f":"IF(D597>=0, J597, K597)","v":{"$error":"#DIV/0!"}},{"$f":"D597*M597 + E597","v":{"$error":"#DIV/0!"}},null,{"$f":"SQRT((B597-M597)^2 + (C597-N597)^2)","v":{"$error":"#DIV/0!"}},null,null,null,{"$f":"C591","v":0},{"$f":"C592","v":{"$error":"#DIV/0!"}}]
[null,{"$error":"#DIV/0!"},{"$error":"#DIV/0!"},{"$f":"IF( (B598-C591)=0, 1000000000000, IF(ABS(C598-C592)<0.00000001, 0,   (C598-C592) / (B598-C591)))","v":{"$error":"#DIV/0!"}},{"$f":"C598-(D598*B598)","v":{"$error":"#DIV/0!"}},null,{"$f":"D598^2 + 1","v":{"$error":"#DIV/0!"}},{"$f":"2*(D598*E598 - D598*E592 - E591)","v":{"$error":"#DIV/0!"}},{"$f":"E592^2 - E593^2 + E591^2 - 2*E598*E592 + E598^2","v":{"$error":"#DIV/0!"}},{"$f":"IF(ABS(H598^2 - 4*G598*I598)<0.000001, 0, (-H598 + (H598^2 - 4*G598*I598)^0.5)/(2*G598))","v":{"$error":"#DIV/0!"}},{"$f":"IF(ABS(H598^2 - 4*G598*I598)<0.000001, 0, (-H598 - (H598^2 - 4*G598*I598)^0.5)/(2*G598))","v":{"$error":"#DIV/0!"}},null,{"$f":"IF(D598>=0, J598, K598)","v":{"$error":"#DIV/0!"}},{"$f":"D598*M598 + E598","v":{"$error":"#DIV/0!"}},null,{"$f":"SQRT((B598-M598)^2 + (C598-N598)^2)","v":{"$error":"#DIV/0!"}},null,null,null,{"$f":"B597","v":{"$error":"#DIV/0!"}},{"$f":"C597","v":{"$error":"#DIV/0!"}}]
[null,{"$error":"#DIV/0!"},{"$error":"#DIV/0!"},{"$f":"IF( (B599-C591)=0, 1000000000000, IF(ABS(C599-C592)<0.00000001, 0,   (C599-C592) / (B599-C591)))","v":{"$error":"#DIV/0!"}},{"$error":"#DIV/0!"},null,{"$error":"#DIV/0!"},{"$f":"2*(D599*E599 - D599*E592 - E591)","v":{"$error":"#DIV/0!"}},{"$f":"E592^2 - E593^2 + E591^2 - 2*E599*E592 + E599^2","v":{"$error":"#DIV/0!"}},{"$error":"#DIV/0!"},{"$error":"#DIV/0!"},null,{"$error":"#DIV/0!"},{"$error":"#DIV/0!"},null,{"$error":"#DIV/0!"},null,null,null,{"$f":"M597","v":{"$error":"#DIV/0!"}},{"$f":"N597","v":{"$error":"#DIV/0!"}}]
[null,{"$error":"#DIV/0!"},{"$error":"#DIV/0!"},{"$f":"IF( (B600-C591)=0, 1000000000000, IF(ABS(C600-C592)<0.00000001, 0,   (C600-C592) / (B600-C591)))","v":{"$error":"#DIV/0!"}},{"$error":"#DIV/0!"},null,{"$error":"#DIV/0!"},{"$f":"2*(D600*E600 - D600*E592 - E591)","v":{"$error":"#DIV/0!"}},{"$f":"E592^2 - E593^2 + E591^2 - 2*E600*E592 + E600^2","v":{"$error":"#DIV/0!"}},{"$error":"#DIV/0!"},{"$error":"#DIV/0!"},null,{"$error":"#DIV/0!"},{"$error":"#DIV/0!"},null,{"$error":"#DIV/0!"},null,null,null,{"$f":"C591","v":0},{"$f":"C592","v":{"$error":"#DIV/0!"}}]
[null,{"$error":"#DIV/0!"},{"$error":"#DIV/0!"},{"$f":"IF( (B601-C591)=0, 1000000000000, IF(ABS(C601-C592)<0.00000001, 0,   (C601-C592) / (B601-C591)))","v":{"$error":"#DIV/0!"}},{"$error":"#DIV/0!"},null,{"$error":"#DIV/0!"},{"$f":"2*(D601*E601 - D601*E592 - E591)","v":{"$error":"#DIV/0!"}},{"$f":"E592^2 - E593^2 + E591^2 - 2*E601*E592 + E601^2","v":{"$error":"#DIV/0!"}},{"$error":"#DIV/0!"},{"$error":"#DIV/0!"},null,{"$error":"#DIV/0!"},{"$error":"#DIV/0!"},null,{"$error":"#DIV/0!"},null,null,null,{"$f":"B598","v":{"$error":"#DIV/0!"}},{"$f":"C598","v":{"$error":"#DIV/0!"}}]
[null,{"$error":"#DIV/0!"},{"$error":"#DIV/0!"},{"$f":"IF( (B602-C591)=0, 1000000000000, IF(ABS(C602-C592)<0.00000001, 0,   (C602-C592) / (B602-C591)))","v":{"$error":"#DIV/0!"}},{"$error":"#DIV/0!"},null,{"$error":"#DIV/0!"},{"$f":"2*(D602*E602 - D602*E592 - E591)","v":{"$error":"#DIV/0!"}},{"$f":"E592^2 - E593^2 + E591^2 - 2*E602*E592 + E602^2","v":{"$error":"#DIV/0!"}},{"$error":"#DIV/0!"},{"$error":"#DIV/0!"},null,{"$error":"#DIV/0!"},{"$error":"#DIV/0!"},null,{"$error":"#DIV/0!"},null,null,null,{"$f":"M598","v":{"$error":"#DIV/0!"}},{"$f":"N598","v":{"$error":"#DIV/0!"}}]
[null,{"$error":"#DIV/0!"},{"$error":"#DIV/0!"},{"$f":"IF( (B603-C591)=0, 1000000000000, IF(ABS(C603-C592)<0.00000001, 0,   (C603-C592) / (B603-C591)))","v":{"$error":"#DIV/0!"}},{"$error":"#DIV/0!"},null,{"$error":"#DIV/0!"},{"$f":"2*(D603*E603 - D603*E592 - E591)","v":{"$error":"#DIV/0!"}},{"$f":"E592^2 - E593^2 + E591^2 - 2*E603*E592 + E603^2","v":{"$error":"#DIV/0!"}},{"$error":"#DIV/0!"},{"$error":"#DIV/0!"},null,{"$error":"#DIV/0!"},{"$error":"#DIV/0!"},null,{"$error":"#DIV/0!"},null,null,null,{"$f":"C591","v":0},{"$f":"C592","v":{"$error":"#DIV/0!"}}]
[null,{"$error":"#DIV/0!"},{"$error":"#DIV/0!"},{"$f":"IF( (B604-C591)=0, 1000000000000, IF(ABS(C604-C592)<0.00000001, 0,   (C604-C592) / (B604-C591)))","v":{"$error":"#DIV/0!"}},{"$error":"#DIV/0!"},null,{"$error":"#DIV/0!"},{"$f":"2*(D604*E604 - D604*E592 - E591)","v":{"$error":"#DIV/0!"}},{"$f":"E592^2 - E593^2 + E591^2 - 2*E604*E592 + E604^2","v":{"$error":"#DIV/0!"}},{"$error":"#DIV/0!"},{"$error":"#DIV/0!"},null,{"$error":"#DIV/0!"},{"$error":"#DIV/0!"},null,{"$error":"#DIV/0!"},null,null,null,{"$f":"B599","v":{"$error":"#DIV/0!"}},{"$f":"C599","v":{"$error":"#DIV/0!"}}]
[null,{"$error":"#DIV/0!"},{"$error":"#DIV/0!"},{"$f":"IF( (B605-C591)=0, 1000000000000, IF(ABS(C605-C592)<0.00000001, 0,   (C605-C592) / (B605-C591)))","v":{"$error":"#DIV/0!"}},{"$error":"#DIV/0!"},null,{"$error":"#DIV/0!"},{"$f":"2*(D605*E605 - D605*E592 - E591)","v":{"$error":"#DIV/0!"}},{"$f":"E592^2 - E593^2 + E591^2 - 2*E605*E592 + E605^2","v":{"$error":"#DIV/0!"}},{"$error":"#DIV/0!"},{"$error":"#DIV/0!"},null,{"$error":"#DIV/0!"},{"$error":"#DIV/0!"},null,{"$error":"#DIV/0!"},null,null,null,{"$f":"M599","v":{"$error":"#DIV/0!"}},{"$f":"N599","v":{"$error":"#DIV/0!"}}]
[null,{"$error":"#DIV/0!"},{"$error":"#DIV/0!"},{"$f":"IF( (B606-C591)=0, 1000000000000, IF(ABS(C606-C592)<0.00000001, 0,   (C606-C592) / (B606-C591)))","v":{"$error":"#DIV/0!"}},{"$error":"#DIV/0!"},null,{"$error":"#DIV/0!"},{"$f":"2*(D606*E606 - D606*E592 - E591)","v":{"$error":"#DIV/0!"}},{"$f":"E592^2 - E593^2 + E591^2 - 2*E606*E592 + E606^2","v":{"$error":"#DIV/0!"}},{"$error":"#DIV/0!"},{"$error":"#DIV/0!"},null,{"$error":"#DIV/0!"},{"$error":"#DIV/0!"},null,{"$error":"#DIV/0!"},null,null,null,{"$f":"C591","v":0},{"$f":"C592","v":{"$error":"#DIV/0!"}}]
[null,{"$error":"#DIV/0!"},{"$error":"#DIV/0!"},{"$f":"IF( (B607-C591)=0, 1000000000000, IF(ABS(C607-C592)<0.00000001, 0,   (C607-C592) / (B607-C591)))","v":{"$error":"#DIV/0!"}},{"$error":"#DIV/0!"},null,{"$error":"#DIV/0!"},{"$f":"2*(D607*E607 - D607*E592 - E591)","v":{"$error":"#DIV/0!"}},{"$f":"E592^2 - E593^2 + E591^2 - 2*E607*E592 + E607^2","v":{"$error":"#DIV/0!"}},{"$error":"#DIV/0!"},{"$error":"#DIV/0!"},null,{"$error":"#DIV/0!"},{"$error":"#DIV/0!"},null,{"$error":"#DIV/0!"},null,null,null,{"$f":"B600","v":{"$error":"#DIV/0!"}},{"$f":"C600","v":{"$error":"#DIV/0!"}}]
[null,{"$error":"#DIV/0!"},{"$error":"#DIV/0!"},{"$f":"IF( (B608-C591)=0, 1000000000000, IF(ABS(C608-C592)<0.00000001, 0,   (C608-C592) / (B608-C591)))","v":{"$error":"#DIV/0!"}},{"$error":"#DIV/0!"},null,{"$error":"#DIV/0!"},{"$f":"2*(D608*E608 - D608*E592 - E591)","v":{"$error":"#DIV/0!"}},{"$f":"E592^2 - E593^2 + E591^2 - 2*E608*E592 + E608^2","v":{"$error":"#DIV/0!"}},{"$error":"#DIV/0!"},{"$error":"#DIV/0!"},null,{"$error":"#DIV/0!"},{"$error":"#DIV/0!"},null,{"$error":"#DIV/0!"},null,null,null,{"$f":"M600","v":{"$error":"#DIV/0!"}},{"$f":"N600","v":{"$error":"#DIV/0!"}}]
[null,0,{"$error":"#DIV/0!"},null,null,null,null,null,null,null,null,null,0,{"$f":"F351","v":{"$error":"#DIV/0!"}},null,{"$f":"IF(ISNUMBER(M609), SQRT((B609-M609)^2 + (C609-N609)^2), \"\")","v":{"$error":"#DIV/0!"}},null,null,null,{"$f":"C591","v":0},{"$f":"C592","v":{"$error":"#DIV/0!"}}]
[null,null,null,null,null,null,null,null,null,null,null,null,null,null,null,null,null,null,null,{"$f":"B601","v":{"$error":"#DIV/0!"}},{"$f":"C601","v":{"$error":"#DIV/0!"}}]
[null,null,null,null,null,null,null,null,null,null,null,null,null,null,"Max =",{"$f":"MAX(P597:P609)","v":{"$error":"#DIV/0!"}},null,null,null,{"$f":"M601","v":{"$error":"#DIV/0!"}},{"$f":"N601","v":{"$error":"#DIV/0!"}}]
[null,null,null,null,null,null,null,null,null,null,null,null,null,null,"Min =",{"$f":"MIN(P597:P609)","v":{"$error":"#DIV/0!"}},null,null,null,{"$f":"C591","v":0},{"$f":"C592","v":{"$error":"#DIV/0!"}}]
[null,null,null,null,null,null,null,null,null,null,null,null,null,null,null,null,null,null,null,{"$f":"B602","v":{"$error":"#DIV/0!"}},{"$f":"C602","v":{"$error":"#DIV/0!"}}]
[null,null,null,null,null,null,null,null,null,null,null,null,null,null,null,null,null,null,null,{"$f":"M602","v":{"$error":"#DIV/0!"}},{"$f":"N602","v":{"$error":"#DIV/0!"}}]
[null,null,null,null,null,null,null,null,null,null,null,null,null,null,null,null,null,null,null,{"$f":"C591","v":0},{"$f":"C592","v":{"$error":"#DIV/0!"}}]
[null,null,null,null,null,null,null,null,null,null,null,null,null,null,null,null,null,null,null,{"$f":"B603","v":{"$error":"#DIV/0!"}},{"$f":"C603","v":{"$error":"#DIV/0!"}}]
[null,null,null,null,null,null,null,null,null,null,null,null,null,null,null,null,null,null,null,{"$f":"M603","v":{"$error":"#DIV/0!"}},{"$f":"N603","v":{"$error":"#DIV/0!"}}]
[null,null,null,null,null,null,null,null,null,null,null,null,null,null,null,null,null,null,null,{"$f":"C591","v":0},{"$f":"C592","v":{"$error":"#DIV/0!"}}]
[null,null,null,null,null,null,null,null,null,null,null,null,null,null,null,null,null,null,null,{"$f":"B604","v":{"$error":"#DIV/0!"}},{"$f":"C604","v":{"$error":"#DIV/0!"}}]
[null,null,null,null,null,null,null,null,null,null,null,null,null,null,null,null,null,null,null,{"$f":"M604","v":{"$error":"#DIV/0!"}},{"$f":"N604","v":{"$error":"#DIV/0!"}}]
[null,null,null,null,null,null,null,null,null,null,null,null,null,null,null,null,null,null,null,{"$f":"C591","v":0},{"$f":"C592","v":{"$error":"#DIV/0!"}}]
[null,null,null,null,null,null,null,null,null,null,null,null,null,null,null,null,null,null,null,{"$f":"B605","v":{"$error":"#DIV/0!"}},{"$f":"C605","v":{"$error":"#DIV/0!"}}]
[null,null,null,null,null,null,null,null,null,null,null,null,null,null,null,null,null,null,null,{"$f":"M605","v":{"$error":"#DIV/0!"}},{"$f":"N605","v":{"$error":"#DIV/0!"}}]
[null,null,null,null,null,null,null,null,null,null,null,null,null,null,null,null,null,null,null,{"$f":"C591","v":0},{"$f":"C592","v":{"$error":"#DIV/0!"}}]
[null,null,null,null,null,null,null,null,null,null,null,null,null,null,null,null,null,null,null,{"$f":"B606","v":{"$error":"#DIV/0!"}},{"$f":"C606","v":{"$error":"#DIV/0!"}}]
[null,null,null,null,null,null,null,null,null,null,null,null,null,null,null,null,null,null,null,{"$f":"M606","v":{"$error":"#DIV/0!"}},{"$f":"N606","v":{"$error":"#DIV/0!"}}]
[null,null,null,null,null,null,null,null,null,null,null,null,null,null,null,null,null,null,null,{"$f":"C591","v":0},{"$f":"C592","v":{"$error":"#DIV/0!"}}]
[null,null,null,null,null,null,null,null,null,null,null,null,null,null,null,null,null,null,null,{"$f":"B607","v":{"$error":"#DIV/0!"}},{"$f":"C607","v":{"$error":"#DIV/0!"}}]
[null,null,null,null,null,null,null,null,null,null,null,null,null,null,null,null,null,null,null,{"$f":"M607","v":{"$error":"#DIV/0!"}},{"$f":"N607","v":{"$error":"#DIV/0!"}}]
[null,null,null,null,null,null,null,null,null,null,null,null,null,null,null,null,null,null,null,{"$f":"C591","v":0},{"$f":"C592","v":{"$error":"#DIV/0!"}}]
[null,null,null,null,null,null,null,null,null,null,null,null,null,null,null,null,null,null,null,{"$f":"B608","v":{"$error":"#DIV/0!"}},{"$f":"C608","v":{"$error":"#DIV/0!"}}]
[null,null,null,null,null,null,null,null,null,null,null,null,null,null,null,null,null,null,null,{"$f":"M608","v":{"$error":"#DIV/0!"}},{"$f":"N608","v":{"$error":"#DIV/0!"}}]
[null,null,null,null,null,null,null,null,null,null,null,null,null,null,null,null,null,null,null,{"$f":"C591","v":0},{"$f":"C592","v":{"$error":"#DIV/0!"}}]
[null,null,null,null,null,null,null,null,null,null,null,null,null,null,null,null,null,null,null,{"$f":"B609","v":0},{"$f":"C609","v":{"$error":"#DIV/0!"}}]
[null,null,null,null,null,null,null,null,null,null,null,null,null,null,null,null,null,null,null,{"$f":"M609","v":0},{"$f":"N609","v":{"$error":"#DIV/0!"}}]
[]
[]
[]
[null,"Core 4"]
[]
[null,"Core 4 Centerline"]
[null,"Knife number",null,{"$f":"'Planning Tool'!D39","v":"None"}]
[null,null,{"$f":"'Planning Tool'!C41","v":"Dist from FO blank ="},{"$f":"'Planning Tool'!D41","v":0},{"$f":"E690","v":"in   ="},{"$f":"F690","v":"f"}]
[null,null,{"$f":"'Planning Tool'!C42","v":"Dist from CL of bed ="},{"$f":"'Planning Tool'!D42","v":0},{"$f":"E691","v":"in   ="},{"$f":"F691","v":"b"}]
[]
[null,"Center at","x =",{"$f":"D644","v":0},null,"y =",{"$f":"$D$23-D643","v":{"$error":"#DIV/0!"}},null,"Bowl Dia =",{"$f":"2*E701","v":{"$error":"#DIV/0!"}},"Depth =",{"$f":"F713-F701","v":{"$error":"#DIV/0!"}}]
[]
[null,null,"(x-h)^2  +  (y-k)^2  =  r^2",null,null,"y = k   +/-  sqrt[ r^2  -  (x-h)^2  ] "]
[]
[null,null,"h =",{"$f":"D644","v":0},null,null,"a =",{"$f":"ASIN(D643/D652)","v":{"$error":"#DIV/0!"}},"rad =",{"$f":"180/PI()*H650","v":{"$error":"#DIV/0!"}},"deg"]
[null,null,"k =",{"$f":"$D$23-D643","v":{"$error":"#DIV/0!"}},null,null,"b =",{"$f":"IF(D644<0, -ASIN(D644/D652), 0)","v":0},"rad =",{"$f":"180/PI()*H651","v":0},"deg"]
[null,null,"r =",{"$f":"VLOOKUP(D642,Lookup!$B$8:$E$12,4)","v":0},null,null,"q =",{"$f":"PI()/2-H650-H651","v":{"$error":"#DIV/0!"}},"rad =",{"$f":"180/PI()*H652","v":{"$error":"#DIV/0!"}},"deg"]
[]
[null,"Core 4 Centerline Extension Coordinates in Sector 1",null,null,null,null,null,null,null,null,null,null,null,null,null,null,null,null,null,"Core 4 Centerline Extension",null,null,"Core 4 Centerline Tick"]
[null,"Angle Increment",null,null,null,null,null,null,null,null,null,null,null,null,null,null,null,null,null,"and diameter"]
[null,{"$f":"MAX(B658:B669)","v":12},"rad","deg","X","Y",null,null,null,null,null,null,null,null,null,null,null,null,null,"X","Y",null,"X","Y"]
[null,0,{"$f":"(0+H650*B657/B656)","v":{"$error":"#DIV/0!"}},{"$f":"180/PI()*C657","v":{"$error":"#DIV/0!"}},{"$f":"COS(C657) * D652  +D650","v":{"$error":"#DIV/0!"}},{"$f":"IF(ABS(D652^2-(E657-D650)^2)<0.00001,D651+0,D651+SQRT(D652^2-(E657-D650)^2))","v":{"$error":"#DIV/0!"}},null,null,null,null,null,null,null,null,null,null,null,null,null,{"$f":"E657","v":{"$error":"#DIV/0!"}},{"$f":"F657","v":{"$error":"#DIV/0!"}},null,{"$f":"IF(D642=\"None\",0,-D646)","v":0},{"$f":"IF(D642=\"None\",0,G646+0.5)","v":0}]
[null,1,{"$f":"(0+H650*B658/B656)","v":{"$error":"#DIV/0!"}},{"$f":"180/PI()*C658","v":{"$error":"#DIV/0!"}},{"$f":"COS(C658) * D652  +D650","v":{"$error":"#DIV/0!"}},{"$f":"IF(ABS(D652^2-(E658-D650)^2)<0.00001,D651+0,D651+SQRT(D652^2-(E658-D650)^2))","v":{"$error":"#DIV/0!"}},null,null,null,null,null,null,null,null,null,null,null,null,null,{"$error":"#DIV/0!"},{"$error":"#DIV/0!"},null,{"$f":"IF(D642=\"None\",0,-D646)","v":0},{"$f":"IF(D642=\"None\",0,G646-0.5)","v":0}]
[null,2,{"$f":"(0+H650*B659/B656)","v":{"$error":"#DIV/0!"}},{"$error":"#DIV/0!"},{"$f":"COS(C659) * D652  +D650","v":{"$error":"#DIV/0!"}},{"$f":"IF(ABS(D652^2-(E659-D650)^2)<0.00001,D651+0,D651+SQRT(D652^2-(E659-D650)^2))","v":{"$error":"#DIV/0!"}},null,null,null,null,null,null,null,null,null,null,null,null,null,{"$error":"#DIV/0!"},{"$error":"#DIV/0!"}]
[null,3,{"$f":"(0+H650*B660/B656)","v":{"$error":"#DIV/0!"}},{"$error":"#DIV/0!"},{"$f":"COS(C660) * D652  +D650","v":{"$error":"#DIV/0!"}},{"$f":"IF(ABS(D652^2-(E660-D650)^2)<0.00001,D651+0,D651+SQRT(D652^2-(E660-D650)^2))","v":{"$error":"#DIV/0!"}},null,null,null,null,null,null,null,null,null,null,null,null,null,{"$error":"#DIV/0!"},{"$error":"#DIV/0!"},null,{"$f":"IF(D642=\"None\",0,-D646+0.5)","v":0},{"$f":"IF(D642=\"None\",0,G646)","v":0}]
[null,4,{"$f":"(0+H650*B661/B656)","v":{"$error":"#DIV/0!"}},{"$error":"#DIV/0!"},{"$f":"COS(C661) * D652  +D650","v":{"$error":"#DIV/0!"}},{"$f":"IF(ABS(D652^2-(E661-D650)^2)<0.00001,D651+0,D651+SQRT(D652^2-(E661-D650)^2))","v":{"$error":"#DIV/0!"}},null,null,null,null,null,null,null,null,null,null,null,null,null,{"$error":"#DIV/0!"},{"$error":"#DIV/0!"},null,{"$f":"IF(D642=\"None\",0,-D646-0.5)","v":0},{"$f":"IF(D642=\"None\",0,G646)","v":0}]
[null,5,{"$f":"(0+H650*B662/B656)","v":{"$error":"#DIV/0!"}},{"$error":"#DIV/0!"},{"$f":"COS(C662) * D652  +D650","v":{"$error":"#DIV/0!"}},{"$f":"IF(ABS(D652^2-(E662-D650)^2)<0.00001,D651+0,D651+SQRT(D652^2-(E662-D650)^2))","v":{"$error":"#DIV/0!"}},null,null,null,null,null,null,null,null,null,null,null,null,null,{"$error":"#DIV/0!"},{"$error":"#DIV/0!"}]
[null,6,{"$f":"(0+H650*B663/B656)","v":{"$error":"#DIV/0!"}},{"$error":"#DIV/0!"},{"$f":"COS(C663) * D652  +D650","v":{"$error":"#DIV/0!"}},{"$f":"IF(ABS(D652^2-(E663-D650)^2)<0.00001,D651+0,D651+SQRT(D652^2-(E663-D650)^2))","v":{"$error":"#DIV/0!"}},null,null,null,null,null,null,null,null,null,null,null,null,null,{"$error":"#DIV/0!"},{"$error":"#DIV/0!"}]
[null,7,{"$f":"(0+H650*B664/B656)","v":{"$error":"#DIV/0!"}},{"$error":"#DIV/0!"},{"$f":"COS(C664) * D652  +D650","v":{"$error":"#DIV/0!"}},{"$f":"IF(ABS(D652^2-(E664-D650)^2)<0.00001,D651+0,D651+SQRT(D652^2-(E664-D650)^2))","v":{"$error":"#DIV/0!"}},null,null,null,null,null,null,null,null,null,null,null,null,null,{"$error":"#DIV/0!"},{"$error":"#DIV/0!"}]
[null,8,{"$f":"(0+H650*B665/B656)","v":{"$error":"#DIV/0!"}},{"$error":"#DIV/0!"},{"$f":"COS(C665) * D652  +D650","v":{"$error":"#DIV/0!"}},{"$f":"IF(ABS(D652^2-(E665-D650)^2)<0.00001,D651+0,D651+SQRT(D652^2-(E665-D650)^2))","v":{"$error":"#DIV/0!"}},null,null,null,null,null,null,null,null,null,null,null,null,null,{"$error":"#DIV/0!"},{"$error":"#DIV/0!"}]
[null,9,{"$f":"(0+H650*B666/B656)","v":{"$error":"#DIV/0!"}},{"$error":"#DIV/0!"},{"$f":"COS(C666) * D652  +D650","v":{"$error":"#DIV/0!"}},{"$f":"IF(ABS(D652^2-(E666-D650)^2)<0.00001,D651+0,D651+SQRT(D652^2-(E666-D650)^2))","v":{"$error":"#DIV/0!"}},null,null,null,null,null,null,null,null,null,null,null,null,null,{"$error":"#DIV/0!"},{"$error":"#DIV/0!"}]
[null,10,{"$f":"(0+H650*B667/B656)","v":{"$error":"#DIV/0!"}},{"$error":"#DIV/0!"},{"$f":"COS(C667) * D652  +D650","v":{"$error":"#DIV/0!"}},{"$f":"IF(ABS(D652^2-(E667-D650)^2)<0.00001,D651+0,D651+SQRT(D652^2-(E667-D650)^2))","v":{"$error":"#DIV/0!"}},null,null,null,null,null,null,null,null,null,null,null,null,null,{"$error":"#DIV/0!"},{"$error":"#DIV/0!"}]
[null,11,{"$f":"(0+H650*B668/B656)","v":{"$error":"#DIV/0!"}},{"$error":"#DIV/0!"},{"$f":"COS(C668) * D652  +D650","v":{"$error":"#DIV/0!"}},{"$f":"IF(ABS(D652^2-(E668-D650)^2)<0.00001,D651+0,D651+SQRT(D652^2-(E668-D650)^2))","v":{"$error":"#DIV/0!"}},null,null,null,null,null,null,null,null,null,null,null,null,null,{"$error":"#DIV/0!"},{"$error":"#DIV/0!"}]
[null,12,{"$f":"(0+H650*B669/B656)","v":{"$error":"#DIV/0!"}},{"$error":"#DIV/0!"},{"$f":"COS(C669) * D652  +D650","v":{"$error":"#DIV/0!"}},{"$f":"IF(ABS(D652^2-(E669-D650)^2)<0.00001,D651+0,D651+SQRT(D652^2-(E669-D650)^2))","v":{"$error":"#DIV/0!"}},null,null,null,null,null,null,null,null,null,null,null,null,null,{"$error":"#DIV/0!"},{"$error":"#DIV/0!"}]
[]
[null,null,null,null,null,null,null,null,null,null,null,null,null,null,null,null,null,null,null,{"$f":"-T669","v":{"$error":"#DIV/0!"}},{"$f":"U669","v":{"$error":"#DIV/0!"}}]
[null,null,null,null,null,null,null,null,null,null,null,null,null,null,null,null,null,null,null,{"$f":"-T668","v":{"$error":"#DIV/0!"}},{"$f":"U668","v":{"$error":"#DIV/0!"}}]
[null,null,null,null,null,null,null,null,null,null,null,null,null,null,null,null,null,null,null,{"$f":"-T667","v":{"$error":"#DIV/0!"}},{"$f":"U667","v":{"$error":"#DIV/0!"}}]
[null,null,null,null,null,null,null,null,null,null,null,null,null,null,null,null,null,null,null,{"$f":"-T666","v":{"$error":"#DIV/0!"}},{"$f":"U666","v":{"$error":"#DIV/0!"}}]
[null,null,null,null,null,null,null,null,null,null,null,null,null,null,null,null,null,null,null,{"$f":"-T665","v":{"$error":"#DIV/0!"}},{"$f":"U665","v":{"$error":"#DIV/0!"}}]
[null,null,null,null,null,null,null,null,null,null,null,null,null,null,null,null,null,null,null,{"$f":"-T664","v":{"$error":"#DIV/0!"}},{"$f":"U664","v":{"$error":"#DIV/0!"}}]
[null,null,null,null,null,null,null,null,null,null,null,null,null,null,null,null,null,null,null,{"$f":"-T663","v":{"$error":"#DIV/0!"}},{"$f":"U663","v":{"$error":"#DIV/0!"}}]
[null,null,null,null,null,null,null,null,null,null,null,null,null,null,null,null,null,null,null,{"$f":"-T662","v":{"$error":"#DIV/0!"}},{"$f":"U662","v":{"$error":"#DIV/0!"}}]
[null,null,null,null,null,null,null,null,null,null,null,null,null,null,null,null,null,null,null,{"$f":"-T661","v":{"$error":"#DIV/0!"}},{"$f":"U661","v":{"$error":"#DIV/0!"}}]
[null,null,null,null,null,null,null,null,null,null,null,null,null,null,null,null,null,null,null,{"$f":"-T660","v":{"$error":"#DIV/0!"}},{"$f":"U660","v":{"$error":"#DIV/0!"}}]
[null,null,null,null,null,null,null,null,null,null,null,null,null,null,null,null,null,null,null,{"$f":"-T659","v":{"$error":"#DIV/0!"}},{"$f":"U659","v":{"$error":"#DIV/0!"}}]
[null,null,null,null,null,null,null,null,null,null,null,null,null,null,null,null,null,null,null,{"$f":"-T658","v":{"$error":"#DIV/0!"}},{"$f":"U658","v":{"$error":"#DIV/0!"}}]
[null,null,null,null,null,null,null,null,null,null,null,null,null,null,null,null,null,null,null,{"$f":"-T657","v":{"$error":"#DIV/0!"}},{"$f":"U657","v":{"$error":"#DIV/0!"}}]
[]
[null,null,null,null,null,null,null,null,null,null,null,null,null,null,null,null,null,null,null,{"$f":"T657","v":{"$error":"#DIV/0!"}},{"$f":"U657","v":{"$error":"#DIV/0!"}}]
[null,null,"Graph data --->",null,null,null,null,null,null,null,null,null,null,null,null,null,null,null,null,{"$f":"T683","v":{"$error":"#DIV/0!"}},{"$f":"U683","v":{"$error":"#DIV/0!"}}]
[]
[null,"Core 4 Inside Face"]
[null,"Knife number",null,{"$f":"D642","v":"None"}]
[null,null,{"$f":"C643","v":"Dist from FO blank ="},{"$f":"D643","v":0},"in   =","f"]
[null,null,{"$f":"C644","v":"Dist from CL of bed ="},{"$f":"D644","v":0},"in   =","b"]
[]
[null,null,"(x-h)^2  +  (y-k)^2  =  r^2",null,null,"y = k   +/-  sqrt[ r^2  -  (x-h)^2  ] "]
[null,null,"h =",{"$f":"D691","v":0},null,null,"a =",{"$f":"ASIN(D690/D696)","v":{"$error":"#DIV/0!"}},"rad =",{"$f":"180/PI()*H694","v":{"$error":"#DIV/0!"}},"deg"]
[null,null,"k =",{"$f":"$D$23-D690","v":{"$error":"#DIV/0!"}},null,null,"b =",{"$f":"IF(D691<0, -ASIN(D691/D696), 0)","v":0},"rad =",{"$f":"180/PI()*H695","v":0},"deg"]
[null,null,"r =",{"$f":"VLOOKUP(D689,Lookup!$B$8:$D$12,2)","v":0},null,null,"q =",{"$f":"PI()/2-H694-H695","v":{"$error":"#DIV/0!"}},"rad =",{"$f":"180/PI()*H696","v":{"$error":"#DIV/0!"}},"deg"]
[]
[null,"Core 4 Inside Face",null,null,null,null,null,null,null,null,null,null,null,null,null,null,null,null,null,"Graph of Core 4 IF"]
[null,"Angle Increment"]
[null,{"$f":"MAX(B702:B713)","v":12},"rad","deg","X","Y",null,null,null,null,null,null,null,null,null,null,null,null,null,"X","Y"]
[null,0,{"$f":"H694 + H696*B701/B700","v":{"$error":"#DIV/0!"}},{"$f":"180/PI()*C701","v":{"$error":"#DIV/0!"}},{"$f":"COS(C701) * D696  +D694","v":{"$error":"#DIV/0!"}},{"$f":"IF(ABS(D696^2-(E701-D694)^2)<0.00001,D695+0,D695+SQRT(D696^2-(E701-D694)^2))","v":{"$error":"#DIV/0!"}},null,null,null,null,null,null,null,null,null,null,null,null,null,{"$f":"E701","v":{"$error":"#DIV/0!"}},{"$f":"F701","v":{"$error":"#DIV/0!"}}]
[null,1,{"$f":"H694 + H696*B702/B700","v":{"$error":"#DIV/0!"}},{"$f":"180/PI()*C702","v":{"$error":"#DIV/0!"}},{"$f":"COS(C702) * D696  +D694","v":{"$error":"#DIV/0!"}},{"$f":"IF(ABS(D696^2-(E702-D694)^2)<0.00001,D695+0,D695+SQRT(D696^2-(E702-D694)^2))","v":{"$error":"#DIV/0!"}},null,null,null,null,null,null,null,null,null,null,null,null,null,{"$error":"#DIV/0!"},{"$error":"#DIV/0!"}]
[null,2,{"$f":"H694 + H696*B703/B700","v":{"$error":"#DIV/0!"}},{"$error":"#DIV/0!"},{"$f":"COS(C703) * D696  +D694","v":{"$error":"#DIV/0!"}},{"$f":"IF(ABS(D696^2-(E703-D694)^2)<0.00001,D695+0,D695+SQRT(D696^2-(E703-D694)^2))","v":{"$error":"#DIV/0!"}},null,null,null,null,null,null,null,null,null,null,null,null,null,{"$error":"#DIV/0!"},{"$error":"#DIV/0!"}]
[null,3,{"$f":"H694 + H696*B704/B700","v":{"$error":"#DIV/0!"}},{"$error":"#DIV/0!"},{"$f":"COS(C704) * D696  +D694","v":{"$error":"#DIV/0!"}},{"$f":"IF(ABS(D696^2-(E704-D694)^2)<0.00001,D695+0,D695+SQRT(D696^2-(E704-D694)^2))","v":{"$error":"#DIV/0!"}},null,null,null,null,null,null,null,null,null,null,null,null,null,{"$error":"#DIV/0!"},{"$error":"#DIV/0!"}]
[null,4,{"$f":"H694 + H696*B705/B700","v":{"$error":"#DIV/0!"}},{"$error":"#DIV/0!"},{"$f":"COS(C705) * D696  +D694","v":{"$error":"#DIV/0!"}},{"$f":"IF(ABS(D696^2-(E705-D694)^2)<0.00001,D695+0,D695+SQRT(D696^2-(E705-D694)^2))","v":{"$error":"#DIV/0!"}},null,null,null,null,null,null,null,null,null,null,null,null,null,{"$error":"#DIV/0!"},{"$error":"#DIV/0!"}]
[null,5,{"$f":"H694 + H696*B706/B700","v":{"$error":"#DIV/0!"}},{"$error":"#DIV/0!"},{"$f":"COS(C706) * D696  +D694","v":{"$error":"#DIV/0!"}},{"$f":"IF(ABS(D696^2-(E706-D694)^2)<0.00001,D695+0,D695+SQRT(D696^2-(E706-D694)^2))","v":{"$error":"#DIV/0!"}},null,null,null,null,null,null,null,null,null,null,null,null,null,{"$error":"#DIV/0!"},{"$error":"#DIV/0!"}]
[null,6,{"$f":"H694 + H696*B707/B700","v":{"$error":"#DIV/0!"}},{"$error":"#DIV/0!"},{"$f":"COS(C707) * D696  +D694","v":{"$error":"#DIV/0!"}},{"$f":"IF(ABS(D696^2-(E707-D694)^2)<0.00001,D695+0,D695+SQRT(D696^2-(E707-D694)^2))","v":{"$error":"#DIV/0!"}},null,null,null,null,null,null,null,null,null,null,null,null,null,{"$error":"#DIV/0!"},{"$error":"#DIV/0!"}]
[null,7,{"$f":"H694 + H696*B708/B700","v":{"$error":"#DIV/0!"}},{"$error":"#DIV/0!"},{"$f":"COS(C708) * D696  +D694","v":{"$error":"#DIV/0!"}},{"$f":"IF(ABS(D696^2-(E708-D694)^2)<0.00001,D695+0,D695+SQRT(D696^2-(E708-D694)^2))","v":{"$error":"#DIV/0!"}},null,null,null,null,null,null,null,null,null,null,null,null,null,{"$error":"#DIV/0!"},{"$error":"#DIV/0!"}]
[null,8,{"$f":"H694 + H696*B709/B700","v":{"$error":"#DIV/0!"}},{"$error":"#DIV/0!"},{"$f":"COS(C709) * D696  +D694","v":{"$error":"#DIV/0!"}},{"$f":"IF(ABS(D696^2-(E709-D694)^2)<0.00001,D695+0,D695+SQRT(D696^2-(E709-D694)^2))","v":{"$error":"#DIV/0!"}},null,null,null,null,null,null,null,null,null,null,null,null,null,{"$error":"#DIV/0!"},{"$error":"#DIV/0!"}]
[null,9,{"$f":"H694 + H696*B710/B700","v":{"$error":"#DIV/0!"}},{"$error":"#DIV/0!"},{"$f":"COS(C710) * D696  +D694","v":{"$error":"#DIV/0!"}},{"$f":"IF(ABS(D696^2-(E710-D694)^2)<0.00001,D695+0,D695+SQRT(D696^2-(E710-D694)^2))","v":{"$error":"#DIV/0!"}},null,null,null,null,null,null,null,null,null,null,null,null,null,{"$error":"#DIV/0!"},{"$error":"#DIV/0!"}]
[null,10,{"$f":"H694 + H696*B711/B700","v":{"$error":"#DIV/0!"}},{"$error":"#DIV/0!"},{"$f":"COS(C711) * D696  +D694","v":{"$error":"#DIV/0!"}},{"$f":"IF(ABS(D696^2-(E711-D694)^2)<0.00001,D695+0,D695+SQRT(D696^2-(E711-D694)^2))","v":{"$error":"#DIV/0!"}},null,null,null,null,null,null,null,null,null,null,null,null,null,{"$error":"#DIV/0!"},{"$error":"#DIV/0!"}]
[null,11,{"$f":"H694 + H696*B712/B700","v":{"$error":"#DIV/0!"}},{"$error":"#DIV/0!"},{"$f":"COS(C712) * D696  +D694","v":{"$error":"#DIV/0!"}},{"$f":"IF(ABS(D696^2-(E712-D694)^2)<0.00001,D695+0,D695+SQRT(D696^2-(E712-D694)^2))","v":{"$error":"#DIV/0!"}},null,null,null,null,null,null,null,null,null,null,null,null,null,{"$error":"#DIV/0!"},{"$error":"#DIV/0!"}]
[null,12,{"$f":"H694 + H696*B713/B700","v":{"$error":"#DIV/0!"}},{"$error":"#DIV/0!"},{"$f":"COS(C713) * D696  +D694","v":{"$error":"#DIV/0!"}},{"$f":"IF(ABS(D696^2-(E713-D694)^2)<0.00001,D695+0,D695+SQRT(D696^2-(E713-D694)^2))","v":{"$error":"#DIV/0!"}},null,null,null,null,null,null,null,null,null,null,null,null,null,{"$error":"#DIV/0!"},{"$error":"#DIV/0!"}]
[null,null,null,null,null,null,null,null,null,null,null,null,null,null,null,null,null,null,null,{"$f":"-T712","v":{"$error":"#DIV/0!"}},{"$f":"U712","v":{"$error":"#DIV/0!"}}]
[null,null,null,null,null,null,null,null,null,null,null,null,null,null,null,null,null,null,null,{"$f":"-T711","v":{"$error":"#DIV/0!"}},{"$f":"U711","v":{"$error":"#DIV/0!"}}]
[null,null,null,null,null,null,null,null,null,null,null,null,null,null,null,null,null,null,null,{"$f":"-T710","v":{"$error":"#DIV/0!"}},{"$f":"U710","v":{"$error":"#DIV/0!"}}]
[null,null,null,null,null,null,null,null,null,null,null,null,null,null,null,null,null,null,null,{"$f":"-T709","v":{"$error":"#DIV/0!"}},{"$f":"U709","v":{"$error":"#DIV/0!"}}]
[null,null,null,null,null,null,null,null,null,null,null,null,null,null,null,null,null,null,null,{"$f":"-T708","v":{"$error":"#DIV/0!"}},{"$f":"U708","v":{"$error":"#DIV/0!"}}]
[null,null,null,null,null,null,null,null,null,null,null,null,null,null,null,null,null,null,null,{"$f":"-T707","v":{"$error":"#DIV/0!"}},{"$f":"U707","v":{"$error":"#DIV/0!"}}]
[null,null,null,null,null,null,null,null,null,null,null,null,null,null,null,null,null,null,null,{"$f":"-T706","v":{"$error":"#DIV/0!"}},{"$f":"U706","v":{"$error":"#DIV/0!"}}]
[null,null,null,null,null,null,null,null,null,null,null,null,null,null,null,null,null,null,null,{"$f":"-T705","v":{"$error":"#DIV/0!"}},{"$f":"U705","v":{"$error":"#DIV/0!"}}]
[null,null,null,null,null,null,null,null,null,null,null,null,null,null,null,null,null,null,null,{"$f":"-T704","v":{"$error":"#DIV/0!"}},{"$f":"U704","v":{"$error":"#DIV/0!"}}]
[null,null,null,null,null,null,null,null,null,null,null,null,null,null,null,null,null,null,null,{"$f":"-T703","v":{"$error":"#DIV/0!"}},{"$f":"U703","v":{"$error":"#DIV/0!"}}]
[null,null,null,null,null,null,null,null,null,null,null,null,null,null,null,null,null,null,null,{"$f":"-T702","v":{"$error":"#DIV/0!"}},{"$f":"U702","v":{"$error":"#DIV/0!"}}]
[null,null,"Graph data --->",null,null,null,null,null,null,null,null,null,null,null,null,null,null,null,null,{"$f":"-T701","v":{"$error":"#DIV/0!"}},{"$f":"U701","v":{"$error":"#DIV/0!"}}]
[]
[]
[null,"Core 4 Outside Face"]
[null,"Knife number",null,{"$f":"D689","v":"None"}]
[null,null,{"$f":"C643","v":"Dist from FO blank ="},{"$f":"D643","v":0},{"$f":"E690","v":"in   ="},{"$f":"F690","v":"f"}]
[null,null,{"$f":"C644","v":"Dist from CL of bed ="},{"$f":"D644","v":0},{"$f":"E691","v":"in   ="},{"$f":"F691","v":"b"}]
[]
[null,null,"(x-h)^2  +  (y-k)^2  =  r^2",null,null,"y = k   +/-  sqrt[ r^2  -  (x-h)^2  ] "]
[]
[null,null,"h =",{"$f":"D731","v":0},null,null,"a =",{"$f":"ASIN(D730/D737)","v":{"$error":"#DIV/0!"}},"rad =",{"$f":"180/PI()*H735","v":{"$error":"#DIV/0!"}},"deg"]
[null,null,"k =",{"$f":"$D$23-D730","v":{"$error":"#DIV/0!"}},null,null,"b =",{"$f":"IF(D731<0, -ASIN(D731/D737), 0)","v":0},"rad =",{"$f":"180/PI()*H736","v":0},"deg"]
[null,null,"r =",{"$f":"VLOOKUP(D729,Lookup!$B$8:$D$12,3)","v":0},null,null,"q =",{"$f":"PI()/2-H735-H736","v":{"$error":"#DIV/0!"}},"rad =",{"$f":"180/PI()*H737","v":{"$error":"#DIV/0!"}},"deg"]
[]
[null,"Core 4 Outside Face",null,null,null,null,null,null,null,null,null,null,null,null,null,null,null,null,null,"Graph of Core 4 OF"]
[null,"Angle Increment"]
[null,{"$f":"MAX(B743:B754)","v":12},"rad","deg","X","Y",null,null,null,null,null,null,null,null,null,null,null,null,null,"X","Y"]
[null,0,{"$f":"H735 + H737*B742/B741","v":{"$error":"#DIV/0!"}},{"$f":"180/PI()*C742","v":{"$error":"#DIV/0!"}},{"$f":"COS(C742) * D737  +D735","v":{"$error":"#DIV/0!"}},{"$f":"IF(ABS(D737^2-(E742-D735)^2)<0.00001,D736+0,D736+SQRT(D737^2-(E742-D735)^2))","v":{"$error":"#DIV/0!"}},null,null,null,null,null,null,null,null,null,null,null,null,null,{"$f":"E742","v":{"$error":"#DIV/0!"}},{"$f":"F742","v":{"$error":"#DIV/0!"}}]
[null,1,{"$f":"H735 + H737*B743/B741","v":{"$error":"#DIV/0!"}},{"$f":"180/PI()*C743","v":{"$error":"#DIV/0!"}},{"$f":"COS(C743) * D737  +D735","v":{"$error":"#DIV/0!"}},{"$f":"IF(ABS(D737^2-(E743-D735)^2)<0.00001,D736+0,D736+SQRT(D737^2-(E743-D735)^2))","v":{"$error":"#DIV/0!"}},null,null,null,null,null,null,null,null,null,null,null,null,null,{"$error":"#DIV/0!"},{"$error":"#DIV/0!"}]
[null,2,{"$f":"H735 + H737*B744/B741","v":{"$error":"#DIV/0!"}},{"$error":"#DIV/0!"},{"$f":"COS(C744) * D737  +D735","v":{"$error":"#DIV/0!"}},{"$f":"IF(ABS(D737^2-(E744-D735)^2)<0.00001,D736+0,D736+SQRT(D737^2-(E744-D735)^2))","v":{"$error":"#DIV/0!"}},null,null,null,null,null,null,null,null,null,null,null,null,null,{"$error":"#DIV/0!"},{"$error":"#DIV/0!"}]
[null,3,{"$f":"H735 + H737*B745/B741","v":{"$error":"#DIV/0!"}},{"$error":"#DIV/0!"},{"$f":"COS(C745) * D737  +D735","v":{"$error":"#DIV/0!"}},{"$f":"IF(ABS(D737^2-(E745-D735)^2)<0.00001,D736+0,D736+SQRT(D737^2-(E745-D735)^2))","v":{"$error":"#DIV/0!"}},null,null,null,null,null,null,null,null,null,null,null,null,null,{"$error":"#DIV/0!"},{"$error":"#DIV/0!"}]
[null,4,{"$f":"H735 + H737*B746/B741","v":{"$error":"#DIV/0!"}},{"$error":"#DIV/0!"},{"$f":"COS(C746) * D737  +D735","v":{"$error":"#DIV/0!"}},{"$f":"IF(ABS(D737^2-(E746-D735)^2)<0.00001,D736+0,D736+SQRT(D737^2-(E746-D735)^2))","v":{"$error":"#DIV/0!"}},null,null,null,null,null,null,null,null,null,null,null,null,null,{"$error":"#DIV/0!"},{"$error":"#DIV/0!"}]
[null,5,{"$f":"H735 + H737*B747/B741","v":{"$error":"#DIV/0!"}},{"$error":"#DIV/0!"},{"$f":"COS(C747) * D737  +D735","v":{"$error":"#DIV/0!"}},{"$f":"IF(ABS(D737^2-(E747-D735)^2)<0.00001,D736+0,D736+SQRT(D737^2-(E747-D735)^2))","v":{"$error":"#DIV/0!"}},null,null,null,null,null,null,null,null,null,null,null,null,null,{"$error":"#DIV/0!"},{"$error":"#DIV/0!"}]
[null,6,{"$f":"H735 + H737*B748/B741","v":{"$error":"#DIV/0!"}},{"$error":"#DIV/0!"},{"$f":"COS(C748) * D737  +D735","v":{"$error":"#DIV/0!"}},{"$f":"IF(ABS(D737^2-(E748-D735)^2)<0.00001,D736+0,D736+SQRT(D737^2-(E748-D735)^2))","v":{"$error":"#DIV/0!"}},null,null,null,null,null,null,null,null,null,null,null,null,null,{"$error":"#DIV/0!"},{"$error":"#DIV/0!"}]
[null,7,{"$f":"H735 + H737*B749/B741","v":{"$error":"#DIV/0!"}},{"$error":"#DIV/0!"},{"$f":"COS(C749) * D737  +D735","v":{"$error":"#DIV/0!"}},{"$f":"IF(ABS(D737^2-(E749-D735)^2)<0.00001,D736+0,D736+SQRT(D737^2-(E749-D735)^2))","v":{"$error":"#DIV/0!"}},null,null,null,null,null,null,null,null,null,null,null,null,null,{"$error":"#DIV/0!"},{"$error":"#DIV/0!"}]
[null,8,{"$f":"H735 + H737*B750/B741","v":{"$error":"#DIV/0!"}},{"$error":"#DIV/0!"},{"$f":"COS(C750) * D737  +D735","v":{"$error":"#DIV/0!"}},{"$f":"IF(ABS(D737^2-(E750-D735)^2)<0.00001,D736+0,D736+SQRT(D737^2-(E750-D735)^2))","v":{"$error":"#DIV/0!"}},null,null,null,null,null,null,null,null,null,null,null,null,null,{"$error":"#DIV/0!"},{"$error":"#DIV/0!"}]
[null,9,{"$f":"H735 + H737*B751/B741","v":{"$error":"#DIV/0!"}},{"$error":"#DIV/0!"},{"$f":"COS(C751) * D737  +D735","v":{"$error":"#DIV/0!"}},{"$f":"IF(ABS(D737^2-(E751-D735)^2)<0.00001,D736+0,D736+SQRT(D737^2-(E751-D735)^2))","v":{"$error":"#DIV/0!"}},null,null,null,null,null,null,null,null,null,null,null,null,null,{"$error":"#DIV/0!"},{"$error":"#DIV/0!"}]
[null,10,{"$f":"H735 + H737*B752/B741","v":{"$error":"#DIV/0!"}},{"$error":"#DIV/0!"},{"$f":"COS(C752) * D737  +D735","v":{"$error":"#DIV/0!"}},{"$f":"IF(ABS(D737^2-(E752-D735)^2)<0.00001,D736+0,D736+SQRT(D737^2-(E752-D735)^2))","v":{"$error":"#DIV/0!"}},null,null,null,null,null,null,null,null,null,null,null,null,null,{"$error":"#DIV/0!"},{"$error":"#DIV/0!"}]
[null,11,{"$f":"H735 + H737*B753/B741","v":{"$error":"#DIV/0!"}},{"$error":"#DIV/0!"},{"$f":"COS(C753) * D737  +D735","v":{"$error":"#DIV/0!"}},{"$f":"IF(ABS(D737^2-(E753-D735)^2)<0.00001,D736+0,D736+SQRT(D737^2-(E753-D735)^2))","v":{"$error":"#DIV/0!"}},null,null,null,null,null,null,null,null,null,null,null,null,null,{"$error":"#DIV/0!"},{"$error":"#DIV/0!"}]
[null,12,{"$f":"H735 + H737*B754/B741","v":{"$error":"#DIV/0!"}},{"$error":"#DIV/0!"},{"$f":"COS(C754) * D737  +D735","v":{"$error":"#DIV/0!"}},{"$f":"IF(ABS(D737^2-(E754-D735)^2)<0.00001,D736+0,D736+SQRT(D737^2-(E754-D735)^2))","v":{"$error":"#DIV/0!"}},null,null,null,null,null,null,null,null,null,null,null,null,null,{"$error":"#DIV/0!"},{"$error":"#DIV/0!"}]
[null,null,null,null,null,null,null,null,null,null,null,null,null,null,null,null,null,null,null,{"$f":"-T753","v":{"$error":"#DIV/0!"}},{"$f":"U753","v":{"$error":"#DIV/0!"}}]
[null,null,null,null,null,null,null,null,null,null,null,null,null,null,null,null,null,null,null,{"$f":"-T752","v":{"$error":"#DIV/0!"}},{"$f":"U752","v":{"$error":"#DIV/0!"}}]
[null,null,null,null,null,null,null,null,null,null,null,null,null,null,null,null,null,null,null,{"$f":"-T751","v":{"$error":"#DIV/0!"}},{"$f":"U751","v":{"$error":"#DIV/0!"}}]
[null,null,null,null,null,null,null,null,null,null,null,null,null,null,null,null,null,null,null,{"$f":"-T750","v":{"$error":"#DIV/0!"}},{"$f":"U750","v":{"$error":"#DIV/0!"}}]
[null,null,null,null,null,null,null,null,null,null,null,null,null,null,null,null,null,null,null,{"$f":"-T749","v":{"$error":"#DIV/0!"}},{"$f":"U749","v":{"$error":"#DIV/0!"}}]
[null,null,null,null,null,null,null,null,null,null,null,null,null,null,null,null,null,null,null,{"$f":"-T748","v":{"$error":"#DIV/0!"}},{"$f":"U748","v":{"$error":"#DIV/0!"}}]
[null,null,null,null,null,null,null,null,null,null,null,null,null,null,null,null,null,null,null,{"$f":"-T747","v":{"$error":"#DIV/0!"}},{"$f":"U747","v":{"$error":"#DIV/0!"}}]
[null,null,null,null,null,null,null,null,null,null,null,null,null,null,null,null,null,null,null,{"$f":"-T746","v":{"$error":"#DIV/0!"}},{"$f":"U746","v":{"$error":"#DIV/0!"}}]
[null,null,null,null,null,null,null,null,null,null,null,null,null,null,null,null,null,null,null,{"$f":"-T745","v":{"$error":"#DIV/0!"}},{"$f":"U745","v":{"$error":"#DIV/0!"}}]
[null,null,null,null,null,null,null,null,null,null,null,null,null,null,null,null,null,null,null,{"$f":"-T744","v":{"$error":"#DIV/0!"}},{"$f":"U744","v":{"$error":"#DIV/0!"}}]
[null,null,null,null,null,null,null,null,null,null,null,null,null,null,null,null,null,null,null,{"$f":"-T743","v":{"$error":"#DIV/0!"}},{"$f":"U743","v":{"$error":"#DIV/0!"}}]
[null,null,"Graph data --->",null,null,null,null,null,null,null,null,null,null,null,null,null,null,null,null,{"$f":"-T742","v":{"$error":"#DIV/0!"}},{"$f":"U742","v":{"$error":"#DIV/0!"}}]
[]
[]
[null,"Determine distance to from",null,null,"Core 3 OF","to","Core 4 IF"]
[]
[null,"For",{"$f":"G769","v":"Core 4 IF"}]
[null,"X1 =",{"$f":"D465","v":0},"h =",{"$f":"D469","v":0},null,"quadA =","m^2+1",null,null,"For derivation, see https://math.stackexchange.com/questions/228841/how-do-i-calculate-the-intersections-of-a-straight-line-and-a-circle",null,null," "]
[null,"Y1 =",{"$f":"G465","v":{"$error":"#DIV/0!"}},"k =",{"$f":"D470","v":{"$error":"#DIV/0!"}},null,"quadB =","2(mb−mk−h)"]
[null,null,null,"r =",{"$f":"D515","v":0},null,"quadC =","k^2−r^2+h^2−2bk+b^2"]
[]
[null,"Line from (X1, Y1) to (X2, Y2)",null,null,null,null,null,null,null,null,null,null,"Point on ",{"$f":"G769","v":"Core 4 IF"},null,"Distance",null,null,null,{"$f":"\"Distance Rays from \"&E769&\" to \"&G769","v":"Distance Rays from Core 3 OF to Core 4 IF"}]
[null,"X2","Y2","m","b",null,"quadA","quadB","quadC","Root1","Root2",null,"X","Y"]
[null,{"$f":"E742","v":{"$error":"#DIV/0!"}},{"$f":"F742","v":{"$error":"#DIV/0!"}},{"$f":"IF( (B778-C772)=0, 1000000000000, IF(ABS(C778-C773)<0.00000001, 0,   (C778-C773) / (B778-C772)))","v":{"$error":"#DIV/0!"}},{"$f":"C778-(D778*B778)","v":{"$error":"#DIV/0!"}},null,{"$f":"D778^2 + 1","v":{"$error":"#DIV/0!"}},{"$f":"2*(D778*E778 - D778*E773 - E772)","v":{"$error":"#DIV/0!"}},{"$f":"E773^2 - E774^2 + E772^2 - 2*E778*E773 + E778^2","v":{"$error":"#DIV/0!"}},{"$f":"IF(ABS(H778^2 - 4*G778*I778)<0.000001, 0, (-H778 + (H778^2 - 4*G778*I778)^0.5)/(2*G778))","v":{"$error":"#DIV/0!"}},{"$f":"IF(ABS(H778^2 - 4*G778*I778)<0.000001, 0, (-H778 - (H778^2 - 4*G778*I778)^0.5)/(2*G778))","v":{"$error":"#DIV/0!"}},null,{"$f":"IF(D778>=0, J778, K778)","v":{"$error":"#DIV/0!"}},{"$f":"D778*M778 + E778","v":{"$error":"#DIV/0!"}},null,{"$f":"SQRT((B778-M778)^2 + (C778-N778)^2)","v":{"$error":"#DIV/0!"}},null,null,null,{"$f":"C772","v":0},{"$f":"C773","v":{"$error":"#DIV/0!"}}]
[null,{"$error":"#DIV/0!"},{"$error":"#DIV/0!"},{"$f":"IF( (B779-C772)=0, 1000000000000, IF(ABS(C779-C773)<0.00000001, 0,   (C779-C773) / (B779-C772)))","v":{"$error":"#DIV/0!"}},{"$f":"C779-(D779*B779)","v":{"$error":"#DIV/0!"}},null,{"$f":"D779^2 + 1","v":{"$error":"#DIV/0!"}},{"$f":"2*(D779*E779 - D779*E773 - E772)","v":{"$error":"#DIV/0!"}},{"$f":"E773^2 - E774^2 + E772^2 - 2*E779*E773 + E779^2","v":{"$error":"#DIV/0!"}},{"$f":"IF(ABS(H779^2 - 4*G779*I779)<0.000001, 0, (-H779 + (H779^2 - 4*G779*I779)^0.5)/(2*G779))","v":{"$error":"#DIV/0!"}},{"$f":"IF(ABS(H779^2 - 4*G779*I779)<0.000001, 0, (-H779 - (H779^2 - 4*G779*I779)^0.5)/(2*G779))","v":{"$error":"#DIV/0!"}},null,{"$f":"IF(D779>=0, J779, K779)","v":{"$error":"#DIV/0!"}},{"$f":"D779*M779 + E779","v":{"$error":"#DIV/0!"}},null,{"$f":"SQRT((B779-M779)^2 + (C779-N779)^2)","v":{"$error":"#DIV/0!"}},null,null,null,{"$f":"B778","v":{"$error":"#DIV/0!"}},{"$f":"C778","v":{"$error":"#DIV/0!"}}]
[null,{"$error":"#DIV/0!"},{"$error":"#DIV/0!"},{"$f":"IF( (B780-C772)=0, 1000000000000, IF(ABS(C780-C773)<0.00000001, 0,   (C780-C773) / (B780-C772)))","v":{"$error":"#DIV/0!"}},{"$error":"#DIV/0!"},null,{"$error":"#DIV/0!"},{"$f":"2*(D780*E780 - D780*E773 - E772)","v":{"$error":"#DIV/0!"}},{"$f":"E773^2 - E774^2 + E772^2 - 2*E780*E773 + E780^2","v":{"$error":"#DIV/0!"}},{"$error":"#DIV/0!"},{"$error":"#DIV/0!"},null,{"$error":"#DIV/0!"},{"$error":"#DIV/0!"},null,{"$error":"#DIV/0!"},null,null,null,{"$f":"M778","v":{"$error":"#DIV/0!"}},{"$f":"N778","v":{"$error":"#DIV/0!"}}]
[null,{"$error":"#DIV/0!"},{"$error":"#DIV/0!"},{"$f":"IF( (B781-C772)=0, 1000000000000, IF(ABS(C781-C773)<0.00000001, 0,   (C781-C773) / (B781-C772)))","v":{"$error":"#DIV/0!"}},{"$error":"#DIV/0!"},null,{"$error":"#DIV/0!"},{"$f":"2*(D781*E781 - D781*E773 - E772)","v":{"$error":"#DIV/0!"}},{"$f":"E773^2 - E774^2 + E772^2 - 2*E781*E773 + E781^2","v":{"$error":"#DIV/0!"}},{"$error":"#DIV/0!"},{"$error":"#DIV/0!"},null,{"$error":"#DIV/0!"},{"$error":"#DIV/0!"},null,{"$error":"#DIV/0!"},null,null,null,{"$f":"C772","v":0},{"$f":"C773","v":{"$error":"#DIV/0!"}}]
[null,{"$error":"#DIV/0!"},{"$error":"#DIV/0!"},{"$f":"IF( (B782-C772)=0, 1000000000000, IF(ABS(C782-C773)<0.00000001, 0,   (C782-C773) / (B782-C772)))","v":{"$error":"#DIV/0!"}},{"$error":"#DIV/0!"},null,{"$error":"#DIV/0!"},{"$f":"2*(D782*E782 - D782*E773 - E772)","v":{"$error":"#DIV/0!"}},{"$f":"E773^2 - E774^2 + E772^2 - 2*E782*E773 + E782^2","v":{"$error":"#DIV/0!"}},{"$error":"#DIV/0!"},{"$error":"#DIV/0!"},null,{"$error":"#DIV/0!"},{"$error":"#DIV/0!"},null,{"$error":"#DIV/0!"},null,null,null,{"$f":"B779","v":{"$error":"#DIV/0!"}},{"$f":"C779","v":{"$error":"#DIV/0!"}}]
[null,{"$error":"#DIV/0!"},{"$error":"#DIV/0!"},{"$f":"IF( (B783-C772)=0, 1000000000000, IF(ABS(C783-C773)<0.00000001, 0,   (C783-C773) / (B783-C772)))","v":{"$error":"#DIV/0!"}},{"$error":"#DIV/0!"},null,{"$error":"#DIV/0!"},{"$f":"2*(D783*E783 - D783*E773 - E772)","v":{"$error":"#DIV/0!"}},{"$f":"E773^2 - E774^2 + E772^2 - 2*E783*E773 + E783^2","v":{"$error":"#DIV/0!"}},{"$error":"#DIV/0!"},{"$error":"#DIV/0!"},null,{"$error":"#DIV/0!"},{"$error":"#DIV/0!"},null,{"$error":"#DIV/0!"},null,null,null,{"$f":"M779","v":{"$error":"#DIV/0!"}},{"$f":"N779","v":{"$error":"#DIV/0!"}}]
[null,{"$error":"#DIV/0!"},{"$error":"#DIV/0!"},{"$f":"IF( (B784-C772)=0, 1000000000000, IF(ABS(C784-C773)<0.00000001, 0,   (C784-C773) / (B784-C772)))","v":{"$error":"#DIV/0!"}},{"$error":"#DIV/0!"},null,{"$error":"#DIV/0!"},{"$f":"2*(D784*E784 - D784*E773 - E772)","v":{"$error":"#DIV/0!"}},{"$f":"E773^2 - E774^2 + E772^2 - 2*E784*E773 + E784^2","v":{"$error":"#DIV/0!"}},{"$error":"#DIV/0!"},{"$error":"#DIV/0!"},null,{"$error":"#DIV/0!"},{"$error":"#DIV/0!"},null,{"$error":"#DIV/0!"},null,null,null,{"$f":"C772","v":0},{"$f":"C773","v":{"$error":"#DIV/0!"}}]
[null,{"$error":"#DIV/0!"},{"$error":"#DIV/0!"},{"$f":"IF( (B785-C772)=0, 1000000000000, IF(ABS(C785-C773)<0.00000001, 0,   (C785-C773) / (B785-C772)))","v":{"$error":"#DIV/0!"}},{"$error":"#DIV/0!"},null,{"$error":"#DIV/0!"},{"$f":"2*(D785*E785 - D785*E773 - E772)","v":{"$error":"#DIV/0!"}},{"$f":"E773^2 - E774^2 + E772^2 - 2*E785*E773 + E785^2","v":{"$error":"#DIV/0!"}},{"$error":"#DIV/0!"},{"$error":"#DIV/0!"},null,{"$error":"#DIV/0!"},{"$error":"#DIV/0!"},null,{"$error":"#DIV/0!"},null,null,null,{"$f":"B780","v":{"$error":"#DIV/0!"}},{"$f":"C780","v":{"$error":"#DIV/0!"}}]
[null,{"$error":"#DIV/0!"},{"$error":"#DIV/0!"},{"$f":"IF( (B786-C772)=0, 1000000000000, IF(ABS(C786-C773)<0.00000001, 0,   (C786-C773) / (B786-C772)))","v":{"$error":"#DIV/0!"}},{"$error":"#DIV/0!"},null,{"$error":"#DIV/0!"},{"$f":"2*(D786*E786 - D786*E773 - E772)","v":{"$error":"#DIV/0!"}},{"$f":"E773^2 - E774^2 + E772^2 - 2*E786*E773 + E786^2","v":{"$error":"#DIV/0!"}},{"$error":"#DIV/0!"},{"$error":"#DIV/0!"},null,{"$error":"#DIV/0!"},{"$error":"#DIV/0!"},null,{"$error":"#DIV/0!"},null,null,null,{"$f":"M780","v":{"$error":"#DIV/0!"}},{"$f":"N780","v":{"$error":"#DIV/0!"}}]
[null,{"$error":"#DIV/0!"},{"$error":"#DIV/0!"},{"$f":"IF( (B787-C772)=0, 1000000000000, IF(ABS(C787-C773)<0.00000001, 0,   (C787-C773) / (B787-C772)))","v":{"$error":"#DIV/0!"}},{"$error":"#DIV/0!"},null,{"$error":"#DIV/0!"},{"$f":"2*(D787*E787 - D787*E773 - E772)","v":{"$error":"#DIV/0!"}},{"$f":"E773^2 - E774^2 + E772^2 - 2*E787*E773 + E787^2","v":{"$error":"#DIV/0!"}},{"$error":"#DIV/0!"},{"$error":"#DIV/0!"},null,{"$error":"#DIV/0!"},{"$error":"#DIV/0!"},null,{"$error":"#DIV/0!"},null,null,null,{"$f":"C772","v":0},{"$f":"C773","v":{"$error":"#DIV/0!"}}]
[null,{"$error":"#DIV/0!"},{"$error":"#DIV/0!"},{"$f":"IF( (B788-C772)=0, 1000000000000, IF(ABS(C788-C773)<0.00000001, 0,   (C788-C773) / (B788-C772)))","v":{"$error":"#DIV/0!"}},{"$error":"#DIV/0!"},null,{"$error":"#DIV/0!"},{"$f":"2*(D788*E788 - D788*E773 - E772)","v":{"$error":"#DIV/0!"}},{"$f":"E773^2 - E774^2 + E772^2 - 2*E788*E773 + E788^2","v":{"$error":"#DIV/0!"}},{"$error":"#DIV/0!"},{"$error":"#DIV/0!"},null,{"$error":"#DIV/0!"},{"$error":"#DIV/0!"},null,{"$error":"#DIV/0!"},null,null,null,{"$f":"B781","v":{"$error":"#DIV/0!"}},{"$f":"C781","v":{"$error":"#DIV/0!"}}]
[null,{"$error":"#DIV/0!"},{"$error":"#DIV/0!"},{"$f":"IF( (B789-C772)=0, 1000000000000, IF(ABS(C789-C773)<0.00000001, 0,   (C789-C773) / (B789-C772)))","v":{"$error":"#DIV/0!"}},{"$error":"#DIV/0!"},null,{"$error":"#DIV/0!"},{"$f":"2*(D789*E789 - D789*E773 - E772)","v":{"$error":"#DIV/0!"}},{"$f":"E773^2 - E774^2 + E772^2 - 2*E789*E773 + E789^2","v":{"$error":"#DIV/0!"}},{"$error":"#DIV/0!"},{"$error":"#DIV/0!"},null,{"$error":"#DIV/0!"},{"$error":"#DIV/0!"},null,{"$error":"#DIV/0!"},null,null,null,{"$f":"M781","v":{"$error":"#DIV/0!"}},{"$f":"N781","v":{"$error":"#DIV/0!"}}]
[null,0,{"$error":"#DIV/0!"},null,null,null,null,null,null,null,null,null,0,{"$f":"F532","v":{"$error":"#DIV/0!"}},null,{"$f":"IF(ISNUMBER(M790), SQRT((B790-M790)^2 + (C790-N790)^2), \"\")","v":{"$error":"#DIV/0!"}},null,null,null,{"$f":"C772","v":0},{"$f":"C773","v":{"$error":"#DIV/0!"}}]
[null,null,null,null,null,null,null,null,null,null,null,null,null,null,null,null,null,null,null,{"$f":"B782","v":{"$error":"#DIV/0!"}},{"$f":"C782","v":{"$error":"#DIV/0!"}}]
[null,null,null,null,null,null,null,null,null,null,null,null,null,null,"Max =",{"$f":"MAX(P778:P790)","v":{"$error":"#DIV/0!"}},null,null,null,{"$f":"M782","v":{"$error":"#DIV/0!"}},{"$f":"N782","v":{"$error":"#DIV/0!"}}]
[null,null,null,null,null,null,null,null,null,null,null,null,null,null,"Min =",{"$f":"MIN(P778:P790)","v":{"$error":"#DIV/0!"}},null,null,null,{"$f":"C772","v":0},{"$f":"C773","v":{"$error":"#DIV/0!"}}]
[null,null,null,null,null,null,null,null,null,null,null,null,null,null,null,null,null,null,null,{"$f":"B783","v":{"$error":"#DIV/0!"}},{"$f":"C783","v":{"$error":"#DIV/0!"}}]
[null,null,null,null,null,null,null,null,null,null,null,null,null,null,null,null,null,null,null,{"$f":"M783","v":{"$error":"#DIV/0!"}},{"$f":"N783","v":{"$error":"#DIV/0!"}}]
[null,null,null,null,null,null,null,null,null,null,null,null,null,null,null,null,null,null,null,{"$f":"C772","v":0},{"$f":"C773","v":{"$error":"#DIV/0!"}}]
[null,null,null,null,null,null,null,null,null,null,null,null,null,null,null,null,null,null,null,{"$f":"B784","v":{"$error":"#DIV/0!"}},{"$f":"C784","v":{"$error":"#DIV/0!"}}]
[null,null,null,null,null,null,null,null,null,null,null,null,null,null,null,null,null,null,null,{"$f":"M784","v":{"$error":"#DIV/0!"}},{"$f":"N784","v":{"$error":"#DIV/0!"}}]
[null,null,null,null,null,null,null,null,null,null,null,null,null,null,null,null,null,null,null,{"$f":"C772","v":0},{"$f":"C773","v":{"$error":"#DIV/0!"}}]
[null,null,null,null,null,null,null,null,null,null,null,null,null,null,null,null,null,null,null,{"$f":"B785","v":{"$error":"#DIV/0!"}},{"$f":"C785","v":{"$error":"#DIV/0!"}}]
[null,null,null,null,null,null,null,null,null,null,null,null,null,null,null,null,null,null,null,{"$f":"M785","v":{"$error":"#DIV/0!"}},{"$f":"N785","v":{"$error":"#DIV/0!"}}]
[null,null,null,null,null,null,null,null,null,null,null,null,null,null,null,null,null,null,null,{"$f":"C772","v":0},{"$f":"C773","v":{"$error":"#DIV/0!"}}]
[null,null,null,null,null,null,null,null,null,null,null,null,null,null,null,null,null,null,null,{"$f":"B786","v":{"$error":"#DIV/0!"}},{"$f":"C786","v":{"$error":"#DIV/0!"}}]
[null,null,null,null,null,null,null,null,null,null,null,null,null,null,null,null,null,null,null,{"$f":"M786","v":{"$error":"#DIV/0!"}},{"$f":"N786","v":{"$error":"#DIV/0!"}}]
[null,null,null,null,null,null,null,null,null,null,null,null,null,null,null,null,null,null,null,{"$f":"C772","v":0},{"$f":"C773","v":{"$error":"#DIV/0!"}}]
[null,null,null,null,null,null,null,null,null,null,null,null,null,null,null,null,null,null,null,{"$f":"B787","v":{"$error":"#DIV/0!"}},{"$f":"C787","v":{"$error":"#DIV/0!"}}]
[null,null,null,null,null,null,null,null,null,null,null,null,null,null,null,null,null,null,null,{"$f":"M787","v":{"$error":"#DIV/0!"}},{"$f":"N787","v":{"$error":"#DIV/0!"}}]
[null,null,null,null,null,null,null,null,null,null,null,null,null,null,null,null,null,null,null,{"$f":"C772","v":0},{"$f":"C773","v":{"$error":"#DIV/0!"}}]
[null,null,null,null,null,null,null,null,null,null,null,null,null,null,null,null,null,null,null,{"$f":"B788","v":{"$error":"#DIV/0!"}},{"$f":"C788","v":{"$error":"#DIV/0!"}}]
[null,null,null,null,null,null,null,null,null,null,null,null,null,null,null,null,null,null,null,{"$f":"M788","v":{"$error":"#DIV/0!"}},{"$f":"N788","v":{"$error":"#DIV/0!"}}]
[null,null,null,null,null,null,null,null,null,null,null,null,null,null,null,null,null,null,null,{"$f":"C772","v":0},{"$f":"C773","v":{"$error":"#DIV/0!"}}]
[null,null,null,null,null,null,null,null,null,null,null,null,null,null,null,null,null,null,null,{"$f":"B789","v":{"$error":"#DIV/0!"}},{"$f":"C789","v":{"$error":"#DIV/0!"}}]
[null,null,null,null,null,null,null,null,null,null,null,null,null,null,null,null,null,null,null,{"$f":"M789","v":{"$error":"#DIV/0!"}},{"$f":"N789","v":{"$error":"#DIV/0!"}}]
[null,null,null,null,null,null,null,null,null,null,null,null,null,null,null,null,null,null,null,{"$f":"C772","v":0},{"$f":"C773","v":{"$error":"#DIV/0!"}}]
[null,null,null,null,null,null,null,null,null,null,null,null,null,null,null,null,null,null,null,{"$f":"B790","v":0},{"$f":"C790","v":{"$error":"#DIV/0!"}}]
[null,null,null,null,null,null,null,null,null,null,null,null,null,null,null,null,null,null,null,{"$f":"M790","v":0},{"$f":"N790","v":{"$error":"#DIV/0!"}}]
[]
[]
[]
[null,"Core 5"]
[]
[null,"Core 5 Centerline"]
[null,"Knife number",null,{"$f":"'Planning Tool'!D49","v":"None"}]
[null,null,{"$f":"'Planning Tool'!C51","v":"Dist from FO blank ="},{"$f":"'Planning Tool'!D51","v":0},{"$f":"E871","v":"in   ="},{"$f":"F871","v":"f"}]
[null,null,{"$f":"'Planning Tool'!C52","v":"Dist from CL of bed ="},{"$f":"'Planning Tool'!D52","v":0},{"$f":"E872","v":"in   ="},{"$f":"F872","v":"b"}]
[]
[null,"Center at","x =",{"$f":"D825","v":0},null,"y =",{"$f":"$D$23-D824","v":{"$error":"#DIV/0!"}},null,"Bowl Dia =",{"$f":"2*E882","v":{"$error":"#DIV/0!"}},"Depth =",{"$f":"F894-F882","v":{"$error":"#DIV/0!"}}]
[]
[null,null,"(x-h)^2  +  (y-k)^2  =  r^2",null,null,"y = k   +/-  sqrt[ r^2  -  (x-h)^2  ] "]
[]
[null,null,"h =",{"$f":"D825","v":0},null,null,"a =",{"$f":"ASIN(D824/D833)","v":{"$error":"#DIV/0!"}},"rad =",{"$f":"180/PI()*H831","v":{"$error":"#DIV/0!"}},"deg"]
[null,null,"k =",{"$f":"$D$23-D824","v":{"$error":"#DIV/0!"}},null,null,"b =",{"$f":"IF(D825<0, -ASIN(D825/D833), 0)","v":0},"rad =",{"$f":"180/PI()*H832","v":0},"deg"]
[null,null,"r =",{"$f":"VLOOKUP(D823,Lookup!$B$8:$E$12,4)","v":0},null,null,"q =",{"$f":"PI()/2-H831-H832","v":{"$error":"#DIV/0!"}},"rad =",{"$f":"180/PI()*H833","v":{"$error":"#DIV/0!"}},"deg"]
[]
[null,"Core 5 Centerline Extension Coordinates in Sector 1",null,null,null,null,null,null,null,null,null,null,null,null,null,null,null,null,null,"Core 5 Centerline Extension",null,null,"Core 5 Centerline Tick"]
[null,"Angle Increment",null,null,null,null,null,null,null,null,null,null,null,null,null,null,null,null,null,"and diameter"]
[null,{"$f":"MAX(B839:B850)","v":12},"rad","deg","X","Y",null,null,null,null,null,null,null,null,null,null,null,null,null,"X","Y",null,"X","Y"]
[null,0,{"$f":"(0+H831*B838/B837)","v":{"$error":"#DIV/0!"}},{"$f":"180/PI()*C838","v":{"$error":"#DIV/0!"}},{"$f":"COS(C838) * D833  +D831","v":{"$error":"#DIV/0!"}},{"$f":"IF(ABS(D833^2-(E838-D831)^2)<0.00001,D832+0,D832+SQRT(D833^2-(E838-D831)^2))","v":{"$error":"#DIV/0!"}},null,null,null,null,null,null,null,null,null,null,null,null,null,{"$f":"E838","v":{"$error":"#DIV/0!"}},{"$f":"F838","v":{"$error":"#DIV/0!"}},null,{"$f":"IF(D823=\"None\",0,-D827)","v":0},{"$f":"IF(D823=\"None\",0,G827+0.5)","v":0}]
[null,1,{"$f":"(0+H831*B839/B837)","v":{"$error":"#DIV/0!"}},{"$f":"180/PI()*C839","v":{"$error":"#DIV/0!"}},{"$f":"COS(C839) * D833  +D831","v":{"$error":"#DIV/0!"}},{"$f":"IF(ABS(D833^2-(E839-D831)^2)<0.00001,D832+0,D832+SQRT(D833^2-(E839-D831)^2))","v":{"$error":"#DIV/0!"}},null,null,null,null,null,null,null,null,null,null,null,null,null,{"$error":"#DIV/0!"},{"$error":"#DIV/0!"},null,{"$f":"IF(D823=\"None\",0,-D827)","v":0},{"$f":"IF(D823=\"None\",0,G827-0.5)","v":0}]
[null,2,{"$f":"(0+H831*B840/B837)","v":{"$error":"#DIV/0!"}},{"$error":"#DIV/0!"},{"$f":"COS(C840) * D833  +D831","v":{"$error":"#DIV/0!"}},{"$f":"IF(ABS(D833^2-(E840-D831)^2)<0.00001,D832+0,D832+SQRT(D833^2-(E840-D831)^2))","v":{"$error":"#DIV/0!"}},null,null,null,null,null,null,null,null,null,null,null,null,null,{"$error":"#DIV/0!"},{"$error":"#DIV/0!"}]
[null,3,{"$f":"(0+H831*B841/B837)","v":{"$error":"#DIV/0!"}},{"$error":"#DIV/0!"},{"$f":"COS(C841) * D833  +D831","v":{"$error":"#DIV/0!"}},{"$f":"IF(ABS(D833^2-(E841-D831)^2)<0.00001,D832+0,D832+SQRT(D833^2-(E841-D831)^2))","v":{"$error":"#DIV/0!"}},null,null,null,null,null,null,null,null,null,null,null,null,null,{"$error":"#DIV/0!"},{"$error":"#DIV/0!"},null,{"$f":"IF(D823=\"None\",0,-D827+0.5)","v":0},{"$f":"IF(D823=\"None\",0,G827)","v":0}]
[null,4,{"$f":"(0+H831*B842/B837)","v":{"$error":"#DIV/0!"}},{"$error":"#DIV/0!"},{"$f":"COS(C842) * D833  +D831","v":{"$error":"#DIV/0!"}},{"$f":"IF(ABS(D833^2-(E842-D831)^2)<0.00001,D832+0,D832+SQRT(D833^2-(E842-D831)^2))","v":{"$error":"#DIV/0!"}},null,null,null,null,null,null,null,null,null,null,null,null,null,{"$error":"#DIV/0!"},{"$error":"#DIV/0!"},null,{"$f":"IF(D823=\"None\",0,-D827-0.5)","v":0},{"$f":"IF(D823=\"None\",0,G827)","v":0}]
[null,5,{"$f":"(0+H831*B843/B837)","v":{"$error":"#DIV/0!"}},{"$error":"#DIV/0!"},{"$f":"COS(C843) * D833  +D831","v":{"$error":"#DIV/0!"}},{"$f":"IF(ABS(D833^2-(E843-D831)^2)<0.00001,D832+0,D832+SQRT(D833^2-(E843-D831)^2))","v":{"$error":"#DIV/0!"}},null,null,null,null,null,null,null,null,null,null,null,null,null,{"$error":"#DIV/0!"},{"$error":"#DIV/0!"}]
[null,6,{"$f":"(0+H831*B844/B837)","v":{"$error":"#DIV/0!"}},{"$error":"#DIV/0!"},{"$f":"COS(C844) * D833  +D831","v":{"$error":"#DIV/0!"}},{"$f":"IF(ABS(D833^2-(E844-D831)^2)<0.00001,D832+0,D832+SQRT(D833^2-(E844-D831)^2))","v":{"$error":"#DIV/0!"}},null,null,null,null,null,null,null,null,null,null,null,null,null,{"$error":"#DIV/0!"},{"$error":"#DIV/0!"}]
[null,7,{"$f":"(0+H831*B845/B837)","v":{"$error":"#DIV/0!"}},{"$error":"#DIV/0!"},{"$f":"COS(C845) * D833  +D831","v":{"$error":"#DIV/0!"}},{"$f":"IF(ABS(D833^2-(E845-D831)^2)<0.00001,D832+0,D832+SQRT(D833^2-(E845-D831)^2))","v":{"$error":"#DIV/0!"}},null,null,null,null,null,null,null,null,null,null,null,null,null,{"$error":"#DIV/0!"},{"$error":"#DIV/0!"}]
[null,8,{"$f":"(0+H831*B846/B837)","v":{"$error":"#DIV/0!"}},{"$error":"#DIV/0!"},{"$f":"COS(C846) * D833  +D831","v":{"$error":"#DIV/0!"}},{"$f":"IF(ABS(D833^2-(E846-D831)^2)<0.00001,D832+0,D832+SQRT(D833^2-(E846-D831)^2))","v":{"$error":"#DIV/0!"}},null,null,null,null,null,null,null,null,null,null,null,null,null,{"$error":"#DIV/0!"},{"$error":"#DIV/0!"}]
[null,9,{"$f":"(0+H831*B847/B837)","v":{"$error":"#DIV/0!"}},{"$error":"#DIV/0!"},{"$f":"COS(C847) * D833  +D831","v":{"$error":"#DIV/0!"}},{"$f":"IF(ABS(D833^2-(E847-D831)^2)<0.00001,D832+0,D832+SQRT(D833^2-(E847-D831)^2))","v":{"$error":"#DIV/0!"}},null,null,null,null,null,null,null,null,null,null,null,null,null,{"$error":"#DIV/0!"},{"$error":"#DIV/0!"}]
[null,10,{"$f":"(0+H831*B848/B837)","v":{"$error":"#DIV/0!"}},{"$error":"#DIV/0!"},{"$f":"COS(C848) * D833  +D831","v":{"$error":"#DIV/0!"}},{"$f":"IF(ABS(D833^2-(E848-D831)^2)<0.00001,D832+0,D832+SQRT(D833^2-(E848-D831)^2))","v":{"$error":"#DIV/0!"}},null,null,null,null,null,null,null,null,null,null,null,null,null,{"$error":"#DIV/0!"},{"$error":"#DIV/0!"}]
[null,11,{"$f":"(0+H831*B849/B837)","v":{"$error":"#DIV/0!"}},{"$error":"#DIV/0!"},{"$f":"COS(C849) * D833  +D831","v":{"$error":"#DIV/0!"}},{"$f":"IF(ABS(D833^2-(E849-D831)^2)<0.00001,D832+0,D832+SQRT(D833^2-(E849-D831)^2))","v":{"$error":"#DIV/0!"}},null,null,null,null,null,null,null,null,null,null,null,null,null,{"$error":"#DIV/0!"},{"$error":"#DIV/0!"}]
[null,12,{"$f":"(0+H831*B850/B837)","v":{"$error":"#DIV/0!"}},{"$error":"#DIV/0!"},{"$f":"COS(C850) * D833  +D831","v":{"$error":"#DIV/0!"}},{"$f":"IF(ABS(D833^2-(E850-D831)^2)<0.00001,D832+0,D832+SQRT(D833^2-(E850-D831)^2))","v":{"$error":"#DIV/0!"}},null,null,null,null,null,null,null,null,null,null,null,null,null,{"$error":"#DIV/0!"},{"$error":"#DIV/0!"}]
[]
[null,null,null,null,null,null,null,null,null,null,null,null,null,null,null,null,null,null,null,{"$f":"-T850","v":{"$error":"#DIV/0!"}},{"$f":"U850","v":{"$error":"#DIV/0!"}}]
[null,null,null,null,null,null,null,null,null,null,null,null,null,null,null,null,null,null,null,{"$f":"-T849","v":{"$error":"#DIV/0!"}},{"$f":"U849","v":{"$error":"#DIV/0!"}}]
[null,null,null,null,null,null,null,null,null,null,null,null,null,null,null,null,null,null,null,{"$f":"-T848","v":{"$error":"#DIV/0!"}},{"$f":"U848","v":{"$error":"#DIV/0!"}}]
[null,null,null,null,null,null,null,null,null,null,null,null,null,null,null,null,null,null,null,{"$f":"-T847","v":{"$error":"#DIV/0!"}},{"$f":"U847","v":{"$error":"#DIV/0!"}}]
[null,null,null,null,null,null,null,null,null,null,null,null,null,null,null,null,null,null,null,{"$f":"-T846","v":{"$error":"#DIV/0!"}},{"$f":"U846","v":{"$error":"#DIV/0!"}}]
[null,null,null,null,null,null,null,null,null,null,null,null,null,null,null,null,null,null,null,{"$f":"-T845","v":{"$error":"#DIV/0!"}},{"$f":"U845","v":{"$error":"#DIV/0!"}}]
[null,null,null,null,null,null,null,null,null,null,null,null,null,null,null,null,null,null,null,{"$f":"-T844","v":{"$error":"#DIV/0!"}},{"$f":"U844","v":{"$error":"#DIV/0!"}}]
[null,null,null,null,null,null,null,null,null,null,null,null,null,null,null,null,null,null,null,{"$f":"-T843","v":{"$error":"#DIV/0!"}},{"$f":"U843","v":{"$error":"#DIV/0!"}}]
[null,null,null,null,null,null,null,null,null,null,null,null,null,null,null,null,null,null,null,{"$f":"-T842","v":{"$error":"#DIV/0!"}},{"$f":"U842","v":{"$error":"#DIV/0!"}}]
[null,null,null,null,null,null,null,null,null,null,null,null,null,null,null,null,null,null,null,{"$f":"-T841","v":{"$error":"#DIV/0!"}},{"$f":"U841","v":{"$error":"#DIV/0!"}}]
[null,null,null,null,null,null,null,null,null,null,null,null,null,null,null,null,null,null,null,{"$f":"-T840","v":{"$error":"#DIV/0!"}},{"$f":"U840","v":{"$error":"#DIV/0!"}}]
[null,null,null,null,null,null,null,null,null,null,null,null,null,null,null,null,null,null,null,{"$f":"-T839","v":{"$error":"#DIV/0!"}},{"$f":"U839","v":{"$error":"#DIV/0!"}}]
[null,null,null,null,null,null,null,null,null,null,null,null,null,null,null,null,null,null,null,{"$f":"-T838","v":{"$error":"#DIV/0!"}},{"$f":"U838","v":{"$error":"#DIV/0!"}}]
[]
[null,null,null,null,null,null,null,null,null,null,null,null,null,null,null,null,null,null,null,{"$f":"T838","v":{"$error":"#DIV/0!"}},{"$f":"U838","v":{"$error":"#DIV/0!"}}]
[null,null,"Graph data --->",null,null,null,null,null,null,null,null,null,null,null,null,null,null,null,null,{"$f":"T864","v":{"$error":"#DIV/0!"}},{"$f":"U864","v":{"$error":"#DIV/0!"}}]
[]
[null,"Core 5 Inside Face"]
[null,"Knife number",null,{"$f":"D823","v":"None"}]
[null,null,{"$f":"C824","v":"Dist from FO blank ="},{"$f":"D824","v":0},"in   =","f"]
[null,null,{"$f":"C825","v":"Dist from CL of bed ="},{"$f":"D825","v":0},"in   =","b"]
[]
[null,null,"(x-h)^2  +  (y-k)^2  =  r^2",null,null,"y = k   +/-  sqrt[ r^2  -  (x-h)^2  ] "]
[null,null,"h =",{"$f":"D872","v":0},null,null,"a =",{"$f":"ASIN(D871/D877)","v":{"$error":"#DIV/0!"}},"rad =",{"$f":"180/PI()*H875","v":{"$error":"#DIV/0!"}},"deg"]
[null,null,"k =",{"$f":"$D$23-D871","v":{"$error":"#DIV/0!"}},null,null,"b =",{"$f":"IF(D872<0, -ASIN(D872/D877), 0)","v":0},"rad =",{"$f":"180/PI()*H876","v":0},"deg"]
[null,null,"r =",{"$f":"VLOOKUP(D870,Lookup!$B$8:$D$12,2)","v":0},null,null,"q =",{"$f":"PI()/2-H875-H876","v":{"$error":"#DIV/0!"}},"rad =",{"$f":"180/PI()*H877","v":{"$error":"#DIV/0!"}},"deg"]
[]
[null,"Core 5 Inside Face",null,null,null,null,null,null,null,null,null,null,null,null,null,null,null,null,null,"Graph of Core 5 IF"]
[null,"Angle Increment"]
[null,{"$f":"MAX(B883:B894)","v":12},"rad","deg","X","Y",null,null,null,null,null,null,null,null,null,null,null,null,null,"X","Y"]
[null,0,{"$f":"H875 + H877*B882/B881","v":{"$error":"#DIV/0!"}},{"$f":"180/PI()*C882","v":{"$error":"#DIV/0!"}},{"$f":"COS(C882) * D877  +D875","v":{"$error":"#DIV/0!"}},{"$f":"IF(ABS(D877^2-(E882-D875)^2)<0.00001,D876+0,D876+SQRT(D877^2-(E882-D875)^2))","v":{"$error":"#DIV/0!"}},null,null,null,null,null,null,null,null,null,null,null,null,null,{"$f":"E882","v":{"$error":"#DIV/0!"}},{"$f":"F882","v":{"$error":"#DIV/0!"}}]
[null,1,{"$f":"H875 + H877*B883/B881","v":{"$error":"#DIV/0!"}},{"$f":"180/PI()*C883","v":{"$error":"#DIV/0!"}},{"$f":"COS(C883) * D877  +D875","v":{"$error":"#DIV/0!"}},{"$f":"IF(ABS(D877^2-(E883-D875)^2)<0.00001,D876+0,D876+SQRT(D877^2-(E883-D875)^2))","v":{"$error":"#DIV/0!"}},null,null,null,null,null,null,null,null,null,null,null,null,null,{"$error":"#DIV/0!"},{"$error":"#DIV/0!"}]
[null,2,{"$f":"H875 + H877*B884/B881","v":{"$error":"#DIV/0!"}},{"$error":"#DIV/0!"},{"$f":"COS(C884) * D877  +D875","v":{"$error":"#DIV/0!"}},{"$f":"IF(ABS(D877^2-(E884-D875)^2)<0.00001,D876+0,D876+SQRT(D877^2-(E884-D875)^2))","v":{"$error":"#DIV/0!"}},null,null,null,null,null,null,null,null,null,null,null,null,null,{"$error":"#DIV/0!"},{"$error":"#DIV/0!"}]
[null,3,{"$f":"H875 + H877*B885/B881","v":{"$error":"#DIV/0!"}},{"$error":"#DIV/0!"},{"$f":"COS(C885) * D877  +D875","v":{"$error":"#DIV/0!"}},{"$f":"IF(ABS(D877^2-(E885-D875)^2)<0.00001,D876+0,D876+SQRT(D877^2-(E885-D875)^2))","v":{"$error":"#DIV/0!"}},null,null,null,null,null,null,null,null,null,null,null,null,null,{"$error":"#DIV/0!"},{"$error":"#DIV/0!"}]
[null,4,{"$f":"H875 + H877*B886/B881","v":{"$error":"#DIV/0!"}},{"$error":"#DIV/0!"},{"$f":"COS(C886) * D877  +D875","v":{"$error":"#DIV/0!"}},{"$f":"IF(ABS(D877^2-(E886-D875)^2)<0.00001,D876+0,D876+SQRT(D877^2-(E886-D875)^2))","v":{"$error":"#DIV/0!"}},null,null,null,null,null,null,null,null,null,null,null,null,null,{"$error":"#DIV/0!"},{"$error":"#DIV/0!"}]
[null,5,{"$f":"H875 + H877*B887/B881","v":{"$error":"#DIV/0!"}},{"$error":"#DIV/0!"},{"$f":"COS(C887) * D877  +D875","v":{"$error":"#DIV/0!"}},{"$f":"IF(ABS(D877^2-(E887-D875)^2)<0.00001,D876+0,D876+SQRT(D877^2-(E887-D875)^2))","v":{"$error":"#DIV/0!"}},null,null,null,null,null,null,null,null,null,null,null,null,null,{"$error":"#DIV/0!"},{"$error":"#DIV/0!"}]
[null,6,{"$f":"H875 + H877*B888/B881","v":{"$error":"#DIV/0!"}},{"$error":"#DIV/0!"},{"$f":"COS(C888) * D877  +D875","v":{"$error":"#DIV/0!"}},{"$f":"IF(ABS(D877^2-(E888-D875)^2)<0.00001,D876+0,D876+SQRT(D877^2-(E888-D875)^2))","v":{"$error":"#DIV/0!"}},null,null,null,null,null,null,null,null,null,null,null,null,null,{"$error":"#DIV/0!"},{"$error":"#DIV/0!"}]
[null,7,{"$f":"H875 + H877*B889/B881","v":{"$error":"#DIV/0!"}},{"$error":"#DIV/0!"},{"$f":"COS(C889) * D877  +D875","v":{"$error":"#DIV/0!"}},{"$f":"IF(ABS(D877^2-(E889-D875)^2)<0.00001,D876+0,D876+SQRT(D877^2-(E889-D875)^2))","v":{"$error":"#DIV/0!"}},null,null,null,null,null,null,null,null,null,null,null,null,null,{"$error":"#DIV/0!"},{"$error":"#DIV/0!"}]
[null,8,{"$f":"H875 + H877*B890/B881","v":{"$error":"#DIV/0!"}},{"$error":"#DIV/0!"},{"$f":"COS(C890) * D877  +D875","v":{"$error":"#DIV/0!"}},{"$f":"IF(ABS(D877^2-(E890-D875)^2)<0.00001,D876+0,D876+SQRT(D877^2-(E890-D875)^2))","v":{"$error":"#DIV/0!"}},null,null,null,null,null,null,null,null,null,null,null,null,null,{"$error":"#DIV/0!"},{"$error":"#DIV/0!"}]
[null,9,{"$f":"H875 + H877*B891/B881","v":{"$error":"#DIV/0!"}},{"$error":"#DIV/0!"},{"$f":"COS(C891) * D877  +D875","v":{"$error":"#DIV/0!"}},{"$f":"IF(ABS(D877^2-(E891-D875)^2)<0.00001,D876+0,D876+SQRT(D877^2-(E891-D875)^2))","v":{"$error":"#DIV/0!"}},null,null,null,null,null,null,null,null,null,null,null,null,null,{"$error":"#DIV/0!"},{"$error":"#DIV/0!"}]
[null,10,{"$f":"H875 + H877*B892/B881","v":{"$error":"#DIV/0!"}},{"$error":"#DIV/0!"},{"$f":"COS(C892) * D877  +D875","v":{"$error":"#DIV/0!"}},{"$f":"IF(ABS(D877^2-(E892-D875)^2)<0.00001,D876+0,D876+SQRT(D877^2-(E892-D875)^2))","v":{"$error":"#DIV/0!"}},null,null,null,null,null,null,null,null,null,null,null,null,null,{"$error":"#DIV/0!"},{"$error":"#DIV/0!"}]
[null,11,{"$f":"H875 + H877*B893/B881","v":{"$error":"#DIV/0!"}},{"$error":"#DIV/0!"},{"$f":"COS(C893) * D877  +D875","v":{"$error":"#DIV/0!"}},{"$f":"IF(ABS(D877^2-(E893-D875)^2)<0.00001,D876+0,D876+SQRT(D877^2-(E893-D875)^2))","v":{"$error":"#DIV/0!"}},null,null,null,null,null,null,null,null,null,null,null,null,null,{"$error":"#DIV/0!"},{"$error":"#DIV/0!"}]
[null,12,{"$f":"H875 + H877*B894/B881","v":{"$error":"#DIV/0!"}},{"$error":"#DIV/0!"},{"$f":"COS(C894) * D877  +D875","v":{"$error":"#DIV/0!"}},{"$f":"IF(ABS(D877^2-(E894-D875)^2)<0.00001,D876+0,D876+SQRT(D877^2-(E894-D875)^2))","v":{"$error":"#DIV/0!"}},null,null,null,null,null,null,null,null,null,null,null,null,null,{"$error":"#DIV/0!"},{"$error":"#DIV/0!"}]
[null,null,null,null,null,null,null,null,null,null,null,null,null,null,null,null,null,null,null,{"$f":"-T893","v":{"$error":"#DIV/0!"}},{"$f":"U893","v":{"$error":"#DIV/0!"}}]
[null,null,null,null,null,null,null,null,null,null,null,null,null,null,null,null,null,null,null,{"$f":"-T892","v":{"$error":"#DIV/0!"}},{"$f":"U892","v":{"$error":"#DIV/0!"}}]
[null,null,null,null,null,null,null,null,null,null,null,null,null,null,null,null,null,null,null,{"$f":"-T891","v":{"$error":"#DIV/0!"}},{"$f":"U891","v":{"$error":"#DIV/0!"}}]
[null,null,null,null,null,null,null,null,null,null,null,null,null,null,null,null,null,null,null,{"$f":"-T890","v":{"$error":"#DIV/0!"}},{"$f":"U890","v":{"$error":"#DIV/0!"}}]
[null,null,null,null,null,null,null,null,null,null,null,null,null,null,null,null,null,null,null,{"$f":"-T889","v":{"$error":"#DIV/0!"}},{"$f":"U889","v":{"$error":"#DIV/0!"}}]
[null,null,null,null,null,null,null,null,null,null,null,null,null,null,null,null,null,null,null,{"$f":"-T888","v":{"$error":"#DIV/0!"}},{"$f":"U888","v":{"$error":"#DIV/0!"}}]
[null,null,null,null,null,null,null,null,null,null,null,null,null,null,null,null,null,null,null,{"$f":"-T887","v":{"$error":"#DIV/0!"}},{"$f":"U887","v":{"$error":"#DIV/0!"}}]
[null,null,null,null,null,null,null,null,null,null,null,null,null,null,null,null,null,null,null,{"$f":"-T886","v":{"$error":"#DIV/0!"}},{"$f":"U886","v":{"$error":"#DIV/0!"}}]
[null,null,null,null,null,null,null,null,null,null,null,null,null,null,null,null,null,null,null,{"$f":"-T885","v":{"$error":"#DIV/0!"}},{"$f":"U885","v":{"$error":"#DIV/0!"}}]
[null,null,null,null,null,null,null,null,null,null,null,null,null,null,null,null,null,null,null,{"$f":"-T884","v":{"$error":"#DIV/0!"}},{"$f":"U884","v":{"$error":"#DIV/0!"}}]
[null,null,null,null,null,null,null,null,null,null,null,null,null,null,null,null,null,null,null,{"$f":"-T883","v":{"$error":"#DIV/0!"}},{"$f":"U883","v":{"$error":"#DIV/0!"}}]
[null,null,"Graph data --->",null,null,null,null,null,null,null,null,null,null,null,null,null,null,null,null,{"$f":"-T882","v":{"$error":"#DIV/0!"}},{"$f":"U882","v":{"$error":"#DIV/0!"}}]
[]
[]
[null,"Core 5 Outside Face"]
[null,"Knife number",null,{"$f":"D870","v":"None"}]
[null,null,{"$f":"C824","v":"Dist from FO blank ="},{"$f":"D824","v":0},{"$f":"E871","v":"in   ="},{"$f":"F871","v":"f"}]
[null,null,{"$f":"C825","v":"Dist from CL of bed ="},{"$f":"D825","v":0},{"$f":"E872","v":"in   ="},{"$f":"F872","v":"b"}]
[]
[null,null,"(x-h)^2  +  (y-k)^2  =  r^2",null,null,"y = k   +/-  sqrt[ r^2  -  (x-h)^2  ] "]
[]
[null,null,"h =",{"$f":"D912","v":0},null,null,"a =",{"$f":"ASIN(D911/D918)","v":{"$error":"#DIV/0!"}},"rad =",{"$f":"180/PI()*H916","v":{"$error":"#DIV/0!"}},"deg"]
[null,null,"k =",{"$f":"$D$23-D911","v":{"$error":"#DIV/0!"}},null,null,"b =",{"$f":"IF(D912<0, -ASIN(D912/D918), 0)","v":0},"rad =",{"$f":"180/PI()*H917","v":0},"deg"]
[null,null,"r =",{"$f":"VLOOKUP(D910,Lookup!$B$8:$D$12,3)","v":0},null,null,"q =",{"$f":"PI()/2-H916-H917","v":{"$error":"#DIV/0!"}},"rad =",{"$f":"180/PI()*H918","v":{"$error":"#DIV/0!"}},"deg"]
[]
[null,"Core 5 Outside Face",null,null,null,null,null,null,null,null,null,null,null,null,null,null,null,null,null,"Graph of Core 5 OF"]
[null,"Angle Increment"]
[null,{"$f":"MAX(B924:B935)","v":12},"rad","deg","X","Y",null,null,null,null,null,null,null,null,null,null,null,null,null,"X","Y"]
[null,0,{"$f":"H916 + H918*B923/B922","v":{"$error":"#DIV/0!"}},{"$f":"180/PI()*C923","v":{"$error":"#DIV/0!"}},{"$f":"COS(C923) * D918  +D916","v":{"$error":"#DIV/0!"}},{"$f":"IF(ABS(D918^2-(E923-D916)^2)<0.00001,D917+0,D917+SQRT(D918^2-(E923-D916)^2))","v":{"$error":"#DIV/0!"}},null,null,null,null,null,null,null,null,null,null,null,null,null,{"$f":"E923","v":{"$error":"#DIV/0!"}},{"$f":"F923","v":{"$error":"#DIV/0!"}}]
[null,1,{"$f":"H916 + H918*B924/B922","v":{"$error":"#DIV/0!"}},{"$f":"180/PI()*C924","v":{"$error":"#DIV/0!"}},{"$f":"COS(C924) * D918  +D916","v":{"$error":"#DIV/0!"}},{"$f":"IF(ABS(D918^2-(E924-D916)^2)<0.00001,D917+0,D917+SQRT(D918^2-(E924-D916)^2))","v":{"$error":"#DIV/0!"}},null,null,null,null,null,null,null,null,null,null,null,null,null,{"$error":"#DIV/0!"},{"$error":"#DIV/0!"}]
[null,2,{"$f":"H916 + H918*B925/B922","v":{"$error":"#DIV/0!"}},{"$error":"#DIV/0!"},{"$f":"COS(C925) * D918  +D916","v":{"$error":"#DIV/0!"}},{"$f":"IF(ABS(D918^2-(E925-D916)^2)<0.00001,D917+0,D917+SQRT(D918^2-(E925-D916)^2))","v":{"$error":"#DIV/0!"}},null,null,null,null,null,null,null,null,null,null,null,null,null,{"$error":"#DIV/0!"},{"$error":"#DIV/0!"}]
[null,3,{"$f":"H916 + H918*B926/B922","v":{"$error":"#DIV/0!"}},{"$error":"#DIV/0!"},{"$f":"COS(C926) * D918  +D916","v":{"$error":"#DIV/0!"}},{"$f":"IF(ABS(D918^2-(E926-D916)^2)<0.00001,D917+0,D917+SQRT(D918^2-(E926-D916)^2))","v":{"$error":"#DIV/0!"}},null,null,null,null,null,null,null,null,null,null,null,null,null,{"$error":"#DIV/0!"},{"$error":"#DIV/0!"}]
[null,4,{"$f":"H916 + H918*B927/B922","v":{"$error":"#DIV/0!"}},{"$error":"#DIV/0!"},{"$f":"COS(C927) * D918  +D916","v":{"$error":"#DIV/0!"}},{"$f":"IF(ABS(D918^2-(E927-D916)^2)<0.00001,D917+0,D917+SQRT(D918^2-(E927-D916)^2))","v":{"$error":"#DIV/0!"}},null,null,null,null,null,null,null,null,null,null,null,null,null,{"$error":"#DIV/0!"},{"$error":"#DIV/0!"}]
[null,5,{"$f":"H916 + H918*B928/B922","v":{"$error":"#DIV/0!"}},{"$error":"#DIV/0!"},{"$f":"COS(C928) * D918  +D916","v":{"$error":"#DIV/0!"}},{"$f":"IF(ABS(D918^2-(E928-D916)^2)<0.00001,D917+0,D917+SQRT(D918^2-(E928-D916)^2))","v":{"$error":"#DIV/0!"}},null,null,null,null,null,null,null,null,null,null,null,null,null,{"$error":"#DIV/0!"},{"$error":"#DIV/0!"}]
[null,6,{"$f":"H916 + H918*B929/B922","v":{"$error":"#DIV/0!"}},{"$error":"#DIV/0!"},{"$f":"COS(C929) * D918  +D916","v":{"$error":"#DIV/0!"}},{"$f":"IF(ABS(D918^2-(E929-D916)^2)<0.00001,D917+0,D917+SQRT(D918^2-(E929-D916)^2))","v":{"$error":"#DIV/0!"}},null,null,null,null,null,null,null,null,null,null,null,null,null,{"$error":"#DIV/0!"},{"$error":"#DIV/0!"}]
[null,7,{"$f":"H916 + H918*B930/B922","v":{"$error":"#DIV/0!"}},{"$error":"#DIV/0!"},{"$f":"COS(C930) * D918  +D916","v":{"$error":"#DIV/0!"}},{"$f":"IF(ABS(D918^2-(E930-D916)^2)<0.00001,D917+0,D917+SQRT(D918^2-(E930-D916)^2))","v":{"$error":"#DIV/0!"}},null,null,null,null,null,null,null,null,null,null,null,null,null,{"$error":"#DIV/0!"},{"$error":"#DIV/0!"}]
[null,8,{"$f":"H916 + H918*B931/B922","v":{"$error":"#DIV/0!"}},{"$error":"#DIV/0!"},{"$f":"COS(C931) * D918  +D916","v":{"$error":"#DIV/0!"}},{"$f":"IF(ABS(D918^2-(E931-D916)^2)<0.00001,D917+0,D917+SQRT(D918^2-(E931-D916)^2))","v":{"$error":"#DIV/0!"}},null,null,null,null,null,null,null,null,null,null,null,null,null,{"$error":"#DIV/0!"},{"$error":"#DIV/0!"}]
[null,9,{"$f":"H916 + H918*B932/B922","v":{"$error":"#DIV/0!"}},{"$error":"#DIV/0!"},{"$f":"COS(C932) * D918  +D916","v":{"$error":"#DIV/0!"}},{"$f":"IF(ABS(D918^2-(E932-D916)^2)<0.00001,D917+0,D917+SQRT(D918^2-(E932-D916)^2))","v":{"$error":"#DIV/0!"}},null,null,null,null,null,null,null,null,null,null,null,null,null,{"$error":"#DIV/0!"},{"$error":"#DIV/0!"}]
[null,10,{"$f":"H916 + H918*B933/B922","v":{"$error":"#DIV/0!"}},{"$error":"#DIV/0!"},{"$f":"COS(C933) * D918  +D916","v":{"$error":"#DIV/0!"}},{"$f":"IF(ABS(D918^2-(E933-D916)^2)<0.00001,D917+0,D917+SQRT(D918^2-(E933-D916)^2))","v":{"$error":"#DIV/0!"}},null,null,null,null,null,null,null,null,null,null,null,null,null,{"$error":"#DIV/0!"},{"$error":"#DIV/0!"}]
[null,11,{"$f":"H916 + H918*B934/B922","v":{"$error":"#DIV/0!"}},{"$error":"#DIV/0!"},{"$f":"COS(C934) * D918  +D916","v":{"$error":"#DIV/0!"}},{"$f":"IF(ABS(D918^2-(E934-D916)^2)<0.00001,D917+0,D917+SQRT(D918^2-(E934-D916)^2))","v":{"$error":"#DIV/0!"}},null,null,null,null,null,null,null,null,null,null,null,null,null,{"$error":"#DIV/0!"},{"$error":"#DIV/0!"}]
[null,12,{"$f":"H916 + H918*B935/B922","v":{"$error":"#DIV/0!"}},{"$error":"#DIV/0!"},{"$f":"COS(C935) * D918  +D916","v":{"$error":"#DIV/0!"}},{"$f":"IF(ABS(D918^2-(E935-D916)^2)<0.00001,D917+0,D917+SQRT(D918^2-(E935-D916)^2))","v":{"$error":"#DIV/0!"}},null,null,null,null,null,null,null,null,null,null,null,null,null,{"$error":"#DIV/0!"},{"$error":"#DIV/0!"}]
[null,null,null,null,null,null,null,null,null,null,null,null,null,null,null,null,null,null,null,{"$f":"-T934","v":{"$error":"#DIV/0!"}},{"$f":"U934","v":{"$error":"#DIV/0!"}}]
[null,null,null,null,null,null,null,null,null,null,null,null,null,null,null,null,null,null,null,{"$f":"-T933","v":{"$error":"#DIV/0!"}},{"$f":"U933","v":{"$error":"#DIV/0!"}}]
[null,null,null,null,null,null,null,null,null,null,null,null,null,null,null,null,null,null,null,{"$f":"-T932","v":{"$error":"#DIV/0!"}},{"$f":"U932","v":{"$error":"#DIV/0!"}}]
[null,null,null,null,null,null,null,null,null,null,null,null,null,null,null,null,null,null,null,{"$f":"-T931","v":{"$error":"#DIV/0!"}},{"$f":"U931","v":{"$error":"#DIV/0!"}}]
[null,null,null,null,null,null,null,null,null,null,null,null,null,null,null,null,null,null,null,{"$f":"-T930","v":{"$error":"#DIV/0!"}},{"$f":"U930","v":{"$error":"#DIV/0!"}}]
[null,null,null,null,null,null,null,null,null,null,null,null,null,null,null,null,null,null,null,{"$f":"-T929","v":{"$error":"#DIV/0!"}},{"$f":"U929","v":{"$error":"#DIV/0!"}}]
[null,null,null,null,null,null,null,null,null,null,null,null,null,null,null,null,null,null,null,{"$f":"-T928","v":{"$error":"#DIV/0!"}},{"$f":"U928","v":{"$error":"#DIV/0!"}}]
[null,null,null,null,null,null,null,null,null,null,null,null,null,null,null,null,null,null,null,{"$f":"-T927","v":{"$error":"#DIV/0!"}},{"$f":"U927","v":{"$error":"#DIV/0!"}}]
[null,null,null,null,null,null,null,null,null,null,null,null,null,null,null,null,null,null,null,{"$f":"-T926","v":{"$error":"#DIV/0!"}},{"$f":"U926","v":{"$error":"#DIV/0!"}}]
[null,null,null,null,null,null,null,null,null,null,null,null,null,null,null,null,null,null,null,{"$f":"-T925","v":{"$error":"#DIV/0!"}},{"$f":"U925","v":{"$error":"#DIV/0!"}}]
[null,null,null,null,null,null,null,null,null,null,null,null,null,null,null,null,null,null,null,{"$f":"-T924","v":{"$error":"#DIV/0!"}},{"$f":"U924","v":{"$error":"#DIV/0!"}}]
[null,null,"Graph data --->",null,null,null,null,null,null,null,null,null,null,null,null,null,null,null,null,{"$f":"-T923","v":{"$error":"#DIV/0!"}},{"$f":"U923","v":{"$error":"#DIV/0!"}}]
[]
[]
[null,"Determine distance to from",null,null,"Core 4 OF","to","Core 5 IF"]
[]
[null,"For",{"$f":"G950","v":"Core 5 IF"}]
[null,"X1 =",{"$f":"D646","v":0},"h =",{"$f":"D650","v":0},null,"quadA =","m^2+1",null,null,"For derivation, see https://math.stackexchange.com/questions/228841/how-do-i-calculate-the-intersections-of-a-straight-line-and-a-circle",null,null," "]
[null,"Y1 =",{"$f":"G646","v":{"$error":"#DIV/0!"}},"k =",{"$f":"D651","v":{"$error":"#DIV/0!"}},null,"quadB =","2(mb−mk−h)"]
[null,null,null,"r =",{"$f":"D696","v":0},null,"quadC =","k^2−r^2+h^2−2bk+b^2"]
[]
[null,"Line from (X1, Y1) to (X2, Y2)",null,null,null,null,null,null,null,null,null,null,"Point on ",{"$f":"G950","v":"Core 5 IF"},null,"Distance",null,null,null,{"$f":"\"Distance Rays from \"&E950&\" to \"&G950","v":"Distance Rays from Core 4 OF to Core 5 IF"}]
[null,"X2","Y2","m","b",null,"quadA","quadB","quadC","Root1","Root2",null,"X","Y"]
[null,{"$f":"E923","v":{"$error":"#DIV/0!"}},{"$f":"F923","v":{"$error":"#DIV/0!"}},{"$f":"IF( (B959-C953)=0, 1000000000000, IF(ABS(C959-C954)<0.00000001, 0,   (C959-C954) / (B959-C953)))","v":{"$error":"#DIV/0!"}},{"$f":"C959-(D959*B959)","v":{"$error":"#DIV/0!"}},null,{"$f":"D959^2 + 1","v":{"$error":"#DIV/0!"}},{"$f":"2*(D959*E959 - D959*E954 - E953)","v":{"$error":"#DIV/0!"}},{"$f":"E954^2 - E955^2 + E953^2 - 2*E959*E954 + E959^2","v":{"$error":"#DIV/0!"}},{"$f":"IF(ABS(H959^2 - 4*G959*I959)<0.000001, 0, (-H959 + (H959^2 - 4*G959*I959)^0.5)/(2*G959))","v":{"$error":"#DIV/0!"}},{"$f":"IF(ABS(H959^2 - 4*G959*I959)<0.000001, 0, (-H959 - (H959^2 - 4*G959*I959)^0.5)/(2*G959))","v":{"$error":"#DIV/0!"}},null,{"$f":"IF(D959>=0, J959, K959)","v":{"$error":"#DIV/0!"}},{"$f":"D959*M959 + E959","v":{"$error":"#DIV/0!"}},null,{"$f":"SQRT((B959-M959)^2 + (C959-N959)^2)","v":{"$error":"#DIV/0!"}},null,null,null,{"$f":"C953","v":0},{"$f":"C954","v":{"$error":"#DIV/0!"}}]
[null,{"$error":"#DIV/0!"},{"$error":"#DIV/0!"},{"$f":"IF( (B960-C953)=0, 1000000000000, IF(ABS(C960-C954)<0.00000001, 0,   (C960-C954) / (B960-C953)))","v":{"$error":"#DIV/0!"}},{"$f":"C960-(D960*B960)","v":{"$error":"#DIV/0!"}},null,{"$f":"D960^2 + 1","v":{"$error":"#DIV/0!"}},{"$f":"2*(D960*E960 - D960*E954 - E953)","v":{"$error":"#DIV/0!"}},{"$f":"E954^2 - E955^2 + E953^2 - 2*E960*E954 + E960^2","v":{"$error":"#DIV/0!"}},{"$f":"IF(ABS(H960^2 - 4*G960*I960)<0.000001, 0, (-H960 + (H960^2 - 4*G960*I960)^0.5)/(2*G960))","v":{"$error":"#DIV/0!"}},{"$f":"IF(ABS(H960^2 - 4*G960*I960)<0.000001, 0, (-H960 - (H960^2 - 4*G960*I960)^0.5)/(2*G960))","v":{"$error":"#DIV/0!"}},null,{"$f":"IF(D960>=0, J960, K960)","v":{"$error":"#DIV/0!"}},{"$f":"D960*M960 + E960","v":{"$error":"#DIV/0!"}},null,{"$f":"SQRT((B960-M960)^2 + (C960-N960)^2)","v":{"$error":"#DIV/0!"}},null,null,null,{"$f":"B959","v":{"$error":"#DIV/0!"}},{"$f":"C959","v":{"$error":"#DIV/0!"}}]
[null,{"$error":"#DIV/0!"},{"$error":"#DIV/0!"},{"$f":"IF( (B961-C953)=0, 1000000000000, IF(ABS(C961-C954)<0.00000001, 0,   (C961-C954) / (B961-C953)))","v":{"$error":"#DIV/0!"}},{"$error":"#DIV/0!"},null,{"$error":"#DIV/0!"},{"$f":"2*(D961*E961 - D961*E954 - E953)","v":{"$error":"#DIV/0!"}},{"$f":"E954^2 - E955^2 + E953^2 - 2*E961*E954 + E961^2","v":{"$error":"#DIV/0!"}},{"$error":"#DIV/0!"},{"$error":"#DIV/0!"},null,{"$error":"#DIV/0!"},{"$error":"#DIV/0!"},null,{"$error":"#DIV/0!"},null,null,null,{"$f":"M959","v":{"$error":"#DIV/0!"}},{"$f":"N959","v":{"$error":"#DIV/0!"}}]
[null,{"$error":"#DIV/0!"},{"$error":"#DIV/0!"},{"$f":"IF( (B962-C953)=0, 1000000000000, IF(ABS(C962-C954)<0.00000001, 0,   (C962-C954) / (B962-C953)))","v":{"$error":"#DIV/0!"}},{"$error":"#DIV/0!"},null,{"$error":"#DIV/0!"},{"$f":"2*(D962*E962 - D962*E954 - E953)","v":{"$error":"#DIV/0!"}},{"$f":"E954^2 - E955^2 + E953^2 - 2*E962*E954 + E962^2","v":{"$error":"#DIV/0!"}},{"$error":"#DIV/0!"},{"$error":"#DIV/0!"},null,{"$error":"#DIV/0!"},{"$error":"#DIV/0!"},null,{"$error":"#DIV/0!"},null,null,null,{"$f":"C953","v":0},{"$f":"C954","v":{"$error":"#DIV/0!"}}]
[null,{"$error":"#DIV/0!"},{"$error":"#DIV/0!"},{"$f":"IF( (B963-C953)=0, 1000000000000, IF(ABS(C963-C954)<0.00000001, 0,   (C963-C954) / (B963-C953)))","v":{"$error":"#DIV/0!"}},{"$error":"#DIV/0!"},null,{"$error":"#DIV/0!"},{"$f":"2*(D963*E963 - D963*E954 - E953)","v":{"$error":"#DIV/0!"}},{"$f":"E954^2 - E955^2 + E953^2 - 2*E963*E954 + E963^2","v":{"$error":"#DIV/0!"}},{"$error":"#DIV/0!"},{"$error":"#DIV/0!"},null,{"$error":"#DIV/0!"},{"$error":"#DIV/0!"},null,{"$error":"#DIV/0!"},null,null,null,{"$f":"B960","v":{"$error":"#DIV/0!"}},{"$f":"C960","v":{"$error":"#DIV/0!"}}]
[null,{"$error":"#DIV/0!"},{"$error":"#DIV/0!"},{"$f":"IF( (B964-C953)=0, 1000000000000, IF(ABS(C964-C954)<0.00000001, 0,   (C964-C954) / (B964-C953)))","v":{"$error":"#DIV/0!"}},{"$error":"#DIV/0!"},null,{"$error":"#DIV/0!"},{"$f":"2*(D964*E964 - D964*E954 - E953)","v":{"$error":"#DIV/0!"}},{"$f":"E954^2 - E955^2 + E953^2 - 2*E964*E954 + E964^2","v":{"$error":"#DIV/0!"}},{"$error":"#DIV/0!"},{"$error":"#DIV/0!"},null,{"$error":"#DIV/0!"},{"$error":"#DIV/0!"},null,{"$error":"#DIV/0!"},null,null,null,{"$f":"M960","v":{"$error":"#DIV/0!"}},{"$f":"N960","v":{"$error":"#DIV/0!"}}]
[null,{"$error":"#DIV/0!"},{"$error":"#DIV/0!"},{"$f":"IF( (B965-C953)=0, 1000000000000, IF(ABS(C965-C954)<0.00000001, 0,   (C965-C954) / (B965-C953)))","v":{"$error":"#DIV/0!"}},{"$error":"#DIV/0!"},null,{"$error":"#DIV/0!"},{"$f":"2*(D965*E965 - D965*E954 - E953)","v":{"$error":"#DIV/0!"}},{"$f":"E954^2 - E955^2 + E953^2 - 2*E965*E954 + E965^2","v":{"$error":"#DIV/0!"}},{"$error":"#DIV/0!"},{"$error":"#DIV/0!"},null,{"$error":"#DIV/0!"},{"$error":"#DIV/0!"},null,{"$error":"#DIV/0!"},null,null,null,{"$f":"C953","v":0},{"$f":"C954","v":{"$error":"#DIV/0!"}}]
[null,{"$error":"#DIV/0!"},{"$error":"#DIV/0!"},{"$f":"IF( (B966-C953)=0, 1000000000000, IF(ABS(C966-C954)<0.00000001, 0,   (C966-C954) / (B966-C953)))","v":{"$error":"#DIV/0!"}},{"$error":"#DIV/0!"},null,{"$error":"#DIV/0!"},{"$f":"2*(D966*E966 - D966*E954 - E953)","v":{"$error":"#DIV/0!"}},{"$f":"E954^2 - E955^2 + E953^2 - 2*E966*E954 + E966^2","v":{"$error":"#DIV/0!"}},{"$error":"#DIV/0!"},{"$error":"#DIV/0!"},null,{"$error":"#DIV/0!"},{"$error":"#DIV/0!"},null,{"$error":"#DIV/0!"},null,null,null,{"$f":"B961","v":{"$error":"#DIV/0!"}},{"$f":"C961","v":{"$error":"#DIV/0!"}}]
[null,{"$error":"#DIV/0!"},{"$error":"#DIV/0!"},{"$f":"IF( (B967-C953)=0, 1000000000000, IF(ABS(C967-C954)<0.00000001, 0,   (C967-C954) / (B967-C953)))","v":{"$error":"#DIV/0!"}},{"$error":"#DIV/0!"},null,{"$error":"#DIV/0!"},{"$f":"2*(D967*E967 - D967*E954 - E953)","v":{"$error":"#DIV/0!"}},{"$f":"E954^2 - E955^2 + E953^2 - 2*E967*E954 + E967^2","v":{"$error":"#DIV/0!"}},{"$error":"#DIV/0!"},{"$error":"#DIV/0!"},null,{"$error":"#DIV/0!"},{"$error":"#DIV/0!"},null,{"$error":"#DIV/0!"},null,null,null,{"$f":"M961","v":{"$error":"#DIV/0!"}},{"$f":"N961","v":{"$error":"#DIV/0!"}}]
[null,{"$error":"#DIV/0!"},{"$error":"#DIV/0!"},{"$f":"IF( (B968-C953)=0, 1000000000000, IF(ABS(C968-C954)<0.00000001, 0,   (C968-C954) / (B968-C953)))","v":{"$error":"#DIV/0!"}},{"$error":"#DIV/0!"},null,{"$error":"#DIV/0!"},{"$f":"2*(D968*E968 - D968*E954 - E953)","v":{"$error":"#DIV/0!"}},{"$f":"E954^2 - E955^2 + E953^2 - 2*E968*E954 + E968^2","v":{"$error":"#DIV/0!"}},{"$error":"#DIV/0!"},{"$error":"#DIV/0!"},null,{"$error":"#DIV/0!"},{"$error":"#DIV/0!"},null,{"$error":"#DIV/0!"},null,null,null,{"$f":"C953","v":0},{"$f":"C954","v":{"$error":"#DIV/0!"}}]
[null,{"$error":"#DIV/0!"},{"$error":"#DIV/0!"},{"$f":"IF( (B969-C953)=0, 1000000000000, IF(ABS(C969-C954)<0.00000001, 0,   (C969-C954) / (B969-C953)))","v":{"$error":"#DIV/0!"}},{"$error":"#DIV/0!"},null,{"$error":"#DIV/0!"},{"$f":"2*(D969*E969 - D969*E954 - E953)","v":{"$error":"#DIV/0!"}},{"$f":"E954^2 - E955^2 + E953^2 - 2*E969*E954 + E969^2","v":{"$error":"#DIV/0!"}},{"$error":"#DIV/0!"},{"$error":"#DIV/0!"},null,{"$error":"#DIV/0!"},{"$error":"#DIV/0!"},null,{"$error":"#DIV/0!"},null,null,null,{"$f":"B962","v":{"$error":"#DIV/0!"}},{"$f":"C962","v":{"$error":"#DIV/0!"}}]
[null,{"$error":"#DIV/0!"},{"$error":"#DIV/0!"},{"$f":"IF( (B970-C953)=0, 1000000000000, IF(ABS(C970-C954)<0.00000001, 0,   (C970-C954) / (B970-C953)))","v":{"$error":"#DIV/0!"}},{"$error":"#DIV/0!"},null,{"$error":"#DIV/0!"},{"$f":"2*(D970*E970 - D970*E954 - E953)","v":{"$error":"#DIV/0!"}},{"$f":"E954^2 - E955^2 + E953^2 - 2*E970*E954 + E970^2","v":{"$error":"#DIV/0!"}},{"$error":"#DIV/0!"},{"$error":"#DIV/0!"},null,{"$error":"#DIV/0!"},{"$error":"#DIV/0!"},null,{"$error":"#DIV/0!"},null,null,null,{"$f":"M962","v":{"$error":"#DIV/0!"}},{"$f":"N962","v":{"$error":"#DIV/0!"}}]
[null,0,{"$error":"#DIV/0!"},null,null,null,null,null,null,null,null,null,0,{"$f":"F713","v":{"$error":"#DIV/0!"}},null,{"$f":"IF(ISNUMBER(M971), SQRT((B971-M971)^2 + (C971-N971)^2), \"\")","v":{"$error":"#DIV/0!"}},null,null,null,{"$f":"C953","v":0},{"$f":"C954","v":{"$error":"#DIV/0!"}}]
[null,null,null,null,null,null,null,null,null,null,null,null,null,null,null,null,null,null,null,{"$f":"B963","v":{"$error":"#DIV/0!"}},{"$f":"C963","v":{"$error":"#DIV/0!"}}]
[null,null,null,null,null,null,null,null,null,null,null,null,null,null,"Max =",{"$f":"MAX(P959:P971)","v":{"$error":"#DIV/0!"}},null,null,null,{"$f":"M963","v":{"$error":"#DIV/0!"}},{"$f":"N963","v":{"$error":"#DIV/0!"}}]
[null,null,null,null,null,null,null,null,null,null,null,null,null,null,"Min =",{"$f":"MIN(P959:P971)","v":{"$error":"#DIV/0!"}},null,null,null,{"$f":"C953","v":0},{"$f":"C954","v":{"$error":"#DIV/0!"}}]
[null,null,null,null,null,null,null,null,null,null,null,null,null,null,null,null,null,null,null,{"$f":"B964","v":{"$error":"#DIV/0!"}},{"$f":"C964","v":{"$error":"#DIV/0!"}}]
[null,null,null,null,null,null,null,null,null,null,null,null,null,null,null,null,null,null,null,{"$f":"M964","v":{"$error":"#DIV/0!"}},{"$f":"N964","v":{"$error":"#DIV/0!"}}]
[null,null,null,null,null,null,null,null,null,null,null,null,null,null,null,null,null,null,null,{"$f":"C953","v":0},{"$f":"C954","v":{"$error":"#DIV/0!"}}]
[null,null,null,null,null,null,null,null,null,null,null,null,null,null,null,null,null,null,null,{"$f":"B965","v":{"$error":"#DIV/0!"}},{"$f":"C965","v":{"$error":"#DIV/0!"}}]
[null,null,null,null,null,null,null,null,null,null,null,null,null,null,null,null,null,null,null,{"$f":"M965","v":{"$error":"#DIV/0!"}},{"$f":"N965","v":{"$error":"#DIV/0!"}}]
[null,null,null,null,null,null,null,null,null,null,null,null,null,null,null,null,null,null,null,{"$f":"C953","v":0},{"$f":"C954","v":{"$error":"#DIV/0!"}}]
[null,null,null,null,null,null,null,null,null,null,null,null,null,null,null,null,null,null,null,{"$f":"B966","v":{"$error":"#DIV/0!"}},{"$f":"C966","v":{"$error":"#DIV/0!"}}]
[null,null,null,null,null,null,null,null,null,null,null,null,null,null,null,null,null,null,null,{"$f":"M966","v":{"$error":"#DIV/0!"}},{"$f":"N966","v":{"$error":"#DIV/0!"}}]
[null,null,null,null,null,null,null,null,null,null,null,null,null,null,null,null,null,null,null,{"$f":"C953","v":0},{"$f":"C954","v":{"$error":"#DIV/0!"}}]
[null,null,null,null,null,null,null,null,null,null,null,null,null,null,null,null,null,null,null,{"$f":"B967","v":{"$error":"#DIV/0!"}},{"$f":"C967","v":{"$error":"#DIV/0!"}}]
[null,null,null,null,null,null,null,null,null,null,null,null,null,null,null,null,null,null,null,{"$f":"M967","v":{"$error":"#DIV/0!"}},{"$f":"N967","v":{"$error":"#DIV/0!"}}]
[null,null,null,null,null,null,null,null,null,null,null,null,null,null,null,null,null,null,null,{"$f":"C953","v":0},{"$f":"C954","v":{"$error":"#DIV/0!"}}]
[null,null,null,null,null,null,null,null,null,null,null,null,null,null,null,null,null,null,null,{"$f":"B968","v":{"$error":"#DIV/0!"}},{"$f":"C968","v":{"$error":"#DIV/0!"}}]
[null,null,null,null,null,null,null,null,null,null,null,null,null,null,null,null,null,null,null,{"$f":"M968","v":{"$error":"#DIV/0!"}},{"$f":"N968","v":{"$error":"#DIV/0!"}}]
[null,null,null,null,null,null,null,null,null,null,null,null,null,null,null,null,null,null,null,{"$f":"C953","v":0},{"$f":"C954","v":{"$error":"#DIV/0!"}}]
[null,null,null,null,null,null,null,null,null,null,null,null,null,null,null,null,null,null,null,{"$f":"B969","v":{"$error":"#DIV/0!"}},{"$f":"C969","v":{"$error":"#DIV/0!"}}]
[null,null,null,null,null,null,null,null,null,null,null,null,null,null,null,null,null,null,null,{"$f":"M969","v":{"$error":"#DIV/0!"}},{"$f":"N969","v":{"$error":"#DIV/0!"}}]
[null,null,null,null,null,null,null,null,null,null,null,null,null,null,null,null,null,null,null,{"$f":"C953","v":0},{"$f":"C954","v":{"$error":"#DIV/0!"}}]
[null,null,null,null,null,null,null,null,null,null,null,null,null,null,null,null,null,null,null,{"$f":"B970","v":{"$error":"#DIV/0!"}},{"$f":"C970","v":{"$error":"#DIV/0!"}}]
[null,null,null,null,null,null,null,null,null,null,null,null,null,null,null,null,null,null,null,{"$f":"M970","v":{"$error":"#DIV/0!"}},{"$f":"N970","v":{"$error":"#DIV/0!"}}]
[null,null,null,null,null,null,null,null,null,null,null,null,null,null,null,null,null,null,null,{"$f":"C953","v":0},{"$f":"C954","v":{"$error":"#DIV/0!"}}]
[null,null,null,null,null,null,null,null,null,null,null,null,null,null,null,null,null,null,null,{"$f":"B971","v":0},{"$f":"C971","v":{"$error":"#DIV/0!"}}]
[null,null,null,null,null,null,null,null,null,null,null,null,null,null,null,null,null,null,null,{"$f":"M971","v":0},{"$f":"N971","v":{"$error":"#DIV/0!"}}]

{"sheet":"Lookup","index":4,"n_rows":12,"n_cols":9,"rows_kept":12,"cut":false,"hidden":false,"merged":[]}
[]
[]
[]
[null,null,null,null,null,null,"Cutter width",0.38,"in"]
[]
[null,null,"Inside","Outside","Centerline"]
[null,"Knife","dia of cut","dia of cut","dia of cut"]
[null,"#1   -  9\"",4.625,{"$f":"C8+$H$4","v":5.0049999999999999},{"$f":"C8+$H$4/2","v":4.8150000000000004}]
[null,"#2  -  11.5\"",5.875,{"$f":"C9+$H$4","v":6.2549999999999999},{"$f":"C9+$H$4/2","v":6.0650000000000004}]
[null,"#3  -  13.5\"",7,7.38,7.19]
[null,"#4  -  16.25\"",8.125,8.5050000000000008,8.3149999999999995]
[null,"None",0,0,0]

{"sheet":"Rev History","index":5,"n_rows":9,"n_cols":11,"rows_kept":9,"cut":false,"hidden":false,"merged":[]}
[]
["Revision History"]
[null,"Ver.",0.9,"2021-01-03",null,"Stephen J. Clark","MN Woodturners",null,null,"Initial posting on MN Woodturners Blog"]
[null,null,0.95,"2021-02-27",null,null,null,null,null,"Modified formula in M235 from        IF(D235>0, J235, K235)      to     IF(D235>=0, J235, K235). Copied change to other related cells."]
[null,null,0.96,"2021-10-12",null,null,null,null,null,"Modified formula in D235 from     IF((B235-C229)=0, 1000000000000, (C235-C230) / (B235-C229))     to"]
[null,null,null,null,null,null,null,null,null,null,"IF( (B235-C229)=0, 1000000000000, IF(ABS(C235-C230)<0.00000001, 0,   (C235-C230) / (B235-C229)))"]
[null,null,null,null,null,null,null,null,null,null,"This change ensures that m never becomes slightly negative due to numerical issues. If m is negative,"]
[null,null,null,null,null,null,null,null,null,null,"the wrong root is selected for the quad eqn and the distance calculated is incorrect."]
[null,null,null,null,null,null,null,null,null,null,"Added graph to control the aspect ratio of the Planning Tool image"]